BEGIN:VCALENDAR
VERSION:2.0
PRODID:-//Welcome To Hyde Park - ECPv6.15.20//NONSGML v1.0//EN
CALSCALE:GREGORIAN
METHOD:PUBLISH
X-ORIGINAL-URL:https://welcometohydepark.com
X-WR-CALDESC:Events for Welcome To Hyde Park
REFRESH-INTERVAL;VALUE=DURATION:PT1H
X-Robots-Tag:noindex
X-PUBLISHED-TTL:PT1H
BEGIN:VTIMEZONE
TZID:America/Chicago
BEGIN:DAYLIGHT
TZOFFSETFROM:-0600
TZOFFSETTO:-0500
TZNAME:CDT
DTSTART:20240310T080000
END:DAYLIGHT
BEGIN:STANDARD
TZOFFSETFROM:-0500
TZOFFSETTO:-0600
TZNAME:CST
DTSTART:20241103T070000
END:STANDARD
BEGIN:DAYLIGHT
TZOFFSETFROM:-0600
TZOFFSETTO:-0500
TZNAME:CDT
DTSTART:20250309T080000
END:DAYLIGHT
BEGIN:STANDARD
TZOFFSETFROM:-0500
TZOFFSETTO:-0600
TZNAME:CST
DTSTART:20251102T070000
END:STANDARD
BEGIN:DAYLIGHT
TZOFFSETFROM:-0600
TZOFFSETTO:-0500
TZNAME:CDT
DTSTART:20260308T080000
END:DAYLIGHT
BEGIN:STANDARD
TZOFFSETFROM:-0500
TZOFFSETTO:-0600
TZNAME:CST
DTSTART:20261101T070000
END:STANDARD
END:VTIMEZONE
BEGIN:VEVENT
DTSTART;TZID=America/Chicago:20250807T130000
DTEND;TZID=America/Chicago:20250807T170000
DTSTAMP:20260423T213250
CREATED:20250320T152917Z
LAST-MODIFIED:20250320T152917Z
UID:10005930-1754571600-1754586000@welcometohydepark.com
SUMMARY:the undercommons : New Work by Brandon Carlton
DESCRIPTION:Arts + Public Life presents the undercommons\, the first solo exhibition by painter Brandon Carlton. The exhibition explores the complexities of contemporary Black life through Carlton’s distinct approach to stylized figuration. Drawing influence from Alex Katz\, David Hockney\, and Jordan Casteel\, his work engages with portraiture and spatial composition to evoke intimacy\, distance\, presence\, and longing. \nCarlton’s paintings consider the undercommons as a site of fugitive sociality—an ungovernable space where collective life unfolds beyond dominant structures. His figures occupy liminal environments\, neither fully contained nor entirely free\, reflecting a continuous negotiation of belonging\, agency\, and historical memory. Inspired by Casteel’s attention to everyday Black life and the layered surfaces of Katz and Hockney\, Carlton’s work reimagines the aesthetics of presence\, using gesture\, color\, and space to suggest ways of seeing and being that resist fixed narratives.
URL:https://welcometohydepark.com/event/the-undercommons-new-work-by-brandon-carlton/2025-08-07/
LOCATION:UChicago Arts Incubator\, 301 E. Garfield Boulevard\, Chicago\, IL\, 60637\, United States
ATTACH;FMTTYPE=image/png:https://welcometohydepark.com/wp-content/uploads/2025/03/BrandonCarltonNewCityAdIGSIZE1-2.png
ORGANIZER;CN="UChicago Arts + Public Life":MAILTO:artsandpubliclife@uchicago.edu
END:VEVENT
BEGIN:VEVENT
DTSTART;TZID=America/Chicago:20250807T170000
DTEND;TZID=America/Chicago:20250807T200000
DTSTAMP:20260423T213250
CREATED:20250801T153633Z
LAST-MODIFIED:20250801T153633Z
UID:10006768-1754586000-1754596800@welcometohydepark.com
SUMMARY:L1 Retail Store Sip & Shop
DESCRIPTION:L1 Retail Store Sip & Shop \nJoin us for Sip + Shop\, a series of gatherings at the L1 Retail Store that showcase local creative entrepreneurs with a curated shopping experience\, drinks and bites\, and good vibes. \nEach month\, our Entrepreneur-in-Residence\, Peter Gaona of Reformed School\, invites guest entrepreneurs to share their wares and connect with you. It’s an easy and joyful way to #SupportSouthSideArtists—come sip\, shop\, and show love to local makers!! \nAugust guest entrepreneurs are IceBoxx and Moonstone Chandlery. \n\nAbout the Guest Entrepreneurs:\nIceBoxx is a Chicago-based dessert company blending bold flavors with a deep love for community. We specialize in small-batch cookies\, creamy homemade ice cream\, refreshing lemonades\, and nostalgic freeze pops—all made with real ingredients and no shortcuts. Every treat is crafted to bring back joyful memories and create new ones. Whether we’re shipping cookies nationwide or popping up at local markets\, IceBoxx is here to spread love\, flavor\, and connection—one sweet bite at a time. \n\nMoonstone Chandlery a holistic wellness company that provides energy healing services including reiki and crystal healing.
URL:https://welcometohydepark.com/event/l1-retail-store-sip-shop/
LOCATION:L1 Retail Store\, 319 E. Garfield Blvd\, Chicago\, 60637
CATEGORIES:Business,Community,Shopping
ATTACH;FMTTYPE=image/png:https://welcometohydepark.com/wp-content/uploads/2025/08/Screenshot-2025-08-01-at-10.30.17-AM.png
ORGANIZER;CN="UChicago Arts + Public Life":MAILTO:artsandpubliclife@uchicago.edu
END:VEVENT
BEGIN:VEVENT
DTSTART;TZID=America/Chicago:20250807T180000
DTEND;TZID=America/Chicago:20250807T200000
DTSTAMP:20260423T213250
CREATED:20250702T154344Z
LAST-MODIFIED:20250702T163650Z
UID:10006653-1754589600-1754596800@welcometohydepark.com
SUMMARY:DuSummer Thursdays Outdoor Music Series
DESCRIPTION:DuSummer Thursdays Outdoor Music Series \nJoin us for a summer of unforgettable sounds at the DuSummer Thursdays Outdoor Music Series at the DuSable Museum! From jazz to soul and everything in between\, enjoy an exciting lineup of Chicago’s finest talent—live and outdoors on the Roundhouse Plaza.  \nDoors open at 5:00 PM\nShow starts at 6:00 PM\nFree Admission  Register Here  \nPerformance Lineup:  \n\nJune 26 – Josiah Maddox\, Ox Jam\, and Vince Adams \nJuly 10 – Thaddeus Tukes \nJuly 24 – Hector Silveira \nAugust 7 – Joyce Hurley with Park and Ride \nAugust 21 – Simone Green \nSeptember 7 – Marqueal Jordan \nSeptember 18 – The J Grant Experience \n\nLet the music move you this summer at DuSable! 
URL:https://welcometohydepark.com/event/dusummer-thursdays-outdoor-music-series/2025-08-07/
LOCATION:The DuSable Black History Museum and Education Center\, 740 E. 56th Place\, Chicago\, IL\, 60637\, United States
CATEGORIES:Community,Concert/Live Music/DJ/Karoke,Free
ATTACH;FMTTYPE=image/jpeg:https://welcometohydepark.com/wp-content/uploads/2025/07/DuSummer-2025-1080X1080-SOCIAL-1.jpeg
END:VEVENT
BEGIN:VEVENT
DTSTART;TZID=America/Chicago:20250807T180000
DTEND;TZID=America/Chicago:20250807T210000
DTSTAMP:20260423T213250
CREATED:20250513T201144Z
LAST-MODIFIED:20250513T201327Z
UID:10006034-1754589600-1754600400@welcometohydepark.com
SUMMARY:Harper Court Summer Music Series - Meagan McNeal
DESCRIPTION:Harper Court Summer Music Series – Meagan McNeal \nFREE OUTDOOR CONCERTS SPONSORED BY THE UNIVERSITY OF CHICAGO IN PARTNERSHIP WITH THE SILVER ROOM\nThursday\, August 7MEAGAN MCNEAL from 7-8 p.m.DJ LADY D from 6-7 and 8-9 p.m.\nHarper Court\, 5235 S. Harper Court\, Hyde Park (53rd Street and S. Lake Park Avenue).www.harpercourtmusic.com.\n\nParkingPaid parking is available in the Harper Court garage (entrance on S. Lake Park Avenue just south of McDonald’s) or in the surface lot on S. Harper Avenue. Paid street parking is also available. We encourage you to take public transportation or carpool.\n\nSeatingSeating is not provided – please bring folding chairs\, but remember to leave lots of room from dancing!\n\nDiningEnjoy Bob’s Pizza\, Chipotle\, Daisy’s Po’ Boy & Tavern\, Deep Purpl\, Ja’ Grill\, Roti Modern Mediterranean\, Stan’s Donuts & Coffee\, and Strugglebeard Bakery – all in Harper Court. Or sample one of the many great eateries on 53rd Street. For a complete list of restaurants go to welcometohydepark.com.\n\nShop LocalSupport our neighborhood businesses by shopping local. Recycled Modern and Suuri Design are in Harper Court\, and The Silver Room and other shops are right around the corner. For a complete list of stores go to welcometohydepark.com.
URL:https://welcometohydepark.com/event/harper-court-summer-music-series-meagan-mcneal/
LOCATION:5235 S. Harper Court\, 5235 S Harper Ct\, Chicago\, IL\, 60615\, United States
CATEGORIES:Community,Concert/Live Music/DJ/Karoke,Family Fun,Free
ATTACH;FMTTYPE=image/png:https://welcometohydepark.com/wp-content/uploads/2025/05/2025-Summer-Mustic-Series-1350x1080_08-07.png
GEO:41.7999355;-87.5880225
X-APPLE-STRUCTURED-LOCATION;VALUE=URI;X-ADDRESS=5235 S. Harper Court 5235 S Harper Ct Chicago IL 60615 United States;X-APPLE-RADIUS=500;X-TITLE=5235 S Harper Ct:geo:-87.5880225,41.7999355
END:VEVENT
END:VCALENDAR