BEGIN:VCALENDAR
VERSION:2.0
PRODID:-//Welcome To Hyde Park - ECPv6.15.20//NONSGML v1.0//EN
CALSCALE:GREGORIAN
METHOD:PUBLISH
X-ORIGINAL-URL:https://welcometohydepark.com
X-WR-CALDESC:Events for Welcome To Hyde Park
REFRESH-INTERVAL;VALUE=DURATION:PT1H
X-Robots-Tag:noindex
X-PUBLISHED-TTL:PT1H
BEGIN:VTIMEZONE
TZID:America/Chicago
BEGIN:DAYLIGHT
TZOFFSETFROM:-0600
TZOFFSETTO:-0500
TZNAME:CDT
DTSTART:20240310T080000
END:DAYLIGHT
BEGIN:STANDARD
TZOFFSETFROM:-0500
TZOFFSETTO:-0600
TZNAME:CST
DTSTART:20241103T070000
END:STANDARD
BEGIN:DAYLIGHT
TZOFFSETFROM:-0600
TZOFFSETTO:-0500
TZNAME:CDT
DTSTART:20250309T080000
END:DAYLIGHT
BEGIN:STANDARD
TZOFFSETFROM:-0500
TZOFFSETTO:-0600
TZNAME:CST
DTSTART:20251102T070000
END:STANDARD
BEGIN:DAYLIGHT
TZOFFSETFROM:-0600
TZOFFSETTO:-0500
TZNAME:CDT
DTSTART:20260308T080000
END:DAYLIGHT
BEGIN:STANDARD
TZOFFSETFROM:-0500
TZOFFSETTO:-0600
TZNAME:CST
DTSTART:20261101T070000
END:STANDARD
END:VTIMEZONE
BEGIN:VEVENT
DTSTART;TZID=America/Chicago:20250901T100000
DTEND;TZID=America/Chicago:20250901T213000
DTSTAMP:20260420T190238
CREATED:20250820T150846Z
LAST-MODIFIED:20250820T150846Z
UID:10006903-1756720800-1756762200@welcometohydepark.com
SUMMARY:35th Annual African Festival of the Arts
DESCRIPTION:35th Annual African Festival of the Arts \n\n\n\nWèrèwèrèya: The Return\nCelebrating 35 Years of Transformation\, Culture & Legacy\n\n\n\n\n\n\nJoin us Labor Day Weekend for the 2025 African Festival of the Arts – a powerful homecoming of rhythm\, art\, spirit\, and community. \n🗓️ August 30 – September 1\, 2025 \nSaturday\, Sunday & Monday \n10 AM – 9:30 PM EVERY DAY\n📍Sunken Garden\, DuSable Museum – Chicago \n\nClick HERE to buy tickets.
URL:https://welcometohydepark.com/event/35th-annual-african-festival-of-the-arts/2025-09-01/
LOCATION:Washington Park\, 5531 S. King Drive\, Chicago\, IL\, 60615\, United States
CATEGORIES:Community,Festival
ATTACH;FMTTYPE=image/png:https://welcometohydepark.com/wp-content/uploads/2025/08/Screenshot-2025-08-20-at-10.02.03-AM.png
END:VEVENT
END:VCALENDAR