BEGIN:VCALENDAR
VERSION:2.0
PRODID:-//Welcome To Hyde Park - ECPv6.15.20//NONSGML v1.0//EN
CALSCALE:GREGORIAN
METHOD:PUBLISH
X-ORIGINAL-URL:https://welcometohydepark.com
X-WR-CALDESC:Events for Welcome To Hyde Park
REFRESH-INTERVAL;VALUE=DURATION:PT1H
X-Robots-Tag:noindex
X-PUBLISHED-TTL:PT1H
BEGIN:VTIMEZONE
TZID:America/Chicago
BEGIN:DAYLIGHT
TZOFFSETFROM:-0600
TZOFFSETTO:-0500
TZNAME:CDT
DTSTART:20240310T080000
END:DAYLIGHT
BEGIN:STANDARD
TZOFFSETFROM:-0500
TZOFFSETTO:-0600
TZNAME:CST
DTSTART:20241103T070000
END:STANDARD
BEGIN:DAYLIGHT
TZOFFSETFROM:-0600
TZOFFSETTO:-0500
TZNAME:CDT
DTSTART:20250309T080000
END:DAYLIGHT
BEGIN:STANDARD
TZOFFSETFROM:-0500
TZOFFSETTO:-0600
TZNAME:CST
DTSTART:20251102T070000
END:STANDARD
BEGIN:DAYLIGHT
TZOFFSETFROM:-0600
TZOFFSETTO:-0500
TZNAME:CDT
DTSTART:20260308T080000
END:DAYLIGHT
BEGIN:STANDARD
TZOFFSETFROM:-0500
TZOFFSETTO:-0600
TZNAME:CST
DTSTART:20261101T070000
END:STANDARD
END:VTIMEZONE
BEGIN:VEVENT
DTSTART;VALUE=DATE:20250908
DTEND;VALUE=DATE:20250909
DTSTAMP:20260422T212952
CREATED:20250908T193019Z
LAST-MODIFIED:20250908T201919Z
UID:10006938-1757289600-1757375999@welcometohydepark.com
SUMMARY:Chicago Bears Game Day Specials at Mesler
DESCRIPTION:Chicago Bears Game Day Specials at Mesler  \nMesler Kitchen | Bar | Lounge is the place to be every Chicago Bears game day through September. \n\nPre- and post-game Sanctuary Hours\nWeekly Wing Specials\nComplimentary “Bear Down” Cocktail (while supplies last)\nWatch the game on our 85″ television\n\nView the complete Chicago Bears schedule HERE.
URL:https://welcometohydepark.com/event/chicago-bears-game-day-specials-at-mesler/2025-09-08/
LOCATION:Mesler Kitchen | Bar | Lounge\, 1411 E. 53rd Street\, Chicago\, IL\, 60615\, United States
CATEGORIES:Beer/Cocktails/Wine,Sports
ATTACH;FMTTYPE=image/png:https://welcometohydepark.com/wp-content/uploads/2025/09/Bears-Sophy-Hotel.png
END:VEVENT
BEGIN:VEVENT
DTSTART;TZID=America/Chicago:20250908T181500
DTEND;TZID=America/Chicago:20250908T190000
DTSTAMP:20260422T212952
CREATED:20250821T225404Z
LAST-MODIFIED:20250821T225404Z
UID:10006922-1757355300-1757358000@welcometohydepark.com
SUMMARY:Tour the Arts Block
DESCRIPTION:You’re invited to take a walking tour of all four venues managed by Arts + Public Life: Arts Incubator\, Green Line Performing Arts Center\, L1 Retail Store\, and the Arts Lawn. We will discuss the rich cultural history and current context of the Arts Block as it relates to the Washington Park neighborhood and offer details about the purpose and function of the venues along the historic block of East Garfield Boulevard. You’ll also have the opportunity to learn more about the APL programs and community engagement initiatives. \nWe are excited to add a stop at the forthcoming Chicago Torture Justice Memorial. Towards the end of the Arts Block tour\, at the corner of 55th Place and King Drive\, a member of the Chicago Torture Justice Memorial Foundation will lead a brief tour segment. You will learn about the forthcoming public memorial mandated by the historic 2015 reparations legislation for survivors of police torture\, and how it is designed as a hub for community organizing\, job training and employment\, arts and culture programming\, and field trips for CPS students learning the Reparations Won! curriculum. \nThe tour will begin at the Green Line Performing Arts Center\, 329 E. Garfield Blvd\, and is 45 minutes. \nThis tour is before our September First Monday Jazz performance featuring Tom Tom’s Big Band. We invite you to register and join us for this performance!
URL:https://welcometohydepark.com/event/tour-the-arts-block/
LOCATION:Arts + Public Life\, 301 East Garfield Blvd\, Chicago\, IL\, 60637\, United States
CATEGORIES:Art/Arts & Crafts,Community
ATTACH;FMTTYPE=image/png:https://welcometohydepark.com/wp-content/uploads/2025/08/2025tour1.png
ORGANIZER;CN="UChicago Arts + Public Life":MAILTO:artsandpubliclife@uchicago.edu
END:VEVENT
BEGIN:VEVENT
DTSTART;TZID=America/Chicago:20250908T190000
DTEND;TZID=America/Chicago:20250908T210000
DTSTAMP:20260422T212952
CREATED:20250821T230559Z
LAST-MODIFIED:20250821T230559Z
UID:10006924-1757358000-1757365200@welcometohydepark.com
SUMMARY:First Monday Jazz: Tom Tom's Big Band
DESCRIPTION:Launched in 2013\, First Monday Jazz is APL’s longest-running program\, featuring emerging and established Chicago musicians and vocalists on the first Monday of every month. \n\nThis year\, First Monday Jazz 2025: Big Band Summer takes us on a journey back to the golden age of big band jazz in Chicago. As the 1920s exploded with musical energy from the South mixed with a growing nightlife culture\, our city became an epicenter where the raw spirit of early jazz blossomed into the power of larger ensembles. Imagine the scene: bustling cabarets\, elegant ballrooms like the Savoy (on 47th and King Drive)\, and grand theaters such as the Regal hosting musical forces that would define an era. In this electric atmosphere\, bandleaders like the legendary Earl Hines helped shape the big band sound\, known for its tight arrangements\, bold horn sections\, and driving rhythm perfect for dancing. \n\nOur September artist is Tom Tom’s Big Band \nDriven by a passion for instrumental music\, Tom Tom’s Big Band unites some of Chicago’s finest musicians to keep this American art form alive—and to inspire the next generation by helping revive band programs in public schools. \nPianist\, arranger\, and producer\, Tom “Tom Tom” Washington was raised in the Ida B. Wells projects on Chicago’s South Side. He began his music career playing the drums and later transitioned to the keyboard. He received formal music training from influential professor and musical arranger James Mack at Crane Junior College\, and went on to arrange dozens of records for Chicago music legends\, including Earth\, Wind & Fire\, The Emotions\, Tyrone Davis\, Deniece Williams\, The Staple Singers\, Ramsey Lewis\, Leroy Hutson\, The Chi-Lites\, Otis Leavill\, Betty Everett\, Jerry Butler\, and Loleatta Holloway \n\nNotes: \n\n\nAttendees may start setting up their spots starting at 6:30pm. The program begins at 7pm. \n\n\nWe encourage bringing your blanket or a low-profile lawn chair to relax in the front seating on the grass. APL provides some seating\, but seats are limited and available on a first-come\, first-served basis. \n\n\nFor APL events on the Arts Lawn\, restrooms are available inside the Green Line Performing Arts Center. \n\n\nArts + Public Life’s outdoor programming on the Arts Lawn will proceed rain or shine unless there are hazardous conditions. Plan accordingly and check APL’s social media channels for real-time updates. Changes to programming related to weather conditions will be announced no earlier than one hour prior to programming. We appreciate your understanding and commitment to community safety.
URL:https://welcometohydepark.com/event/first-monday-jazz-tom-toms-big-band/
LOCATION:The Arts Lawn\, 335 E. Garfield Blvd\, Chicago\, 60637
CATEGORIES:Art/Arts & Crafts,Community,Concert/Live Music/DJ/Karoke,Family Fun,Free,Performance/Theatre/Cabaret
ATTACH;FMTTYPE=image/jpeg:https://welcometohydepark.com/wp-content/uploads/2025/08/TomTomBigBand.jpg
ORGANIZER;CN="UChicago Arts + Public Life":MAILTO:artsandpubliclife@uchicago.edu
END:VEVENT
END:VCALENDAR