BEGIN:VCALENDAR
VERSION:2.0
PRODID:-//Welcome To Hyde Park - ECPv6.15.20//NONSGML v1.0//EN
CALSCALE:GREGORIAN
METHOD:PUBLISH
X-WR-CALNAME:Welcome To Hyde Park
X-ORIGINAL-URL:https://welcometohydepark.com
X-WR-CALDESC:Events for Welcome To Hyde Park
REFRESH-INTERVAL;VALUE=DURATION:PT1H
X-Robots-Tag:noindex
X-PUBLISHED-TTL:PT1H
BEGIN:VTIMEZONE
TZID:America/Chicago
BEGIN:DAYLIGHT
TZOFFSETFROM:-0600
TZOFFSETTO:-0500
TZNAME:CDT
DTSTART:20240310T080000
END:DAYLIGHT
BEGIN:STANDARD
TZOFFSETFROM:-0500
TZOFFSETTO:-0600
TZNAME:CST
DTSTART:20241103T070000
END:STANDARD
BEGIN:DAYLIGHT
TZOFFSETFROM:-0600
TZOFFSETTO:-0500
TZNAME:CDT
DTSTART:20250309T080000
END:DAYLIGHT
BEGIN:STANDARD
TZOFFSETFROM:-0500
TZOFFSETTO:-0600
TZNAME:CST
DTSTART:20251102T070000
END:STANDARD
BEGIN:DAYLIGHT
TZOFFSETFROM:-0600
TZOFFSETTO:-0500
TZNAME:CDT
DTSTART:20260308T080000
END:DAYLIGHT
BEGIN:STANDARD
TZOFFSETFROM:-0500
TZOFFSETTO:-0600
TZNAME:CST
DTSTART:20261101T070000
END:STANDARD
END:VTIMEZONE
BEGIN:VEVENT
DTSTART;TZID=America/Chicago:20251003T103000
DTEND;TZID=America/Chicago:20251003T140000
DTSTAMP:20260423T072730
CREATED:20250919T175407Z
LAST-MODIFIED:20251022T170104Z
UID:10007004-1759487400-1759500000@welcometohydepark.com
SUMMARY:Nando's Weekday Lunchtime Specials
DESCRIPTION:Nando’s Weekday Lunchtime Specials \nThe Hyde Park Nando’s (1447 E. 53rd Street) is offering weekday lunchtime specials through Friday\, October 31: \n• Valid Monday-Friday until 2 p.m.\n• Valid for dine-in or take-out with the Nando’s app\n• Specials range from $9.99 to $13.99 with beverage \n \nClick HERE for more information.
URL:https://welcometohydepark.com/event/nandos-weekday-lunchtime-specials/2025-10-03/
LOCATION:Nando’s PERi-PERi\, 1447 E. 53rd Street\, Chicago\, 60615\, United States
CATEGORIES:Dining
ATTACH;FMTTYPE=image/png:https://welcometohydepark.com/wp-content/uploads/2025/09/1080x1350-6.png
END:VEVENT
BEGIN:VEVENT
DTSTART;TZID=America/Chicago:20251003T193000
DTEND;TZID=America/Chicago:20251003T213000
DTSTAMP:20260423T072730
CREATED:20250819T130000Z
LAST-MODIFIED:20250918T203540Z
UID:10006826-1759519800-1759527000@welcometohydepark.com
SUMMARY:Big White Fog
DESCRIPTION:Big White Fog \nTheodore Ward’s Big White Fog is the big shoulders on which A Raisin in the Sun stands. First completed in 1938\, funded by the Federal Theatre Project\, and influenced by the South Side Writers Group that cultivated such iconic talents as Richard Wright and Margaret Walker\, Big White Fog drove American realism forward by contending with discontent. \nThe United States is on the cusp of the Great Depression and\, like many\, the Mason family is struggling. Between the precarious economy and racial violence on Chicago’s segregated South Side\, something’s got to give. As different generations strive to secure the Mason family’s future\, catastrophic decisions are made\, leading to a heartbreaking twist and a blistering condemnation of America’s Big White Fog. \nCourt Theatre Resident Artist and the nation’s preeminent director of August Wilson\, Ron OJ Parson\, opens the 2025/26 season with this rich portrayal of Black life on Chicago’s South Side. \nAccessible Performances: \n\nTouch Tour: Saturday\, October 4 at 12:30pm\nAudio Description and ASL Interpretation: Saturday\, October 4 at 2:00pm\nOpen Captioning: Sunday\, October 5 at at 2:00pm\n\nArtwork by Ed Watkins.
URL:https://welcometohydepark.com/event/big-white-fog/2025-10-03/
LOCATION:Court Theatre\, 5535 S. Ellis Avenue\, Chicago\, IL\, 60637\, United States
CATEGORIES:Performance/Theatre/Cabaret
ATTACH;FMTTYPE=image/jpeg:https://welcometohydepark.com/wp-content/uploads/2025/08/BIG-WHITE-FOG_Square.jpg
ORGANIZER;CN="Court Theatre":MAILTO:info@courttheatre.org
END:VEVENT
END:VCALENDAR