BEGIN:VCALENDAR
VERSION:2.0
PRODID:-//Welcome To Hyde Park - ECPv6.15.20//NONSGML v1.0//EN
CALSCALE:GREGORIAN
METHOD:PUBLISH
X-WR-CALNAME:Welcome To Hyde Park
X-ORIGINAL-URL:https://welcometohydepark.com
X-WR-CALDESC:Events for Welcome To Hyde Park
REFRESH-INTERVAL;VALUE=DURATION:PT1H
X-Robots-Tag:noindex
X-PUBLISHED-TTL:PT1H
BEGIN:VTIMEZONE
TZID:America/Chicago
BEGIN:DAYLIGHT
TZOFFSETFROM:-0600
TZOFFSETTO:-0500
TZNAME:CDT
DTSTART:20240310T080000
END:DAYLIGHT
BEGIN:STANDARD
TZOFFSETFROM:-0500
TZOFFSETTO:-0600
TZNAME:CST
DTSTART:20241103T070000
END:STANDARD
BEGIN:DAYLIGHT
TZOFFSETFROM:-0600
TZOFFSETTO:-0500
TZNAME:CDT
DTSTART:20250309T080000
END:DAYLIGHT
BEGIN:STANDARD
TZOFFSETFROM:-0500
TZOFFSETTO:-0600
TZNAME:CST
DTSTART:20251102T070000
END:STANDARD
BEGIN:DAYLIGHT
TZOFFSETFROM:-0600
TZOFFSETTO:-0500
TZNAME:CDT
DTSTART:20260308T080000
END:DAYLIGHT
BEGIN:STANDARD
TZOFFSETFROM:-0500
TZOFFSETTO:-0600
TZNAME:CST
DTSTART:20261101T070000
END:STANDARD
END:VTIMEZONE
BEGIN:VEVENT
DTSTART;TZID=America/Chicago:20251029T103000
DTEND;TZID=America/Chicago:20251029T140000
DTSTAMP:20260422T184358
CREATED:20250919T175407Z
LAST-MODIFIED:20251022T170104Z
UID:10007022-1761733800-1761746400@welcometohydepark.com
SUMMARY:Nando's Weekday Lunchtime Specials
DESCRIPTION:Nando’s Weekday Lunchtime Specials \nThe Hyde Park Nando’s (1447 E. 53rd Street) is offering weekday lunchtime specials through Friday\, October 31: \n• Valid Monday-Friday until 2 p.m.\n• Valid for dine-in or take-out with the Nando’s app\n• Specials range from $9.99 to $13.99 with beverage \n \nClick HERE for more information.
URL:https://welcometohydepark.com/event/nandos-weekday-lunchtime-specials/2025-10-29/
LOCATION:Nando’s PERi-PERi\, 1447 E. 53rd Street\, Chicago\, 60615\, United States
CATEGORIES:Dining
ATTACH;FMTTYPE=image/png:https://welcometohydepark.com/wp-content/uploads/2025/09/1080x1350-6.png
END:VEVENT
BEGIN:VEVENT
DTSTART;TZID=America/Chicago:20251029T110000
DTEND;TZID=America/Chicago:20251029T150000
DTSTAMP:20260422T184358
CREATED:20250204T161708Z
LAST-MODIFIED:20260218T205659Z
UID:10004433-1761735600-1761750000@welcometohydepark.com
SUMMARY:Committed Knitters
DESCRIPTION:Committed Knitters\nCommitted Knitters meets bi-weekly at the Arts Incubator Flex Space for a cozy\, creative gathering open to all skill levels. \nCommitted Knitters invites you to our bi-weekly gatherings at the Arts Incubator Flex Space. Whether you’re a longtime knitter or picking up needles for the very first time\, you’re welcome here. Come spend time in community\, exchange ideas\, and make steady progress on your projects in a relaxed\, creative setting. \nSupplies are provided—just bring yourself. \nDrop in anytime. \nRegistration is not required\, but encouraged to receive email updates and reminders about the other dates in this series.
URL:https://welcometohydepark.com/event/committed-knitters-2/2025-10-29/
LOCATION:UChicago Arts Incubator\, 301 E. Garfield Boulevard\, Chicago\, IL\, 60637\, United States
CATEGORIES:Art/Arts & Crafts,Community,Free
ATTACH;FMTTYPE=image/png:https://welcometohydepark.com/wp-content/uploads/2025/02/Screenshot-2026-02-18-at-2.51.06-PM.png
ORGANIZER;CN="UChicago Arts + Public Life":MAILTO:artsandpubliclife@uchicago.edu
END:VEVENT
BEGIN:VEVENT
DTSTART;TZID=America/Chicago:20251029T170000
DTEND;TZID=America/Chicago:20251029T180000
DTSTAMP:20260422T184358
CREATED:20251017T155439Z
LAST-MODIFIED:20251017T155439Z
UID:10007401-1761757200-1761760800@welcometohydepark.com
SUMMARY:TSR Workshops: Light Work A Community Guide to Solar Power & Resistance
DESCRIPTION:Join us at The Silver Room to learn about solar power and resistance in our Light Work: A Community Guide to Solar Power and Resilience \n\n\n\n\n\n\n\n\nSolar technology doesn’t have to be complicated or corporate! Together\, we’ll learn how to design and assemble a portable solar generator – an off-grid power system that can keep phones charged\, lights on\, and even fridges running for outdoor use or during emergency power outages. \nSession 1: Focuses on identifying all of the necessary components of an energy system and how they are assembled. \nSession 2: Expands upon the first session by focusing on performing the necessary calculations to design your own system from scratch \nBorn and raised on the Southside of Chicago\, Keyante is a solar energy system installer by trade. He got his start in the industry as a participant of the Chicago Urban League’s Solar Installation Program. As a Trades instructor\, Keyante’s goal is to provide participants with enough knowledge and skills to be competitive candidates in the industry. When not instructing\, Keyante runs a startup called Daze of Autonomy\, installing Microgrid energy systems for landowners. With rising energy costs\, ever present climate changes and increasing cyber attacks on critical infrastructure\, Keyante believes decentralized energy infrastructure provides security and resilience our communities.
URL:https://welcometohydepark.com/event/tsr-workshops-light-work-a-community-guide-to-solar-power-resistance/2025-10-29/
LOCATION:The Silver Room
CATEGORIES:Community,Educational/Class
ATTACH;FMTTYPE=image/jpeg:https://welcometohydepark.com/wp-content/uploads/2025/10/tsr-light-work.jpeg
END:VEVENT
END:VCALENDAR