BEGIN:VCALENDAR
VERSION:2.0
PRODID:-//Welcome To Hyde Park - ECPv6.15.20//NONSGML v1.0//EN
CALSCALE:GREGORIAN
METHOD:PUBLISH
X-WR-CALNAME:Welcome To Hyde Park
X-ORIGINAL-URL:https://welcometohydepark.com
X-WR-CALDESC:Events for Welcome To Hyde Park
REFRESH-INTERVAL;VALUE=DURATION:PT1H
X-Robots-Tag:noindex
X-PUBLISHED-TTL:PT1H
BEGIN:VTIMEZONE
TZID:America/Chicago
BEGIN:DAYLIGHT
TZOFFSETFROM:-0600
TZOFFSETTO:-0500
TZNAME:CDT
DTSTART:20240310T080000
END:DAYLIGHT
BEGIN:STANDARD
TZOFFSETFROM:-0500
TZOFFSETTO:-0600
TZNAME:CST
DTSTART:20241103T070000
END:STANDARD
BEGIN:DAYLIGHT
TZOFFSETFROM:-0600
TZOFFSETTO:-0500
TZNAME:CDT
DTSTART:20250309T080000
END:DAYLIGHT
BEGIN:STANDARD
TZOFFSETFROM:-0500
TZOFFSETTO:-0600
TZNAME:CST
DTSTART:20251102T070000
END:STANDARD
BEGIN:DAYLIGHT
TZOFFSETFROM:-0600
TZOFFSETTO:-0500
TZNAME:CDT
DTSTART:20260308T080000
END:DAYLIGHT
BEGIN:STANDARD
TZOFFSETFROM:-0500
TZOFFSETTO:-0600
TZNAME:CST
DTSTART:20261101T070000
END:STANDARD
END:VTIMEZONE
BEGIN:VEVENT
DTSTART;VALUE=DATE:20251213
DTEND;VALUE=DATE:20251214
DTSTAMP:20260425T151254
CREATED:20251024T202543Z
LAST-MODIFIED:20251024T202543Z
UID:10007422-1765584000-1765670399@welcometohydepark.com
SUMMARY:Game Day at Ja' Grill
DESCRIPTION:Game Day at Ja’ Grill \nThere’s a ton of NCAA football games this Saturday\, and Ja’ Grill in Harper Court is the place to be for all-day wing and beer specials. \nVisit Ja’ Grill at 1510 E. Harper Court in Hyde Park. \nCheck out the game schedule HERE.
URL:https://welcometohydepark.com/event/game-day-at-ja-grill/2025-12-13/
LOCATION:Ja’ Grill\, 1510 E. Harper Court\, Chicago\, IL\, 60615\, United States
ATTACH;FMTTYPE=image/png:https://welcometohydepark.com/wp-content/uploads/2025/10/Misc.-Events-1.png
END:VEVENT
BEGIN:VEVENT
DTSTART;TZID=America/Chicago:20251213T100000
DTEND;TZID=America/Chicago:20251213T130000
DTSTAMP:20260425T151254
CREATED:20230419T203009Z
LAST-MODIFIED:20250821T155713Z
UID:10004571-1765620000-1765630800@welcometohydepark.com
SUMMARY:The Hyde Park Kenwood Food Pantry
DESCRIPTION:The Hyde Park Kenwood Food Pantry\nThe food pantry\, located at Hyde Park Union Church\, provides nonperishable groceries and limited refrigerated and frozen foods to 500 to 800 people every month on Saturdays from 10 am to 1 pm. \nWe serve the area of 39th – 63rd St.\, Cottage Grove east to Lake Michigan\, and patrons can come twice a month. All will be served on their first visit\, regardless of residency. If you are looking for food outside of our service area or hours\, you can visit the website of the Greater Chicago Food depository to find additional services.\n​\nVolunteers order food\, unload deliveries\, pre-pack bags and distribute food. ​If you would like to volunteer\, please contact the Church Office or Margy Mitchell\, the Food Pantry coordinator. \nTime and Location \nEvery Saturday (including Christmas\, New Year’s Day\, and July 4th) from 10 am to 1 pm; \nHyde Park Union Church\n5600 S. Woodlawn — enter by the side door at 1169 E. 56th St.\nChicago\, IL 60637
URL:https://welcometohydepark.com/event/the-hyde-park-kenwood-food-pantry/2025-12-13/
LOCATION:Hyde Park Union Church\, 5600 S. Woodlawn Avenue\, Chicago\, IL\, 60637
CATEGORIES:Community,Free
ATTACH;FMTTYPE=image/jpeg:https://welcometohydepark.com/wp-content/uploads/2023/04/308626760_419646106947002_5990266145282253228_n.jpg
ORGANIZER;CN="Hyde Park Union Church":MAILTO:office@hpuc.org
END:VEVENT
BEGIN:VEVENT
DTSTART;TZID=America/Chicago:20251213T110000
DTEND;TZID=America/Chicago:20251213T160000
DTSTAMP:20260425T151254
CREATED:20250128T015310Z
LAST-MODIFIED:20250220T185025Z
UID:10005607-1765623600-1765641600@welcometohydepark.com
SUMMARY:Ja' Grill Sunday Brunch
DESCRIPTION:Ja’ Grill Sunday Brunch \nHyde Park’s Ja’ Grill\, located at 1510 E. Harper Court\, began a new Sunday brunch service on Sunday\, January 26. \nThe weekly Sunday brunch hours are 11 a.m. to 4 p.m. with all-you-can-eat options served family-style for $30 per person. Cocktail options include carafes of everyone’s favorite Ja’ Rum Punch\, a Ja’ Mimosa\, and Ja’ Bloody Mary. \nBrunch menu items will rotate periodically\, but diners can look forward to Jerk Chicken & Waffles\, Ackee & Saltfish\, Scrambled Eggs & Jerk Chicken Sausage\, and more. \nJa’ Grill owner Tony Coates celebrated the restaurant’s 10th anniversary in August 2024\, reflecting to the Hyde Park Herald\, “We were well received well beyond what I would imagine. We opened the doors and\, I say this without any hesitation\, the Hyde Park community really embraced us and that’s why we’re open today.” \nCoates commented\, “Our regular customers have asked about adding a brunch menu many times\, and we’re very excited to try out this new offering. Ja’ Grill is the perfect place to enjoy your Sunday morning and afternoon with our authentic Jamaican cuisine and extensive drink menu.” \nJa’ Grill is open Sunday through Thursday from 11 a.m. to 9 p.m. and Saturday from 11 a.m. to 10 p.m. There’s a Tropical Happy Hour Monday through Thursday from 4-6 p.m. During NFL season fans can enjoy an Extended Happy Hour from 4 p.m. until closing time on Sunday\, Monday\, and Thursday. Don’t miss Wine Down Wednesday with 1/2 price bottles of white\, red\, and sparkling wines. \nVisit the Ja’ Grill website and follow on Instagram for more information about specials and events.
URL:https://welcometohydepark.com/event/ja-grill-sunday-brunch/2025-12-13/
LOCATION:Ja’ Grill\, 1510 E. Harper Court\, Chicago\, IL\, 60615\, United States
CATEGORIES:Dining
ATTACH;FMTTYPE=image/jpeg:https://welcometohydepark.com/wp-content/uploads/2025/01/IMG_8035.jpeg
END:VEVENT
BEGIN:VEVENT
DTSTART;TZID=America/Chicago:20251213T120000
DTEND;TZID=America/Chicago:20251213T150000
DTSTAMP:20260425T151254
CREATED:20251113T145608Z
LAST-MODIFIED:20251113T153108Z
UID:10007494-1765627200-1765638000@welcometohydepark.com
SUMMARY:CASINO CHAOS : Immersive Art Exhibition
DESCRIPTION:CASINO CHAOS: Immersive Art Exhibition\nESCAPADE | Exhibitions presents Casino Chaos — a fully immersive art experience set inside the chaotic beauty of a vintage-inspired casino. \nINSTAGRAM: @ESCAPADE_EXHIBITIONS or @FINE_ART_BY_RAVEN \nSession 1: 12:00 PM – 3:00 PM \nSession 2: 6:00 PM – 9:00 PM \nImmerse yourself in a captivating experience of Art & Play at Casino Chaos by ESCAPADE | Exhibitions \nTicket Pricing: \n\nEarly Bird (GA) : $39.99 (includes 1 drink ticket\, 1 raffle ticket\, and admission to the experience)-Limited quantity available.\nEarly Bird (VIP): $49.99 (includes 2 drink tickets\, 2 raffle tickets\, and a goodie bag treat)-Limited quantity available.\n\n\nGeneral Admission: $45 (includes 1 drink ticket\, 1 raffle ticket\, and admission to the experience)\nVIP Admission: $55 (includes 2 drink tickets\, 2 raffle tickets\, and a goodie bag treat)\n\n\n\nStep Into the Chaos \nESCAPADE | Exhibitions presents Casino Chaos — a fully immersive art experience set inside the chaotic beauty of a vintage-inspired casino. This exhibition blends fine art\, live performance\, interactive casino tables\, cabaret-style acts\, curated food and drink\, and whimsical design into a cinematic escape from reality. \nCentral to the experience are 20+ new oil paintings by Raven Smith\, extending the ongoing Distractions series into a lush\, retro-casino world. A room-sized installation transforms the gallery into a casino floor\, complete with interactive games\, raffles\, and atmospheric design. \nGuests can expect: \n\nFine Artwork and immersive installations\nInteractive casino inspired games + raffles + prizes\nCurated Cocktails\nCreative bites\n\nEVENT DETAILS \nDate: Saturday\, December 13th\, 2025 \nMid Day Session: 12pm-3pm \nEvening Session: 6pm-9pm \nLocation: Connect Gallery\, 1451 E 53rd St\, Chicago\, IL \nAttire: Creative Casual \nWhy Attend?More than just an exhibition\, Casino Chaos is an invitation to escape. Whether sipping a custom cocktail\, playing a faux casino game\, or exploring the art and installations\, guests will leave with an unforgettable story and a sense of playful wonder. \nWHAT TO EXPECT AT CASINO CHAOS?\nFINE ART \nEnjoy around 30 pieces of original artwork by artist Raven Smith inspired by the allure of vintage casinos! \nOriginal work\, Limited Edition Prints\, + Casino Chaos merchandise will be available for purchase during the event! \nINTERACTIVE GAMING + INSTALLATIONS \nThe Rush Without The Risk \nPlay in Casino inspired games on iconic casino gaming tables\, and slots! Test your luck and win raffle tickets at each station to grant you the chance to win grand prizes toward the end of the night! \nCapture the moment in style in our lavish red velvet photo installation\, dripping in old Vegas glamour and casino flair. Attire is creative casual—feel free to play up the theme and make a statement! \nFOOD + DRINK \nSavor imaginative small bites that capture the playful delirium of endless casino nights. Your ticket includes 1–2 drink tickets to sample our signature themed cocktails\, with additional drinks available for purchase during the event. \nFood + Drink elements included in ticket access. \nSENSORY ELEMENTS \nExperience the dings and cranks of a real casino\, layered with cinematic soundscapes that capture the thrill of the game—from the cheers of a big win to the sighs of a loss. The atmosphere is completed with a signature casino aroma\, transporting you straight into the heart of Vegas. \nWe Hope To See You There! \n\n\n\n\nAGENDA\n1st Hour: ( 12-1pm/ 6-7pm) – EXHIBITION PREVIEW+ COCKTAIL RECEPTION \nGuests are encouraged to grab a specialty cocktail and enjoy the 30 new oil paintings on display inspired by casino allure by artist Raven Smith. Light bites will be passed around during this time. enjoy curated sounds and sensory elements that immerse you in the world of Casino Chaos \nNext Hour + 30 Mins: (1-2:30pm/ 7-8:30pm) – INTERACTIVE GAMING \nThe Rush Without The Risk – Play your luck at multiple gaming stations and win raffle tickets to up your chance on claiming the grand prizes at the end of the evening. Lose at a main game? Don’t worry! There are other ways to up your odds to win throughout the event! Rules: Once you play a station you must move to another one. If you win at a station you have the option to bet your winning ticket to play again\, if you lose winning tickets go back to the dealer. \nLast 30 Mins: ( 2:30-3pm/ 8:30-9pm) – RAFFLES/ PRIZES/COSTUME CONTEST \nGather and sign your raffle tickets for a chance at the big draw! 3 grand prizes will be raffled at the end of the event! This is your chance to win big!
URL:https://welcometohydepark.com/event/casino-chaos-immersive-art-exhibition/2025-12-13/1/
LOCATION:Connect Gallery\, 1451 E. 53rd Street\, Chicago\, Chicago\, 60615\, United States
CATEGORIES:Art/Arts & Crafts
ATTACH;FMTTYPE=image/jpeg:https://welcometohydepark.com/wp-content/uploads/2025/11/Zeinab-social-flyers-templates.jpg
ORGANIZER;CN="ESCAPADE | Exhibitions":MAILTO:escapade.exhibitions@gmail.com or fineartbyravenbts@gmail.com
END:VEVENT
BEGIN:VEVENT
DTSTART;TZID=America/Chicago:20251213T180000
DTEND;TZID=America/Chicago:20251213T210000
DTSTAMP:20260425T151254
CREATED:20251113T145608Z
LAST-MODIFIED:20251113T153108Z
UID:10007495-1765648800-1765659600@welcometohydepark.com
SUMMARY:CASINO CHAOS : Immersive Art Exhibition
DESCRIPTION:CASINO CHAOS: Immersive Art Exhibition\nESCAPADE | Exhibitions presents Casino Chaos — a fully immersive art experience set inside the chaotic beauty of a vintage-inspired casino. \nINSTAGRAM: @ESCAPADE_EXHIBITIONS or @FINE_ART_BY_RAVEN \nSession 1: 12:00 PM – 3:00 PM \nSession 2: 6:00 PM – 9:00 PM \nImmerse yourself in a captivating experience of Art & Play at Casino Chaos by ESCAPADE | Exhibitions \nTicket Pricing: \n\nEarly Bird (GA) : $39.99 (includes 1 drink ticket\, 1 raffle ticket\, and admission to the experience)-Limited quantity available.\nEarly Bird (VIP): $49.99 (includes 2 drink tickets\, 2 raffle tickets\, and a goodie bag treat)-Limited quantity available.\n\n\nGeneral Admission: $45 (includes 1 drink ticket\, 1 raffle ticket\, and admission to the experience)\nVIP Admission: $55 (includes 2 drink tickets\, 2 raffle tickets\, and a goodie bag treat)\n\n\n\nStep Into the Chaos \nESCAPADE | Exhibitions presents Casino Chaos — a fully immersive art experience set inside the chaotic beauty of a vintage-inspired casino. This exhibition blends fine art\, live performance\, interactive casino tables\, cabaret-style acts\, curated food and drink\, and whimsical design into a cinematic escape from reality. \nCentral to the experience are 20+ new oil paintings by Raven Smith\, extending the ongoing Distractions series into a lush\, retro-casino world. A room-sized installation transforms the gallery into a casino floor\, complete with interactive games\, raffles\, and atmospheric design. \nGuests can expect: \n\nFine Artwork and immersive installations\nInteractive casino inspired games + raffles + prizes\nCurated Cocktails\nCreative bites\n\nEVENT DETAILS \nDate: Saturday\, December 13th\, 2025 \nMid Day Session: 12pm-3pm \nEvening Session: 6pm-9pm \nLocation: Connect Gallery\, 1451 E 53rd St\, Chicago\, IL \nAttire: Creative Casual \nWhy Attend?More than just an exhibition\, Casino Chaos is an invitation to escape. Whether sipping a custom cocktail\, playing a faux casino game\, or exploring the art and installations\, guests will leave with an unforgettable story and a sense of playful wonder. \nWHAT TO EXPECT AT CASINO CHAOS?\nFINE ART \nEnjoy around 30 pieces of original artwork by artist Raven Smith inspired by the allure of vintage casinos! \nOriginal work\, Limited Edition Prints\, + Casino Chaos merchandise will be available for purchase during the event! \nINTERACTIVE GAMING + INSTALLATIONS \nThe Rush Without The Risk \nPlay in Casino inspired games on iconic casino gaming tables\, and slots! Test your luck and win raffle tickets at each station to grant you the chance to win grand prizes toward the end of the night! \nCapture the moment in style in our lavish red velvet photo installation\, dripping in old Vegas glamour and casino flair. Attire is creative casual—feel free to play up the theme and make a statement! \nFOOD + DRINK \nSavor imaginative small bites that capture the playful delirium of endless casino nights. Your ticket includes 1–2 drink tickets to sample our signature themed cocktails\, with additional drinks available for purchase during the event. \nFood + Drink elements included in ticket access. \nSENSORY ELEMENTS \nExperience the dings and cranks of a real casino\, layered with cinematic soundscapes that capture the thrill of the game—from the cheers of a big win to the sighs of a loss. The atmosphere is completed with a signature casino aroma\, transporting you straight into the heart of Vegas. \nWe Hope To See You There! \n\n\n\n\nAGENDA\n1st Hour: ( 12-1pm/ 6-7pm) – EXHIBITION PREVIEW+ COCKTAIL RECEPTION \nGuests are encouraged to grab a specialty cocktail and enjoy the 30 new oil paintings on display inspired by casino allure by artist Raven Smith. Light bites will be passed around during this time. enjoy curated sounds and sensory elements that immerse you in the world of Casino Chaos \nNext Hour + 30 Mins: (1-2:30pm/ 7-8:30pm) – INTERACTIVE GAMING \nThe Rush Without The Risk – Play your luck at multiple gaming stations and win raffle tickets to up your chance on claiming the grand prizes at the end of the evening. Lose at a main game? Don’t worry! There are other ways to up your odds to win throughout the event! Rules: Once you play a station you must move to another one. If you win at a station you have the option to bet your winning ticket to play again\, if you lose winning tickets go back to the dealer. \nLast 30 Mins: ( 2:30-3pm/ 8:30-9pm) – RAFFLES/ PRIZES/COSTUME CONTEST \nGather and sign your raffle tickets for a chance at the big draw! 3 grand prizes will be raffled at the end of the event! This is your chance to win big!
URL:https://welcometohydepark.com/event/casino-chaos-immersive-art-exhibition/2025-12-13/2/
LOCATION:Connect Gallery\, 1451 E. 53rd Street\, Chicago\, Chicago\, 60615\, United States
CATEGORIES:Art/Arts & Crafts
ATTACH;FMTTYPE=image/jpeg:https://welcometohydepark.com/wp-content/uploads/2025/11/Zeinab-social-flyers-templates.jpg
ORGANIZER;CN="ESCAPADE | Exhibitions":MAILTO:escapade.exhibitions@gmail.com or fineartbyravenbts@gmail.com
END:VEVENT
BEGIN:VEVENT
DTSTART;TZID=America/Chicago:20251213T193000
DTEND;TZID=America/Chicago:20251213T213000
DTSTAMP:20260425T151254
CREATED:20250819T130321Z
LAST-MODIFIED:20251031T161937Z
UID:10006854-1765654200-1765661400@welcometohydepark.com
SUMMARY:The Taming of the Shrew
DESCRIPTION:The Taming of the Shrew \nWelcome to a tale of deception\, disguise\, and desire.\n \nThe richest man in town has two daughters and one big problem: he refuses to marry the youngest\, Bianca\, until the eldest\, Katherina\, is married first. Much to her family’s dismay\, Katherina repeatedly – and violently – rejects the men interested in her and her wealth\, and refuses to sacrifice her independence. When a mysterious gentleman enters the mix\, suddenly Kate sees that surrender is no sacrifice. Perhaps there is strength in submission.\n \nArtistic Director of Remy Bumppo Theatre Company Marti Lyons (Guess Who’s Coming to Dinner) turns William Shakespeare’s classic inside out\, with a fresh interpretation focused on feminine desire. This is not your standard Shrew.\n \nPlease Note: This adaptation of The Taming of the Shrew engages with mature themes—including desire\, sexuality\, and power dynamics.\n \nAccessible Performances:\n\n\nASL Interpretation: Saturday\, December 6 at 2:00pm\nTouch Tour: Sunday\, December 7 at 12:30pm\nAudio Description and Open Captioning: Sunday\, December 7 at 2:00pm
URL:https://welcometohydepark.com/event/the-taming-of-the-shrew/2025-12-13/
LOCATION:Court Theatre\, 5535 S. Ellis Avenue\, Chicago\, IL\, 60637\, United States
CATEGORIES:Performance/Theatre/Cabaret
ATTACH;FMTTYPE=image/jpeg:https://welcometohydepark.com/wp-content/uploads/2025/08/For-Welcome-to-Hyde-Park_TAMING-OF-THE-SHREW_1080x1080.jpg
ORGANIZER;CN="Court Theatre":MAILTO:info@courttheatre.org
END:VEVENT
END:VCALENDAR