BEGIN:VCALENDAR
VERSION:2.0
PRODID:-//Welcome To Hyde Park - ECPv6.15.20//NONSGML v1.0//EN
CALSCALE:GREGORIAN
METHOD:PUBLISH
X-ORIGINAL-URL:https://welcometohydepark.com
X-WR-CALDESC:Events for Welcome To Hyde Park
REFRESH-INTERVAL;VALUE=DURATION:PT1H
X-Robots-Tag:noindex
X-PUBLISHED-TTL:PT1H
BEGIN:VTIMEZONE
TZID:America/Chicago
BEGIN:DAYLIGHT
TZOFFSETFROM:-0600
TZOFFSETTO:-0500
TZNAME:CDT
DTSTART:20240310T080000
END:DAYLIGHT
BEGIN:STANDARD
TZOFFSETFROM:-0500
TZOFFSETTO:-0600
TZNAME:CST
DTSTART:20241103T070000
END:STANDARD
BEGIN:DAYLIGHT
TZOFFSETFROM:-0600
TZOFFSETTO:-0500
TZNAME:CDT
DTSTART:20250309T080000
END:DAYLIGHT
BEGIN:STANDARD
TZOFFSETFROM:-0500
TZOFFSETTO:-0600
TZNAME:CST
DTSTART:20251102T070000
END:STANDARD
BEGIN:DAYLIGHT
TZOFFSETFROM:-0600
TZOFFSETTO:-0500
TZNAME:CDT
DTSTART:20260308T080000
END:DAYLIGHT
BEGIN:STANDARD
TZOFFSETFROM:-0500
TZOFFSETTO:-0600
TZNAME:CST
DTSTART:20261101T070000
END:STANDARD
END:VTIMEZONE
BEGIN:VEVENT
DTSTART;TZID=America/Chicago:20251214T140000
DTEND;TZID=America/Chicago:20251214T160000
DTSTAMP:20260424T084524
CREATED:20250819T130321Z
LAST-MODIFIED:20251031T161937Z
UID:10007429-1765720800-1765728000@welcometohydepark.com
SUMMARY:The Taming of the Shrew
DESCRIPTION:The Taming of the Shrew \nWelcome to a tale of deception\, disguise\, and desire.\n \nThe richest man in town has two daughters and one big problem: he refuses to marry the youngest\, Bianca\, until the eldest\, Katherina\, is married first. Much to her family’s dismay\, Katherina repeatedly – and violently – rejects the men interested in her and her wealth\, and refuses to sacrifice her independence. When a mysterious gentleman enters the mix\, suddenly Kate sees that surrender is no sacrifice. Perhaps there is strength in submission.\n \nArtistic Director of Remy Bumppo Theatre Company Marti Lyons (Guess Who’s Coming to Dinner) turns William Shakespeare’s classic inside out\, with a fresh interpretation focused on feminine desire. This is not your standard Shrew.\n \nPlease Note: This adaptation of The Taming of the Shrew engages with mature themes—including desire\, sexuality\, and power dynamics.\n \nAccessible Performances:\n\n\nASL Interpretation: Saturday\, December 6 at 2:00pm\nTouch Tour: Sunday\, December 7 at 12:30pm\nAudio Description and Open Captioning: Sunday\, December 7 at 2:00pm
URL:https://welcometohydepark.com/event/the-taming-of-the-shrew/2025-12-14/1/
LOCATION:Court Theatre\, 5535 S. Ellis Avenue\, Chicago\, IL\, 60637\, United States
CATEGORIES:Performance/Theatre/Cabaret
ATTACH;FMTTYPE=image/jpeg:https://welcometohydepark.com/wp-content/uploads/2025/08/For-Welcome-to-Hyde-Park_TAMING-OF-THE-SHREW_1080x1080.jpg
ORGANIZER;CN="Court Theatre":MAILTO:info@courttheatre.org
END:VEVENT
BEGIN:VEVENT
DTSTART;TZID=America/Chicago:20251214T180000
DTEND;TZID=America/Chicago:20251214T200000
DTSTAMP:20260424T084524
CREATED:20251105T220101Z
LAST-MODIFIED:20251105T220724Z
UID:10007465-1765735200-1765742400@welcometohydepark.com
SUMMARY:Jeopardy Bar League at Truth Be Told
DESCRIPTION:Jeopardy Bar League at Truth Be Told \nGet ready for Jeopardy Bar League\, a live version of the iconic TV show\, at Truth be Told\, Sundays from 6 – 8 pm starting November 16. \nSee you there!
URL:https://welcometohydepark.com/event/jeopardy-bar-league-at-truth-be-told/2025-12-14/
LOCATION:Truth Be Told\, 1227 E. 60th Street\, Chicago\, IL\, United States
CATEGORIES:Beer/Cocktails/Wine,Community,Trivia
ATTACH;FMTTYPE=image/png:https://welcometohydepark.com/wp-content/uploads/2025/11/IG-post-with-start-date.png
END:VEVENT
BEGIN:VEVENT
DTSTART;TZID=America/Chicago:20251214T193000
DTEND;TZID=America/Chicago:20251214T213000
DTSTAMP:20260424T084524
CREATED:20250819T130321Z
LAST-MODIFIED:20251031T161937Z
UID:10006855-1765740600-1765747800@welcometohydepark.com
SUMMARY:The Taming of the Shrew
DESCRIPTION:The Taming of the Shrew \nWelcome to a tale of deception\, disguise\, and desire.\n \nThe richest man in town has two daughters and one big problem: he refuses to marry the youngest\, Bianca\, until the eldest\, Katherina\, is married first. Much to her family’s dismay\, Katherina repeatedly – and violently – rejects the men interested in her and her wealth\, and refuses to sacrifice her independence. When a mysterious gentleman enters the mix\, suddenly Kate sees that surrender is no sacrifice. Perhaps there is strength in submission.\n \nArtistic Director of Remy Bumppo Theatre Company Marti Lyons (Guess Who’s Coming to Dinner) turns William Shakespeare’s classic inside out\, with a fresh interpretation focused on feminine desire. This is not your standard Shrew.\n \nPlease Note: This adaptation of The Taming of the Shrew engages with mature themes—including desire\, sexuality\, and power dynamics.\n \nAccessible Performances:\n\n\nASL Interpretation: Saturday\, December 6 at 2:00pm\nTouch Tour: Sunday\, December 7 at 12:30pm\nAudio Description and Open Captioning: Sunday\, December 7 at 2:00pm
URL:https://welcometohydepark.com/event/the-taming-of-the-shrew/2025-12-14/2/
LOCATION:Court Theatre\, 5535 S. Ellis Avenue\, Chicago\, IL\, 60637\, United States
CATEGORIES:Performance/Theatre/Cabaret
ATTACH;FMTTYPE=image/jpeg:https://welcometohydepark.com/wp-content/uploads/2025/08/For-Welcome-to-Hyde-Park_TAMING-OF-THE-SHREW_1080x1080.jpg
ORGANIZER;CN="Court Theatre":MAILTO:info@courttheatre.org
END:VEVENT
END:VCALENDAR