BEGIN:VCALENDAR
VERSION:2.0
PRODID:-//Welcome To Hyde Park - ECPv6.15.20//NONSGML v1.0//EN
CALSCALE:GREGORIAN
METHOD:PUBLISH
X-WR-CALNAME:Welcome To Hyde Park
X-ORIGINAL-URL:https://welcometohydepark.com
X-WR-CALDESC:Events for Welcome To Hyde Park
REFRESH-INTERVAL;VALUE=DURATION:PT1H
X-Robots-Tag:noindex
X-PUBLISHED-TTL:PT1H
BEGIN:VTIMEZONE
TZID:America/Chicago
BEGIN:DAYLIGHT
TZOFFSETFROM:-0600
TZOFFSETTO:-0500
TZNAME:CDT
DTSTART:20250309T080000
END:DAYLIGHT
BEGIN:STANDARD
TZOFFSETFROM:-0500
TZOFFSETTO:-0600
TZNAME:CST
DTSTART:20251102T070000
END:STANDARD
BEGIN:DAYLIGHT
TZOFFSETFROM:-0600
TZOFFSETTO:-0500
TZNAME:CDT
DTSTART:20260308T080000
END:DAYLIGHT
BEGIN:STANDARD
TZOFFSETFROM:-0500
TZOFFSETTO:-0600
TZNAME:CST
DTSTART:20261101T070000
END:STANDARD
BEGIN:DAYLIGHT
TZOFFSETFROM:-0600
TZOFFSETTO:-0500
TZNAME:CDT
DTSTART:20270314T080000
END:DAYLIGHT
BEGIN:STANDARD
TZOFFSETFROM:-0500
TZOFFSETTO:-0600
TZNAME:CST
DTSTART:20271107T070000
END:STANDARD
END:VTIMEZONE
BEGIN:VEVENT
DTSTART;TZID=America/Chicago:20260103T180000
DTEND;TZID=America/Chicago:20260104T200000
DTSTAMP:20260425T211911
CREATED:20251121T210628Z
LAST-MODIFIED:20251121T210628Z
UID:10007498-1767463200-1767556800@welcometohydepark.com
SUMMARY:Hyde Park Trivia
DESCRIPTION:Hyde Park Trivia\nSaturday\, Jan 3rd – 6 pm Start\n3 Rounds – 10 Questions per Round\nSports | Buildings | Politics\n$20 Per Team – Teams of 1-4\nWoodlawn Tap\nA Fundraiser hosted by the Nichols Park Advisory Council
URL:https://welcometohydepark.com/event/hyde-park-trivia/
LOCATION:Jimmy’s Woodlawn Tap\, 1172 E. 55th Street\, Chicago\, IL\, 60615\, United States
CATEGORIES:Beer/Cocktails/Wine,Fundraiser,Trivia
ATTACH;FMTTYPE=image/jpeg:https://welcometohydepark.com/wp-content/uploads/2025/11/Trivia-Vert.jpg
END:VEVENT
BEGIN:VEVENT
DTSTART;TZID=America/Chicago:20260104T180000
DTEND;TZID=America/Chicago:20260104T200000
DTSTAMP:20260425T211911
CREATED:20251105T220101Z
LAST-MODIFIED:20251105T220724Z
UID:10007468-1767549600-1767556800@welcometohydepark.com
SUMMARY:Jeopardy Bar League at Truth Be Told
DESCRIPTION:Jeopardy Bar League at Truth Be Told \nGet ready for Jeopardy Bar League\, a live version of the iconic TV show\, at Truth be Told\, Sundays from 6 – 8 pm starting November 16. \nSee you there!
URL:https://welcometohydepark.com/event/jeopardy-bar-league-at-truth-be-told/2026-01-04/
LOCATION:Truth Be Told\, 1227 E. 60th Street\, Chicago\, IL\, United States
CATEGORIES:Beer/Cocktails/Wine,Community,Trivia
ATTACH;FMTTYPE=image/png:https://welcometohydepark.com/wp-content/uploads/2025/11/IG-post-with-start-date.png
END:VEVENT
END:VCALENDAR