BEGIN:VCALENDAR
VERSION:2.0
PRODID:-//Welcome To Hyde Park - ECPv6.15.20//NONSGML v1.0//EN
CALSCALE:GREGORIAN
METHOD:PUBLISH
X-WR-CALNAME:Welcome To Hyde Park
X-ORIGINAL-URL:https://welcometohydepark.com
X-WR-CALDESC:Events for Welcome To Hyde Park
REFRESH-INTERVAL;VALUE=DURATION:PT1H
X-Robots-Tag:noindex
X-PUBLISHED-TTL:PT1H
BEGIN:VTIMEZONE
TZID:America/Chicago
BEGIN:DAYLIGHT
TZOFFSETFROM:-0600
TZOFFSETTO:-0500
TZNAME:CDT
DTSTART:20250309T080000
END:DAYLIGHT
BEGIN:STANDARD
TZOFFSETFROM:-0500
TZOFFSETTO:-0600
TZNAME:CST
DTSTART:20251102T070000
END:STANDARD
BEGIN:DAYLIGHT
TZOFFSETFROM:-0600
TZOFFSETTO:-0500
TZNAME:CDT
DTSTART:20260308T080000
END:DAYLIGHT
BEGIN:STANDARD
TZOFFSETFROM:-0500
TZOFFSETTO:-0600
TZNAME:CST
DTSTART:20261101T070000
END:STANDARD
BEGIN:DAYLIGHT
TZOFFSETFROM:-0600
TZOFFSETTO:-0500
TZNAME:CDT
DTSTART:20270314T080000
END:DAYLIGHT
BEGIN:STANDARD
TZOFFSETFROM:-0500
TZOFFSETTO:-0600
TZNAME:CST
DTSTART:20271107T070000
END:STANDARD
END:VTIMEZONE
BEGIN:VEVENT
DTSTART;TZID=America/Chicago:20260227T090000
DTEND;TZID=America/Chicago:20260227T110000
DTSTAMP:20260424T084037
CREATED:20260216T013951Z
LAST-MODIFIED:20260217T213708Z
UID:10007775-1772182800-1772190000@welcometohydepark.com
SUMMARY:Kindergarten Drop In at St. Thomas the Apostle Catholic School
DESCRIPTION:Kindergarten Drop In at St. Thomas the Apostle Catholic School\n🎒 Kindergarten Drop-In at STA\nJoin us for a special Kindergarten Drop-In Event at St. Thomas the Apostle Catholic School! \n📅 Friday\, February 27\, 2026⏰ 9:00 AM – 11:00 AM📍 St. Thomas the Apostle Catholic School \nFuture Kindergarten families are invited to stop by and experience STA in action. Visit a live classroom\, explore hands-on learning\, meet our teacher and school leadership\, and learn more about our faith-centered academic program. \nThis is a wonderful opportunity to see how we nurture the whole child — academically\, socially\, and spiritually. \n✨ Now enrolling for the 2026–2027 school year.Limited Kindergarten seats available. \nWe look forward to welcoming you! 💚 \nLink: https://forms.gle/pcmYRRy4Gd3mwv5C9
URL:https://welcometohydepark.com/event/kindergarten-drop-in-at-st-thomas-the-apostle-catholic-school/
LOCATION:St. Thomas the Apostle School\, 5467 S. Woodlawn Avenue\, Chicago\, 60615\, United States
CATEGORIES:Community,Educational/Class
ATTACH;FMTTYPE=image/png:https://welcometohydepark.com/wp-content/uploads/2026/02/STA-3.png
END:VEVENT
BEGIN:VEVENT
DTSTART;TZID=America/Chicago:20260227T190000
DTEND;TZID=America/Chicago:20260227T203000
DTSTAMP:20260424T084037
CREATED:20260213T154454Z
LAST-MODIFIED:20260213T160542Z
UID:10007772-1772218800-1772224200@welcometohydepark.com
SUMMARY:Listening to the Stars: Turning Constellations Into Music
DESCRIPTION:February 27\, 2026 | 7:00PM \nFulton Recital Hall\, Goodspeed Hall\, 4th floor \nIn this interdisciplinary session led by marimbist\, vibraphonist and composer\, Patricia Brennan\, we explore the intersection of astronomy and music theory through a new system that translates the constellations of the night sky into musical content. By superimposing constellations onto the circle of fifths\, we can assign musical notes\, intervals\, and rhythmic values to the geometry of the sky. This session invites participants to view the night sky as a living score. Participants will explore examples demonstrating how constellations like Aquarius or Andromeda can be “heard” through musical translation. No background in music theory or astronomy is required\, just curiosity and a love for the stars. \nFollowing the presentation in Fulton Recital Hall\, participants will be invited to grab some cocoa and cookies and head over to the Ryerson Observatory. \nThis event is best for families with children in grades 5-12. \nFree admission \nPresented in partnership by the University of Chicago Department of Music and the Ryerson Astronomical Society.
URL:https://welcometohydepark.com/event/listening-to-the-stars-turning-constellations-into-music/
LOCATION:Fulton Recital Hall\, Goodspeed Hall\, 5845 S Ellis Ave\, Chicago\, IL\, 60637\, United States
CATEGORIES:Family Fun,Free,Lecture/Literary/Book Signing/Storytime,Performance/Theatre/Cabaret
ATTACH;FMTTYPE=image/png:https://welcometohydepark.com/wp-content/uploads/2026/02/Screenshot-2026-02-13-at-9.36.52-AM.png
END:VEVENT
BEGIN:VEVENT
DTSTART;TZID=America/Chicago:20260227T190000
DTEND;TZID=America/Chicago:20260227T210000
DTSTAMP:20260424T084037
CREATED:20260218T214425Z
LAST-MODIFIED:20260218T214425Z
UID:10007806-1772218800-1772226000@welcometohydepark.com
SUMMARY:Trivia Night - Call and Response Books
DESCRIPTION:Trivia Night – Call and Response Books \nThink you know it all? Put your knowledge to the test at our monthly trivia night! February’s trivia night will be on Friday\, February 27 at 7 PM—come with a team or ready to make new friends! Questions will span a variety of categories (but this is a bookstore\, so of course there will be a few book-related questions)! \nMasks Required
URL:https://welcometohydepark.com/event/trivia-night-call-and-response-books/
LOCATION:Call and Response Books\, 1390 E Hyde Park Blvd.\, Chicago\, 60615
CATEGORIES:Community,Trivia
ATTACH;FMTTYPE=image/png:https://welcometohydepark.com/wp-content/uploads/2026/02/Screenshot-2026-02-18-at-3.42.04-PM.png
ORGANIZER;CN="Call and Response Books":MAILTO:info@callandresponsechi.com
END:VEVENT
BEGIN:VEVENT
DTSTART;TZID=America/Chicago:20260227T193000
DTEND;TZID=America/Chicago:20260227T213000
DTSTAMP:20260424T084037
CREATED:20250819T130918Z
LAST-MODIFIED:20260218T213049Z
UID:10006870-1772220600-1772227800@welcometohydepark.com
SUMMARY:Miss Julie
DESCRIPTION:Miss Julie \nAugust Strindberg’s Miss Julie is a confrontation of class\, gender\, and desire at the turn of the twentieth century that’s as relevant today as when it was first written. \nMiss Julie wants to abandon her upper-class\, aristocratic life and escape the expectations that trap her. Jean\, her servant\, wants to climb the social ladder and rise through the ranks of society. Over the course of a wine-soaked evening\, the two jockey for position\, using sex\, status\, and strategy to collide and combust. \nSenior Artistic Producer Gabrielle Randle-Bent directs one of Strindberg’s most celebrated works\, interrogating the limitations of politics and position and the tension between who we are and who we want to be. \nAccessible Performances: \n\nTouch Tour: Saturday\, February 28 at 12:30pm\nAudio Description and ASL Interpretation: Saturday\, February 28 at 2:00pm\nOpen Captioning: Sunday\, March 1 at 2:00pm
URL:https://welcometohydepark.com/event/miss-julie/2026-02-27/
LOCATION:Court Theatre\, 5535 S. Ellis Avenue\, Chicago\, IL\, 60637\, United States
CATEGORIES:Performance/Theatre/Cabaret
ATTACH;FMTTYPE=image/jpeg:https://welcometohydepark.com/wp-content/uploads/2025/08/MISS-JULIE_Square.jpg
ORGANIZER;CN="Court Theatre":MAILTO:info@courttheatre.org
END:VEVENT
END:VCALENDAR