BEGIN:VCALENDAR
VERSION:2.0
PRODID:-//Welcome To Hyde Park - ECPv6.15.20//NONSGML v1.0//EN
CALSCALE:GREGORIAN
METHOD:PUBLISH
X-WR-CALNAME:Welcome To Hyde Park
X-ORIGINAL-URL:https://welcometohydepark.com
X-WR-CALDESC:Events for Welcome To Hyde Park
REFRESH-INTERVAL;VALUE=DURATION:PT1H
X-Robots-Tag:noindex
X-PUBLISHED-TTL:PT1H
BEGIN:VTIMEZONE
TZID:America/Chicago
BEGIN:DAYLIGHT
TZOFFSETFROM:-0600
TZOFFSETTO:-0500
TZNAME:CDT
DTSTART:20250309T080000
END:DAYLIGHT
BEGIN:STANDARD
TZOFFSETFROM:-0500
TZOFFSETTO:-0600
TZNAME:CST
DTSTART:20251102T070000
END:STANDARD
BEGIN:DAYLIGHT
TZOFFSETFROM:-0600
TZOFFSETTO:-0500
TZNAME:CDT
DTSTART:20260308T080000
END:DAYLIGHT
BEGIN:STANDARD
TZOFFSETFROM:-0500
TZOFFSETTO:-0600
TZNAME:CST
DTSTART:20261101T070000
END:STANDARD
BEGIN:DAYLIGHT
TZOFFSETFROM:-0600
TZOFFSETTO:-0500
TZNAME:CDT
DTSTART:20270314T080000
END:DAYLIGHT
BEGIN:STANDARD
TZOFFSETFROM:-0500
TZOFFSETTO:-0600
TZNAME:CST
DTSTART:20271107T070000
END:STANDARD
END:VTIMEZONE
BEGIN:VEVENT
DTSTART;TZID=America/Chicago:20260422T170000
DTEND;TZID=America/Chicago:20260422T210000
DTSTAMP:20260424T013935
CREATED:20260413T190007Z
LAST-MODIFIED:20260415T183301Z
UID:10008100-1776877200-1776891600@welcometohydepark.com
SUMMARY:Seafood Boil & Jazz Fest at Daisy's Po-Boy & Tavern
DESCRIPTION:Seafood Boil & Jazz Fest at Daisy’s Po-Boy & Tavern \n\n\nA traditional Gulf Coast seafood boil + live jazz at Daisy’s with crab\, shrimp\, sausage & more. Tickets are limited. All ages welcomed. \n\n\n\n\nGet ready to kick off the season right! Join us at Daisy’s Po-Boy and Tavern for an unforgettable evening of live jazz\, good company\, and a mouth-watering Cajun seafood boil. Whether you’re a connoisseur or trying it for the first time\, this is the event of the season. Grab your tickets\, bring your appetite\, and let’s celebrate in style! \nThis is a traditional boil that includes: \nCrab\, Andouille Sausage\, Shrimp\, Potatoes\, Cajun Butter \n$55/person \nTicket price does not include tax\, gratuity\, or alcohol. Drinks are available for purchase at the bar. Children under 18 are welcome to join with a paying parent or guardian (1 child per adult)\, and we don’t charge a separate ticket price for kids! The $55 ticket covers the adult attendee\, and little ones can come along at no additional cost.
URL:https://welcometohydepark.com/event/seafood-boil-jazz-fest-at-daisys-po-boy-tavern/
LOCATION:Daisy’s Po-Boy and Tavern\, 5215 S. Harper Avenue\, Chicago\, IL\, 60615\, United States
CATEGORIES:Beer/Cocktails/Wine,Concert/Live Music/DJ/Karoke,Dining
ATTACH;FMTTYPE=image/png:https://welcometohydepark.com/wp-content/uploads/2026/04/Jazz-Fest-2026-1.png
END:VEVENT
BEGIN:VEVENT
DTSTART;TZID=America/Chicago:20260422T180000
DTEND;TZID=America/Chicago:20260422T200000
DTSTAMP:20260424T013935
CREATED:20260415T201658Z
LAST-MODIFIED:20260415T202109Z
UID:10008370-1776880800-1776888000@welcometohydepark.com
SUMMARY:Components Running Crew
DESCRIPTION:Components Running Crew \n3 Mile Walk / 5 Mile Run\nEvery Wednesday at 6 p.m.\nEvery Saturday at 8 a.m. \nAll paces are welcome!\n1322 E. 67th Street \nClick HERE for more information
URL:https://welcometohydepark.com/event/components-running-crew/2026-04-22/
LOCATION:Components\, 1322 E. 67th Street\, Chicago\, IL
CATEGORIES:Community,Free,Health/Fitness
ATTACH;FMTTYPE=image/png:https://welcometohydepark.com/wp-content/uploads/2026/04/IMG_1440.png
END:VEVENT
BEGIN:VEVENT
DTSTART;TZID=America/Chicago:20260422T183000
DTEND;TZID=America/Chicago:20260422T213000
DTSTAMP:20260424T013935
CREATED:20260408T192852Z
LAST-MODIFIED:20260408T192852Z
UID:10008095-1776882600-1776893400@welcometohydepark.com
SUMMARY:FARMACY Dinner Experience at Mahari
DESCRIPTION:FARMACY Dinner Experience at Mahari \nJoin us this Earth Day for a one-of-a-kind dinner experience as FARMACY arrives in Chicago for the very first time 🌱✨ \nSettle in for an intentionally curated\, multi-course dinner by the talented chefs of Mahari\, highlighting the beauty of seasonal ingredients at their peak. Each course will be thoughtfully paired with a farm-fresh bar menu\, crafted by Erika Shante’ of Whiskey and Rosemary alongside Lisa Brown of Mahari—bringing together vibrant cocktails and zero-proof offerings rooted in freshness and creativity. \nGive us your allergies and dietary preferences and we will take it from there! (No menu released beforehand\, we got you) \nCome ready to gather\, sip\, and celebrate the connection between land\, food\, and community. \nPlease note: All ticket sales are final. Tickets may be transferred to another guest up to 48 hours prior to the event. Reach out to WhiskeyandRosemary@gmail.com for any questions. \nClick HERE to purchase tickets
URL:https://welcometohydepark.com/event/farmacy-dinner-experience-at-mahari/
LOCATION:Mahari Restaurant\, 1504 E. 55th Street\, Chicago\, IL\, 60615\, United States
CATEGORIES:Beer/Cocktails/Wine,Dining
ATTACH;FMTTYPE=image/png:https://welcometohydepark.com/wp-content/uploads/2026/04/Farmacy-Chefs.png
END:VEVENT
BEGIN:VEVENT
DTSTART;TZID=America/Chicago:20260422T193000
DTEND;TZID=America/Chicago:20260422T213000
DTSTAMP:20260424T013935
CREATED:20250819T131514Z
LAST-MODIFIED:20260403T143115Z
UID:10006885-1776886200-1776893400@welcometohydepark.com
SUMMARY:Out Here
DESCRIPTION:Out Here \nLife happens outside of your comfort zone. Out Here is a world-premiere musical\, a thrilling collaboration between Court Theatre and the University of Chicago\, and an intimate look at a family reconfiguring itself and rediscovering joy. \nDawn has a house\, a husband\, and a family\, but she wants more. She wants her ex-girlfriend\, Robin. She wants nothing to change and she wants everything to change\, and she wants it all on her own terms. As she’s caught between what’s been and what’s next\, Dawn must learn to abandon expectations\, harmonize with loved ones\, and trust the process. If she can do all that\, she might just learn a new song. Strikingly original and unabashedly queer\, Out Here explores the freedom of relinquishing control\, and how\, sometimes\, you have to break something apart to create something better. \nAcclaimed director Chay Yew makes his Court directorial debut with this charming and bold coming-of-age story\, bringing the 2025/26 season to a jubilant conclusion. \nAccessible Performances: \n\nTouch Tour: Saturday\, May 2 at 12:30pm\nAudio Description and ASL Interpretation: Saturday\, May 2 at 2:00pm\nOpen Captioning: Sunday\, May 3 at 2:00pm
URL:https://welcometohydepark.com/event/out-here/2026-04-22/
LOCATION:Court Theatre\, 5535 S. Ellis Avenue\, Chicago\, IL\, 60637\, United States
CATEGORIES:Performance/Theatre/Cabaret
ATTACH;FMTTYPE=image/jpeg:https://welcometohydepark.com/wp-content/uploads/2025/08/OUT-HERE_Square.jpg
ORGANIZER;CN="Court Theatre":MAILTO:info@courttheatre.org
END:VEVENT
BEGIN:VEVENT
DTSTART;TZID=America/Chicago:20260422T193000
DTEND;TZID=America/Chicago:20260422T213000
DTSTAMP:20260424T013935
CREATED:20260415T182734Z
LAST-MODIFIED:20260415T182734Z
UID:10008102-1776886200-1776893400@welcometohydepark.com
SUMMARY:Live Music at Daisy's Po-Boy and Tavern - Charles Pryor
DESCRIPTION:Live Music at Daisy’s Po-Boy and Tavern – Charles Pryor \nLive Music with Charles Pryor 🎺 🎶⁠\n⁠\n🗓️ Every Wednesday Night\n⏰️ 7:30-9:30 p.m.⁠\n📍5215 S. Harper Avenue⁠\n⁠\nWhether you’re winding down after work or kicking off your evening\, there’s no better place to be. Come on in\, grab a drink\, and let the music move you!⁠
URL:https://welcometohydepark.com/event/live-music-at-daisys-po-boy-and-tavern-charles-pryor/2026-04-22/
LOCATION:Daisy’s Po-Boy and Tavern\, 5215 S. Harper Avenue\, Chicago\, IL\, 60615\, United States
CATEGORIES:Concert/Live Music/DJ/Karoke
ATTACH;FMTTYPE=image/png:https://welcometohydepark.com/wp-content/uploads/2026/04/Live-Music-Wednesdays-Amy-Instagram-Post-45-1.png
END:VEVENT
END:VCALENDAR