BEGIN:VCALENDAR
VERSION:2.0
PRODID:-//Welcome To Hyde Park - ECPv6.15.20//NONSGML v1.0//EN
CALSCALE:GREGORIAN
METHOD:PUBLISH
X-WR-CALNAME:Welcome To Hyde Park
X-ORIGINAL-URL:https://welcometohydepark.com
X-WR-CALDESC:Events for Welcome To Hyde Park
REFRESH-INTERVAL;VALUE=DURATION:PT1H
X-Robots-Tag:noindex
X-PUBLISHED-TTL:PT1H
BEGIN:VTIMEZONE
TZID:America/Chicago
BEGIN:DAYLIGHT
TZOFFSETFROM:-0600
TZOFFSETTO:-0500
TZNAME:CDT
DTSTART:20250309T080000
END:DAYLIGHT
BEGIN:STANDARD
TZOFFSETFROM:-0500
TZOFFSETTO:-0600
TZNAME:CST
DTSTART:20251102T070000
END:STANDARD
BEGIN:DAYLIGHT
TZOFFSETFROM:-0600
TZOFFSETTO:-0500
TZNAME:CDT
DTSTART:20260308T080000
END:DAYLIGHT
BEGIN:STANDARD
TZOFFSETFROM:-0500
TZOFFSETTO:-0600
TZNAME:CST
DTSTART:20261101T070000
END:STANDARD
BEGIN:DAYLIGHT
TZOFFSETFROM:-0600
TZOFFSETTO:-0500
TZNAME:CDT
DTSTART:20270314T080000
END:DAYLIGHT
BEGIN:STANDARD
TZOFFSETFROM:-0500
TZOFFSETTO:-0600
TZNAME:CST
DTSTART:20271107T070000
END:STANDARD
END:VTIMEZONE
BEGIN:VEVENT
DTSTART;TZID=America/Chicago:20260510T130000
DTEND;TZID=America/Chicago:20260510T140000
DTSTAMP:20260424T111143
CREATED:20260303T171755Z
LAST-MODIFIED:20260303T172149Z
UID:10007886-1778418000-1778421600@welcometohydepark.com
SUMMARY:Barnes & Noble Children's Storytime - Sunday Afternoons
DESCRIPTION:Barnes & Noble Children’s Storytime – Sunday Afternoons \nJoin us for storytime in the Barnes & Noble kids’ department!
URL:https://welcometohydepark.com/event/barnes-noble-childrens-storytime-sunday-afternoons/2026-05-10/
LOCATION:Barnes & Noble\, 1524 E. 55th Street\, Chicago\, IL\, 60615\, United States
CATEGORIES:Community,Family Fun,Lecture/Literary/Book Signing/Storytime
ATTACH;FMTTYPE=image/jpeg:https://welcometohydepark.com/wp-content/uploads/2026/03/30208_Events_StoryTime.jpg
ORGANIZER;CN="Barnes & Noble":MAILTO:crm3581@bn.com
END:VEVENT
BEGIN:VEVENT
DTSTART;TZID=America/Chicago:20260514T103000
DTEND;TZID=America/Chicago:20260514T113000
DTSTAMP:20260424T111143
CREATED:20260303T171339Z
LAST-MODIFIED:20260303T171339Z
UID:10007865-1778754600-1778758200@welcometohydepark.com
SUMMARY:Barnes & Noble Children's Storytime - Thursday Mornings
DESCRIPTION:Barnes & Noble Children’s Storytime – Thursday Mornings \nJoin us for storytime in the Barnes & Noble kids’ department!
URL:https://welcometohydepark.com/event/barnes-noble-childrens-storytime-thursday-mornings/2026-05-14/
LOCATION:Barnes & Noble\, 1524 E. 55th Street\, Chicago\, IL\, 60615\, United States
CATEGORIES:Community,Family Fun,Lecture/Literary/Book Signing/Storytime
ATTACH;FMTTYPE=image/jpeg:https://welcometohydepark.com/wp-content/uploads/2026/03/30208_Events_StoryTime.jpg
ORGANIZER;CN="Barnes & Noble":MAILTO:crm3581@bn.com
END:VEVENT
BEGIN:VEVENT
DTSTART;TZID=America/Chicago:20260516T133000
DTEND;TZID=America/Chicago:20260516T150000
DTSTAMP:20260424T111143
CREATED:20260401T223420Z
LAST-MODIFIED:20260402T160350Z
UID:10008074-1778938200-1778943600@welcometohydepark.com
SUMMARY:Woobles Club
DESCRIPTION:Woobles Club \nKids aged 7 to 18 are welcome to join Woobles Club\, a place where they can learn\, get some help\, or just hang out with other Wooblers! Karla Ocampo is leading the club\, and she’s all about keeping kids engaged and inspired to finish their Woobles. \nWooble kits are sold separately and aren’t included in the club fee. Kits can be purchased at the time of the class. Don’t forget to bring a water bottle and a small snack (nothing with nuts\, please). \nLevel:  Beginner. No experience necessary \nPre-requisites: Ages 7 – 18 \nDates: \nClub meets 1:30 – 3:00 on select Saturdays.
URL:https://welcometohydepark.com/event/woobles-club-2/2026-05-16/
LOCATION:Fiber Friends Studios\, Inc.\, 1744 E 55th Street\, Chicago\, 60615
CATEGORIES:Art/Arts & Crafts,Educational/Class,Family Fun
ATTACH;FMTTYPE=image/png:https://welcometohydepark.com/wp-content/uploads/2026/04/Woobles.png
ORGANIZER;CN="Fiber Friends Studios%2C Inc.":MAILTO:tina@FiberFriendsStudios.com
END:VEVENT
BEGIN:VEVENT
DTSTART;TZID=America/Chicago:20260516T150000
DTEND;TZID=America/Chicago:20260516T163000
DTSTAMP:20260424T111143
CREATED:20260401T222833Z
LAST-MODIFIED:20260402T160440Z
UID:10008067-1778943600-1778949000@welcometohydepark.com
SUMMARY:Friendship Bracelet Club
DESCRIPTION:Friendship Bracelet Club \nKids aged 7 to 18 are welcome to join Friendship Bracelet Club\, a place where they can learn\, get some help\, or make! Karla Ocampo is leading the club\, and she’s all about keeping kids engaged and inspired to make friendship bracelets. \nKids can choose 3-4 DMC threads included in the class cost. Don’t forget to bring a water bottle and a small snack (nothing with nuts\, please). \nLevel:  Beginner. No experience necessary \nPre-requisites: Ages 7 – 18 \nIncluded in class:  \nKids can choose 3-4 DMC threads and a cardboard loom. \nDates: \nClub meets 3:00 – 4:30 on select Saturdays.
URL:https://welcometohydepark.com/event/friendship-bracelet-club-2/2026-05-16/
LOCATION:Fiber Friends Studios\, Inc.\, 1744 E 55th Street\, Chicago\, 60615
CATEGORIES:Art/Arts & Crafts,Educational/Class,Family Fun
ATTACH;FMTTYPE=image/png:https://welcometohydepark.com/wp-content/uploads/2026/04/Friendship-Bracelets.png
ORGANIZER;CN="Fiber Friends Studios%2C Inc.":MAILTO:tina@FiberFriendsStudios.com
END:VEVENT
BEGIN:VEVENT
DTSTART;TZID=America/Chicago:20260517T130000
DTEND;TZID=America/Chicago:20260517T140000
DTSTAMP:20260424T111143
CREATED:20260303T171755Z
LAST-MODIFIED:20260303T172149Z
UID:10007887-1779022800-1779026400@welcometohydepark.com
SUMMARY:Barnes & Noble Children's Storytime - Sunday Afternoons
DESCRIPTION:Barnes & Noble Children’s Storytime – Sunday Afternoons \nJoin us for storytime in the Barnes & Noble kids’ department!
URL:https://welcometohydepark.com/event/barnes-noble-childrens-storytime-sunday-afternoons/2026-05-17/
LOCATION:Barnes & Noble\, 1524 E. 55th Street\, Chicago\, IL\, 60615\, United States
CATEGORIES:Community,Family Fun,Lecture/Literary/Book Signing/Storytime
ATTACH;FMTTYPE=image/jpeg:https://welcometohydepark.com/wp-content/uploads/2026/03/30208_Events_StoryTime.jpg
ORGANIZER;CN="Barnes & Noble":MAILTO:crm3581@bn.com
END:VEVENT
BEGIN:VEVENT
DTSTART;TZID=America/Chicago:20260521T103000
DTEND;TZID=America/Chicago:20260521T113000
DTSTAMP:20260424T111143
CREATED:20260303T171339Z
LAST-MODIFIED:20260303T171339Z
UID:10007866-1779359400-1779363000@welcometohydepark.com
SUMMARY:Barnes & Noble Children's Storytime - Thursday Mornings
DESCRIPTION:Barnes & Noble Children’s Storytime – Thursday Mornings \nJoin us for storytime in the Barnes & Noble kids’ department!
URL:https://welcometohydepark.com/event/barnes-noble-childrens-storytime-thursday-mornings/2026-05-21/
LOCATION:Barnes & Noble\, 1524 E. 55th Street\, Chicago\, IL\, 60615\, United States
CATEGORIES:Community,Family Fun,Lecture/Literary/Book Signing/Storytime
ATTACH;FMTTYPE=image/jpeg:https://welcometohydepark.com/wp-content/uploads/2026/03/30208_Events_StoryTime.jpg
ORGANIZER;CN="Barnes & Noble":MAILTO:crm3581@bn.com
END:VEVENT
BEGIN:VEVENT
DTSTART;TZID=America/Chicago:20260523T133000
DTEND;TZID=America/Chicago:20260523T150000
DTSTAMP:20260424T111143
CREATED:20260401T223420Z
LAST-MODIFIED:20260402T160350Z
UID:10008075-1779543000-1779548400@welcometohydepark.com
SUMMARY:Woobles Club
DESCRIPTION:Woobles Club \nKids aged 7 to 18 are welcome to join Woobles Club\, a place where they can learn\, get some help\, or just hang out with other Wooblers! Karla Ocampo is leading the club\, and she’s all about keeping kids engaged and inspired to finish their Woobles. \nWooble kits are sold separately and aren’t included in the club fee. Kits can be purchased at the time of the class. Don’t forget to bring a water bottle and a small snack (nothing with nuts\, please). \nLevel:  Beginner. No experience necessary \nPre-requisites: Ages 7 – 18 \nDates: \nClub meets 1:30 – 3:00 on select Saturdays.
URL:https://welcometohydepark.com/event/woobles-club-2/2026-05-23/
LOCATION:Fiber Friends Studios\, Inc.\, 1744 E 55th Street\, Chicago\, 60615
CATEGORIES:Art/Arts & Crafts,Educational/Class,Family Fun
ATTACH;FMTTYPE=image/png:https://welcometohydepark.com/wp-content/uploads/2026/04/Woobles.png
ORGANIZER;CN="Fiber Friends Studios%2C Inc.":MAILTO:tina@FiberFriendsStudios.com
END:VEVENT
BEGIN:VEVENT
DTSTART;TZID=America/Chicago:20260523T150000
DTEND;TZID=America/Chicago:20260523T163000
DTSTAMP:20260424T111143
CREATED:20260401T222833Z
LAST-MODIFIED:20260402T160440Z
UID:10008068-1779548400-1779553800@welcometohydepark.com
SUMMARY:Friendship Bracelet Club
DESCRIPTION:Friendship Bracelet Club \nKids aged 7 to 18 are welcome to join Friendship Bracelet Club\, a place where they can learn\, get some help\, or make! Karla Ocampo is leading the club\, and she’s all about keeping kids engaged and inspired to make friendship bracelets. \nKids can choose 3-4 DMC threads included in the class cost. Don’t forget to bring a water bottle and a small snack (nothing with nuts\, please). \nLevel:  Beginner. No experience necessary \nPre-requisites: Ages 7 – 18 \nIncluded in class:  \nKids can choose 3-4 DMC threads and a cardboard loom. \nDates: \nClub meets 3:00 – 4:30 on select Saturdays.
URL:https://welcometohydepark.com/event/friendship-bracelet-club-2/2026-05-23/
LOCATION:Fiber Friends Studios\, Inc.\, 1744 E 55th Street\, Chicago\, 60615
CATEGORIES:Art/Arts & Crafts,Educational/Class,Family Fun
ATTACH;FMTTYPE=image/png:https://welcometohydepark.com/wp-content/uploads/2026/04/Friendship-Bracelets.png
ORGANIZER;CN="Fiber Friends Studios%2C Inc.":MAILTO:tina@FiberFriendsStudios.com
END:VEVENT
BEGIN:VEVENT
DTSTART;TZID=America/Chicago:20260524T130000
DTEND;TZID=America/Chicago:20260524T140000
DTSTAMP:20260424T111143
CREATED:20260303T171755Z
LAST-MODIFIED:20260303T172149Z
UID:10007888-1779627600-1779631200@welcometohydepark.com
SUMMARY:Barnes & Noble Children's Storytime - Sunday Afternoons
DESCRIPTION:Barnes & Noble Children’s Storytime – Sunday Afternoons \nJoin us for storytime in the Barnes & Noble kids’ department!
URL:https://welcometohydepark.com/event/barnes-noble-childrens-storytime-sunday-afternoons/2026-05-24/
LOCATION:Barnes & Noble\, 1524 E. 55th Street\, Chicago\, IL\, 60615\, United States
CATEGORIES:Community,Family Fun,Lecture/Literary/Book Signing/Storytime
ATTACH;FMTTYPE=image/jpeg:https://welcometohydepark.com/wp-content/uploads/2026/03/30208_Events_StoryTime.jpg
ORGANIZER;CN="Barnes & Noble":MAILTO:crm3581@bn.com
END:VEVENT
BEGIN:VEVENT
DTSTART;TZID=America/Chicago:20260528T103000
DTEND;TZID=America/Chicago:20260528T113000
DTSTAMP:20260424T111143
CREATED:20260303T171339Z
LAST-MODIFIED:20260303T171339Z
UID:10007867-1779964200-1779967800@welcometohydepark.com
SUMMARY:Barnes & Noble Children's Storytime - Thursday Mornings
DESCRIPTION:Barnes & Noble Children’s Storytime – Thursday Mornings \nJoin us for storytime in the Barnes & Noble kids’ department!
URL:https://welcometohydepark.com/event/barnes-noble-childrens-storytime-thursday-mornings/2026-05-28/
LOCATION:Barnes & Noble\, 1524 E. 55th Street\, Chicago\, IL\, 60615\, United States
CATEGORIES:Community,Family Fun,Lecture/Literary/Book Signing/Storytime
ATTACH;FMTTYPE=image/jpeg:https://welcometohydepark.com/wp-content/uploads/2026/03/30208_Events_StoryTime.jpg
ORGANIZER;CN="Barnes & Noble":MAILTO:crm3581@bn.com
END:VEVENT
BEGIN:VEVENT
DTSTART;TZID=America/Chicago:20260531T130000
DTEND;TZID=America/Chicago:20260531T140000
DTSTAMP:20260424T111143
CREATED:20260303T171755Z
LAST-MODIFIED:20260303T172149Z
UID:10007889-1780232400-1780236000@welcometohydepark.com
SUMMARY:Barnes & Noble Children's Storytime - Sunday Afternoons
DESCRIPTION:Barnes & Noble Children’s Storytime – Sunday Afternoons \nJoin us for storytime in the Barnes & Noble kids’ department!
URL:https://welcometohydepark.com/event/barnes-noble-childrens-storytime-sunday-afternoons/2026-05-31/
LOCATION:Barnes & Noble\, 1524 E. 55th Street\, Chicago\, IL\, 60615\, United States
CATEGORIES:Community,Family Fun,Lecture/Literary/Book Signing/Storytime
ATTACH;FMTTYPE=image/jpeg:https://welcometohydepark.com/wp-content/uploads/2026/03/30208_Events_StoryTime.jpg
ORGANIZER;CN="Barnes & Noble":MAILTO:crm3581@bn.com
END:VEVENT
BEGIN:VEVENT
DTSTART;TZID=America/Chicago:20260607T130000
DTEND;TZID=America/Chicago:20260607T140000
DTSTAMP:20260424T111143
CREATED:20260303T171755Z
LAST-MODIFIED:20260303T172149Z
UID:10007890-1780837200-1780840800@welcometohydepark.com
SUMMARY:Barnes & Noble Children's Storytime - Sunday Afternoons
DESCRIPTION:Barnes & Noble Children’s Storytime – Sunday Afternoons \nJoin us for storytime in the Barnes & Noble kids’ department!
URL:https://welcometohydepark.com/event/barnes-noble-childrens-storytime-sunday-afternoons/2026-06-07/
LOCATION:Barnes & Noble\, 1524 E. 55th Street\, Chicago\, IL\, 60615\, United States
CATEGORIES:Community,Family Fun,Lecture/Literary/Book Signing/Storytime
ATTACH;FMTTYPE=image/jpeg:https://welcometohydepark.com/wp-content/uploads/2026/03/30208_Events_StoryTime.jpg
ORGANIZER;CN="Barnes & Noble":MAILTO:crm3581@bn.com
END:VEVENT
BEGIN:VEVENT
DTSTART;TZID=America/Chicago:20260614T130000
DTEND;TZID=America/Chicago:20260614T140000
DTSTAMP:20260424T111143
CREATED:20260303T171755Z
LAST-MODIFIED:20260303T172149Z
UID:10007891-1781442000-1781445600@welcometohydepark.com
SUMMARY:Barnes & Noble Children's Storytime - Sunday Afternoons
DESCRIPTION:Barnes & Noble Children’s Storytime – Sunday Afternoons \nJoin us for storytime in the Barnes & Noble kids’ department!
URL:https://welcometohydepark.com/event/barnes-noble-childrens-storytime-sunday-afternoons/2026-06-14/
LOCATION:Barnes & Noble\, 1524 E. 55th Street\, Chicago\, IL\, 60615\, United States
CATEGORIES:Community,Family Fun,Lecture/Literary/Book Signing/Storytime
ATTACH;FMTTYPE=image/jpeg:https://welcometohydepark.com/wp-content/uploads/2026/03/30208_Events_StoryTime.jpg
ORGANIZER;CN="Barnes & Noble":MAILTO:crm3581@bn.com
END:VEVENT
BEGIN:VEVENT
DTSTART;TZID=America/Chicago:20260620T133000
DTEND;TZID=America/Chicago:20260620T150000
DTSTAMP:20260424T111143
CREATED:20260401T223420Z
LAST-MODIFIED:20260402T160350Z
UID:10008076-1781962200-1781967600@welcometohydepark.com
SUMMARY:Woobles Club
DESCRIPTION:Woobles Club \nKids aged 7 to 18 are welcome to join Woobles Club\, a place where they can learn\, get some help\, or just hang out with other Wooblers! Karla Ocampo is leading the club\, and she’s all about keeping kids engaged and inspired to finish their Woobles. \nWooble kits are sold separately and aren’t included in the club fee. Kits can be purchased at the time of the class. Don’t forget to bring a water bottle and a small snack (nothing with nuts\, please). \nLevel:  Beginner. No experience necessary \nPre-requisites: Ages 7 – 18 \nDates: \nClub meets 1:30 – 3:00 on select Saturdays.
URL:https://welcometohydepark.com/event/woobles-club-2/2026-06-20/
LOCATION:Fiber Friends Studios\, Inc.\, 1744 E 55th Street\, Chicago\, 60615
CATEGORIES:Art/Arts & Crafts,Educational/Class,Family Fun
ATTACH;FMTTYPE=image/png:https://welcometohydepark.com/wp-content/uploads/2026/04/Woobles.png
ORGANIZER;CN="Fiber Friends Studios%2C Inc.":MAILTO:tina@FiberFriendsStudios.com
END:VEVENT
BEGIN:VEVENT
DTSTART;TZID=America/Chicago:20260620T150000
DTEND;TZID=America/Chicago:20260620T163000
DTSTAMP:20260424T111143
CREATED:20260401T222833Z
LAST-MODIFIED:20260402T160440Z
UID:10008069-1781967600-1781973000@welcometohydepark.com
SUMMARY:Friendship Bracelet Club
DESCRIPTION:Friendship Bracelet Club \nKids aged 7 to 18 are welcome to join Friendship Bracelet Club\, a place where they can learn\, get some help\, or make! Karla Ocampo is leading the club\, and she’s all about keeping kids engaged and inspired to make friendship bracelets. \nKids can choose 3-4 DMC threads included in the class cost. Don’t forget to bring a water bottle and a small snack (nothing with nuts\, please). \nLevel:  Beginner. No experience necessary \nPre-requisites: Ages 7 – 18 \nIncluded in class:  \nKids can choose 3-4 DMC threads and a cardboard loom. \nDates: \nClub meets 3:00 – 4:30 on select Saturdays.
URL:https://welcometohydepark.com/event/friendship-bracelet-club-2/2026-06-20/
LOCATION:Fiber Friends Studios\, Inc.\, 1744 E 55th Street\, Chicago\, 60615
CATEGORIES:Art/Arts & Crafts,Educational/Class,Family Fun
ATTACH;FMTTYPE=image/png:https://welcometohydepark.com/wp-content/uploads/2026/04/Friendship-Bracelets.png
ORGANIZER;CN="Fiber Friends Studios%2C Inc.":MAILTO:tina@FiberFriendsStudios.com
END:VEVENT
BEGIN:VEVENT
DTSTART;TZID=America/Chicago:20260621T130000
DTEND;TZID=America/Chicago:20260621T140000
DTSTAMP:20260424T111143
CREATED:20260303T171755Z
LAST-MODIFIED:20260303T172149Z
UID:10007892-1782046800-1782050400@welcometohydepark.com
SUMMARY:Barnes & Noble Children's Storytime - Sunday Afternoons
DESCRIPTION:Barnes & Noble Children’s Storytime – Sunday Afternoons \nJoin us for storytime in the Barnes & Noble kids’ department!
URL:https://welcometohydepark.com/event/barnes-noble-childrens-storytime-sunday-afternoons/2026-06-21/
LOCATION:Barnes & Noble\, 1524 E. 55th Street\, Chicago\, IL\, 60615\, United States
CATEGORIES:Community,Family Fun,Lecture/Literary/Book Signing/Storytime
ATTACH;FMTTYPE=image/jpeg:https://welcometohydepark.com/wp-content/uploads/2026/03/30208_Events_StoryTime.jpg
ORGANIZER;CN="Barnes & Noble":MAILTO:crm3581@bn.com
END:VEVENT
BEGIN:VEVENT
DTSTART;TZID=America/Chicago:20260627T133000
DTEND;TZID=America/Chicago:20260627T150000
DTSTAMP:20260424T111143
CREATED:20260401T223420Z
LAST-MODIFIED:20260402T160350Z
UID:10008077-1782567000-1782572400@welcometohydepark.com
SUMMARY:Woobles Club
DESCRIPTION:Woobles Club \nKids aged 7 to 18 are welcome to join Woobles Club\, a place where they can learn\, get some help\, or just hang out with other Wooblers! Karla Ocampo is leading the club\, and she’s all about keeping kids engaged and inspired to finish their Woobles. \nWooble kits are sold separately and aren’t included in the club fee. Kits can be purchased at the time of the class. Don’t forget to bring a water bottle and a small snack (nothing with nuts\, please). \nLevel:  Beginner. No experience necessary \nPre-requisites: Ages 7 – 18 \nDates: \nClub meets 1:30 – 3:00 on select Saturdays.
URL:https://welcometohydepark.com/event/woobles-club-2/2026-06-27/
LOCATION:Fiber Friends Studios\, Inc.\, 1744 E 55th Street\, Chicago\, 60615
CATEGORIES:Art/Arts & Crafts,Educational/Class,Family Fun
ATTACH;FMTTYPE=image/png:https://welcometohydepark.com/wp-content/uploads/2026/04/Woobles.png
ORGANIZER;CN="Fiber Friends Studios%2C Inc.":MAILTO:tina@FiberFriendsStudios.com
END:VEVENT
BEGIN:VEVENT
DTSTART;TZID=America/Chicago:20260627T150000
DTEND;TZID=America/Chicago:20260627T163000
DTSTAMP:20260424T111143
CREATED:20260401T222833Z
LAST-MODIFIED:20260402T160440Z
UID:10008070-1782572400-1782577800@welcometohydepark.com
SUMMARY:Friendship Bracelet Club
DESCRIPTION:Friendship Bracelet Club \nKids aged 7 to 18 are welcome to join Friendship Bracelet Club\, a place where they can learn\, get some help\, or make! Karla Ocampo is leading the club\, and she’s all about keeping kids engaged and inspired to make friendship bracelets. \nKids can choose 3-4 DMC threads included in the class cost. Don’t forget to bring a water bottle and a small snack (nothing with nuts\, please). \nLevel:  Beginner. No experience necessary \nPre-requisites: Ages 7 – 18 \nIncluded in class:  \nKids can choose 3-4 DMC threads and a cardboard loom. \nDates: \nClub meets 3:00 – 4:30 on select Saturdays.
URL:https://welcometohydepark.com/event/friendship-bracelet-club-2/2026-06-27/
LOCATION:Fiber Friends Studios\, Inc.\, 1744 E 55th Street\, Chicago\, 60615
CATEGORIES:Art/Arts & Crafts,Educational/Class,Family Fun
ATTACH;FMTTYPE=image/png:https://welcometohydepark.com/wp-content/uploads/2026/04/Friendship-Bracelets.png
ORGANIZER;CN="Fiber Friends Studios%2C Inc.":MAILTO:tina@FiberFriendsStudios.com
END:VEVENT
END:VCALENDAR