BEGIN:VCALENDAR
VERSION:2.0
PRODID:-//Welcome To Hyde Park - ECPv6.15.20//NONSGML v1.0//EN
CALSCALE:GREGORIAN
METHOD:PUBLISH
X-WR-CALNAME:Welcome To Hyde Park
X-ORIGINAL-URL:https://welcometohydepark.com
X-WR-CALDESC:Events for Welcome To Hyde Park
REFRESH-INTERVAL;VALUE=DURATION:PT1H
X-Robots-Tag:noindex
X-PUBLISHED-TTL:PT1H
BEGIN:VTIMEZONE
TZID:America/Chicago
BEGIN:DAYLIGHT
TZOFFSETFROM:-0600
TZOFFSETTO:-0500
TZNAME:CDT
DTSTART:20240310T080000
END:DAYLIGHT
BEGIN:STANDARD
TZOFFSETFROM:-0500
TZOFFSETTO:-0600
TZNAME:CST
DTSTART:20241103T070000
END:STANDARD
BEGIN:DAYLIGHT
TZOFFSETFROM:-0600
TZOFFSETTO:-0500
TZNAME:CDT
DTSTART:20250309T080000
END:DAYLIGHT
BEGIN:STANDARD
TZOFFSETFROM:-0500
TZOFFSETTO:-0600
TZNAME:CST
DTSTART:20251102T070000
END:STANDARD
BEGIN:DAYLIGHT
TZOFFSETFROM:-0600
TZOFFSETTO:-0500
TZNAME:CDT
DTSTART:20260308T080000
END:DAYLIGHT
BEGIN:STANDARD
TZOFFSETFROM:-0500
TZOFFSETTO:-0600
TZNAME:CST
DTSTART:20261101T070000
END:STANDARD
END:VTIMEZONE
BEGIN:VEVENT
DTSTART;TZID=America/Chicago:20250724T180000
DTEND;TZID=America/Chicago:20250724T210000
DTSTAMP:20260421T214237
CREATED:20250121T215559Z
LAST-MODIFIED:20250527T161959Z
UID:10005380-1753380000-1753390800@welcometohydepark.com
SUMMARY:All That Jazz Dinner Series - Mesler
DESCRIPTION:All That Jazz Dinner Series – Mesler \nJoin Mesler for a monthly jazz series\, All That Jazz\, on Thursday evenings from 6-9 p.m. The events are scheduled for the 4th Thursday of each month with the exception of Friday\, Feb 14th\, and the November and December events are both on the 3rd Thursday due to the holidays.  Reservations are required. Cover charge $20 per person (dinner not included). Enjoy the full Mesler menu available for purchase. \n\nNeed to Know \nParking is not available on-site\, and tickets are non-refundable. Please note that seating durations are limited to 90 minutes. \nSet times: 6:45 p.m. – 7:30 & 8 p.m. – 8:45 p.m. \nThere is a $100 food and beverage minimum. \n\n\nAbout\nJoin us for our monthly “All That Jazz” series. Ticket includes seating and access to the event. \nMesler dinner and cocktail menu will be available. Click HERE for tickets. \n\nThursday\, January 23 – Joyce Hurley \nFriday\, February 14 – Honeywater \nThursday\, March 27 – Joyce Hurley \nThursday\, April 24 – Tim Gant Project \nThursday\, May 22 – Tim Gant Project \nThursday\, June 26 – Marqueal Jordan & Amr Fahmy \nThursday\, July 24 – Marqueal Jordan & Amr Fahmy \nThursday\, August 28 – The Chris Miskel Trio \nThursday\, September 25 – The Chris Miskel Trio \nThursday\, October 23 – Kiki & Trio \nThursday\, November 20 – The Alec Trio \nThursday\, December 18 – The Alec Trio \n  \n 
URL:https://welcometohydepark.com/event/all-that-jazz-dinner-series-mesler/2025-07-24/
LOCATION:Mesler Kitchen | Bar | Lounge\, 1411 E. 53rd Street\, Chicago\, IL\, 60615\, United States
CATEGORIES:Concert/Live Music/DJ/Karoke,Dining
ATTACH;FMTTYPE=image/png:https://welcometohydepark.com/wp-content/uploads/2025/01/All-That-Jazz-Event-Lineup-Master.png
END:VEVENT
BEGIN:VEVENT
DTSTART;TZID=America/Chicago:20250724T180000
DTEND;TZID=America/Chicago:20250724T200000
DTSTAMP:20260421T214237
CREATED:20250702T154344Z
LAST-MODIFIED:20250702T163650Z
UID:10006651-1753380000-1753387200@welcometohydepark.com
SUMMARY:DuSummer Thursdays Outdoor Music Series
DESCRIPTION:DuSummer Thursdays Outdoor Music Series \nJoin us for a summer of unforgettable sounds at the DuSummer Thursdays Outdoor Music Series at the DuSable Museum! From jazz to soul and everything in between\, enjoy an exciting lineup of Chicago’s finest talent—live and outdoors on the Roundhouse Plaza.  \nDoors open at 5:00 PM\nShow starts at 6:00 PM\nFree Admission  Register Here  \nPerformance Lineup:  \n\nJune 26 – Josiah Maddox\, Ox Jam\, and Vince Adams \nJuly 10 – Thaddeus Tukes \nJuly 24 – Hector Silveira \nAugust 7 – Joyce Hurley with Park and Ride \nAugust 21 – Simone Green \nSeptember 7 – Marqueal Jordan \nSeptember 18 – The J Grant Experience \n\nLet the music move you this summer at DuSable! 
URL:https://welcometohydepark.com/event/dusummer-thursdays-outdoor-music-series/2025-07-24/
LOCATION:The DuSable Black History Museum and Education Center\, 740 E. 56th Place\, Chicago\, IL\, 60637\, United States
CATEGORIES:Community,Concert/Live Music/DJ/Karoke,Free
ATTACH;FMTTYPE=image/jpeg:https://welcometohydepark.com/wp-content/uploads/2025/07/DuSummer-2025-1080X1080-SOCIAL-1.jpeg
END:VEVENT
BEGIN:VEVENT
DTSTART;TZID=America/Chicago:20250724T130000
DTEND;TZID=America/Chicago:20250724T170000
DTSTAMP:20260421T214237
CREATED:20250320T152917Z
LAST-MODIFIED:20250320T152917Z
UID:10005924-1753362000-1753376400@welcometohydepark.com
SUMMARY:the undercommons : New Work by Brandon Carlton
DESCRIPTION:Arts + Public Life presents the undercommons\, the first solo exhibition by painter Brandon Carlton. The exhibition explores the complexities of contemporary Black life through Carlton’s distinct approach to stylized figuration. Drawing influence from Alex Katz\, David Hockney\, and Jordan Casteel\, his work engages with portraiture and spatial composition to evoke intimacy\, distance\, presence\, and longing. \nCarlton’s paintings consider the undercommons as a site of fugitive sociality—an ungovernable space where collective life unfolds beyond dominant structures. His figures occupy liminal environments\, neither fully contained nor entirely free\, reflecting a continuous negotiation of belonging\, agency\, and historical memory. Inspired by Casteel’s attention to everyday Black life and the layered surfaces of Katz and Hockney\, Carlton’s work reimagines the aesthetics of presence\, using gesture\, color\, and space to suggest ways of seeing and being that resist fixed narratives.
URL:https://welcometohydepark.com/event/the-undercommons-new-work-by-brandon-carlton/2025-07-24/
LOCATION:UChicago Arts Incubator\, 301 E. Garfield Boulevard\, Chicago\, IL\, 60637\, United States
ATTACH;FMTTYPE=image/png:https://welcometohydepark.com/wp-content/uploads/2025/03/BrandonCarltonNewCityAdIGSIZE1-2.png
ORGANIZER;CN="UChicago Arts + Public Life":MAILTO:artsandpubliclife@uchicago.edu
END:VEVENT
BEGIN:VEVENT
DTSTART;TZID=America/Chicago:20250723T190000
DTEND;TZID=America/Chicago:20250723T213000
DTSTAMP:20260421T214237
CREATED:20250623T152734Z
LAST-MODIFIED:20250623T152734Z
UID:10006571-1753297200-1753306200@welcometohydepark.com
SUMMARY:Movies on the Midway - Inside Out 2
DESCRIPTION:Movies on the Midway – Inside Out 2 \nThe UChicago Office of Civic Engagement is teaming up with the Chicago Park District again this summer for the annual Movies on the Midway summer movie series. On Wednesdays beginning July 9\, attendees will enjoy a slate of family-friendly films and themed activities at 1130 Midway Plaisance\, between Ellis and University Avenues. Activities take place beginning at 7 p.m.\, and movies start at sunset. \nThis year’s series has five blockbuster hits you won’t want to miss. Grab a friend\, grab some chairs\, and come enjoy this summer classic. The series is set to run through August 9\, with August 16 held as a rain date. \nJuly 23: Inside Out 2 \nHow are you feeling today? Express your emotions by using colorful beads that reflect your mood to create a custom-made bracelet with the Hyde Park Art Center. Wear it proudly during the movie—your feelings deserve the spotlight! \nJuly 30: Minecraft \nCraft your character—IRL—with the Hyde Park Art Center! Create your own pixel-perfect cardboard face using mini squares of colored paper. Whether it’s you or your favorite Minecraft avatar\, your masterpiece becomes a mask to wear as you wait for the adventure to begin! \nAugust 6: Wicked \nGet swept up in the magic before the movie even starts! Enjoy a dazzling dance performance by the Hyde Park School of Dance and then jump into a mini-musical theater workshop. It’s your chance to sing\, move\, and feel a little “Popular” before the lights go down.
URL:https://welcometohydepark.com/event/movies-on-the-midway-inside-out-2/
LOCATION:Midway Plaisance
CATEGORIES:Community,Family Fun,Film,Free
ATTACH;FMTTYPE=image/jpeg:https://welcometohydepark.com/wp-content/uploads/2025/06/july-23-inside-out-2.jpg
END:VEVENT
BEGIN:VEVENT
DTSTART;TZID=America/Chicago:20250723T110000
DTEND;TZID=America/Chicago:20250723T150000
DTSTAMP:20260421T214237
CREATED:20250204T161708Z
LAST-MODIFIED:20260218T205659Z
UID:10004426-1753268400-1753282800@welcometohydepark.com
SUMMARY:Committed Knitters
DESCRIPTION:Committed Knitters\nCommitted Knitters meets bi-weekly at the Arts Incubator Flex Space for a cozy\, creative gathering open to all skill levels. \nCommitted Knitters invites you to our bi-weekly gatherings at the Arts Incubator Flex Space. Whether you’re a longtime knitter or picking up needles for the very first time\, you’re welcome here. Come spend time in community\, exchange ideas\, and make steady progress on your projects in a relaxed\, creative setting. \nSupplies are provided—just bring yourself. \nDrop in anytime. \nRegistration is not required\, but encouraged to receive email updates and reminders about the other dates in this series.
URL:https://welcometohydepark.com/event/committed-knitters-2/2025-07-23/
LOCATION:UChicago Arts Incubator\, 301 E. Garfield Boulevard\, Chicago\, IL\, 60637\, United States
CATEGORIES:Art/Arts & Crafts,Community,Free
ATTACH;FMTTYPE=image/png:https://welcometohydepark.com/wp-content/uploads/2025/02/Screenshot-2026-02-18-at-2.51.06-PM.png
ORGANIZER;CN="UChicago Arts + Public Life":MAILTO:artsandpubliclife@uchicago.edu
END:VEVENT
BEGIN:VEVENT
DTSTART;VALUE=DATE:20250722
DTEND;VALUE=DATE:20250723
DTSTAMP:20260421T214237
CREATED:20250313T195940Z
LAST-MODIFIED:20250313T200246Z
UID:10005706-1753142400-1753228799@welcometohydepark.com
SUMMARY:Six Dollar Tuesdays at ACX Harper Theater
DESCRIPTION:Six Dollar Tuesdays at ACX Harper Theater \nDon’t miss $6 Tuesdays at the ACX Harper Theater in Hyde Park! \nMovie tickets are just $6/person and a small soft drink\, small popcorn\, or hotdog are just $3 each. \nVisit the ACX Harper Theater at 5238 S. Harper Avenue. Check showtimes HERE.
URL:https://welcometohydepark.com/event/six-dollar-tuesdays-at-acx-harper-theater/2025-07-22/
LOCATION:Harper Theater\, 5238 S. Harper Avenue\, Chicago\, IL\, 60615\, United States
CATEGORIES:Film
ATTACH;FMTTYPE=image/png:https://welcometohydepark.com/wp-content/uploads/2025/03/Screenshot-2025-03-13-at-2.50.17 PM.png
END:VEVENT
END:VCALENDAR