BEGIN:VCALENDAR
VERSION:2.0
PRODID:-//Welcome To Hyde Park - ECPv6.15.20//NONSGML v1.0//EN
CALSCALE:GREGORIAN
METHOD:PUBLISH
X-WR-CALNAME:Welcome To Hyde Park
X-ORIGINAL-URL:https://welcometohydepark.com
X-WR-CALDESC:Events for Welcome To Hyde Park
REFRESH-INTERVAL;VALUE=DURATION:PT1H
X-Robots-Tag:noindex
X-PUBLISHED-TTL:PT1H
BEGIN:VTIMEZONE
TZID:America/Chicago
BEGIN:DAYLIGHT
TZOFFSETFROM:-0600
TZOFFSETTO:-0500
TZNAME:CDT
DTSTART:20250309T080000
END:DAYLIGHT
BEGIN:STANDARD
TZOFFSETFROM:-0500
TZOFFSETTO:-0600
TZNAME:CST
DTSTART:20251102T070000
END:STANDARD
BEGIN:DAYLIGHT
TZOFFSETFROM:-0600
TZOFFSETTO:-0500
TZNAME:CDT
DTSTART:20260308T080000
END:DAYLIGHT
BEGIN:STANDARD
TZOFFSETFROM:-0500
TZOFFSETTO:-0600
TZNAME:CST
DTSTART:20261101T070000
END:STANDARD
BEGIN:DAYLIGHT
TZOFFSETFROM:-0600
TZOFFSETTO:-0500
TZNAME:CDT
DTSTART:20270314T080000
END:DAYLIGHT
BEGIN:STANDARD
TZOFFSETFROM:-0500
TZOFFSETTO:-0600
TZNAME:CST
DTSTART:20271107T070000
END:STANDARD
END:VTIMEZONE
BEGIN:VEVENT
DTSTART;TZID=America/Chicago:20260530T130000
DTEND;TZID=America/Chicago:20260530T160000
DTSTAMP:20260420T141339
CREATED:20260401T221237Z
LAST-MODIFIED:20260402T160601Z
UID:10008006-1780146000-1780156800@welcometohydepark.com
SUMMARY:Visible Mending
DESCRIPTION:Visible Mending \nTurn a flaw into a feature with visible mending. Bring one or two items (shirts\, jeans\, bags\, whatever!) and repair them in class. Students will receive a demonstration of basic mending techniques such as patching\, darning\, sewing a button\, and basic embroidery stitches. \nLevel:  Beginner. All skill levels \nPre-requisites: None\, but basic sewing and embroidery skills will come in handy. Ages 15+. \nIncluded in class: A simple starter kit – one card of sashiko thread (to be chosen in class)\, one variety pack of sewing needles\, sewing thread\, pins\, and instructions. \nWhat to bring: One or two items to repair\, scrap fabric for patches\, pins\, a thimble\, and any thread/floss you already have and like to use. Materials can be purchased during class\, and some will be available for free.
URL:https://welcometohydepark.com/event/visible-mending/2026-05-30/
LOCATION:Fiber Friends Studios\, Inc.\, 1744 E 55th Street\, Chicago\, 60615
CATEGORIES:Art/Arts & Crafts,Educational/Class
ATTACH;FMTTYPE=image/png:https://welcometohydepark.com/wp-content/uploads/2026/04/Visible-Mending.png
ORGANIZER;CN="Fiber Friends Studios%2C Inc.":MAILTO:tina@FiberFriendsStudios.com
END:VEVENT
BEGIN:VEVENT
DTSTART;TZID=America/Chicago:20260721T180000
DTEND;TZID=America/Chicago:20260721T210000
DTSTAMP:20260420T141339
CREATED:20260401T221237Z
LAST-MODIFIED:20260402T160601Z
UID:10008007-1784656800-1784667600@welcometohydepark.com
SUMMARY:Visible Mending
DESCRIPTION:Visible Mending \nTurn a flaw into a feature with visible mending. Bring one or two items (shirts\, jeans\, bags\, whatever!) and repair them in class. Students will receive a demonstration of basic mending techniques such as patching\, darning\, sewing a button\, and basic embroidery stitches. \nLevel:  Beginner. All skill levels \nPre-requisites: None\, but basic sewing and embroidery skills will come in handy. Ages 15+. \nIncluded in class: A simple starter kit – one card of sashiko thread (to be chosen in class)\, one variety pack of sewing needles\, sewing thread\, pins\, and instructions. \nWhat to bring: One or two items to repair\, scrap fabric for patches\, pins\, a thimble\, and any thread/floss you already have and like to use. Materials can be purchased during class\, and some will be available for free.
URL:https://welcometohydepark.com/event/visible-mending/2026-07-21/
LOCATION:Fiber Friends Studios\, Inc.\, 1744 E 55th Street\, Chicago\, 60615
CATEGORIES:Art/Arts & Crafts,Educational/Class
ATTACH;FMTTYPE=image/png:https://welcometohydepark.com/wp-content/uploads/2026/04/Visible-Mending.png
ORGANIZER;CN="Fiber Friends Studios%2C Inc.":MAILTO:tina@FiberFriendsStudios.com
END:VEVENT
END:VCALENDAR