BEGIN:VCALENDAR
VERSION:2.0
PRODID:-//Welcome To Hyde Park - ECPv6.15.20//NONSGML v1.0//EN
CALSCALE:GREGORIAN
METHOD:PUBLISH
X-WR-CALNAME:Welcome To Hyde Park
X-ORIGINAL-URL:https://welcometohydepark.com
X-WR-CALDESC:Events for Welcome To Hyde Park
REFRESH-INTERVAL;VALUE=DURATION:PT1H
X-Robots-Tag:noindex
X-PUBLISHED-TTL:PT1H
BEGIN:VTIMEZONE
TZID:America/Chicago
BEGIN:DAYLIGHT
TZOFFSETFROM:-0600
TZOFFSETTO:-0500
TZNAME:CDT
DTSTART:20240310T080000
END:DAYLIGHT
BEGIN:STANDARD
TZOFFSETFROM:-0500
TZOFFSETTO:-0600
TZNAME:CST
DTSTART:20241103T070000
END:STANDARD
BEGIN:DAYLIGHT
TZOFFSETFROM:-0600
TZOFFSETTO:-0500
TZNAME:CDT
DTSTART:20250309T080000
END:DAYLIGHT
BEGIN:STANDARD
TZOFFSETFROM:-0500
TZOFFSETTO:-0600
TZNAME:CST
DTSTART:20251102T070000
END:STANDARD
BEGIN:DAYLIGHT
TZOFFSETFROM:-0600
TZOFFSETTO:-0500
TZNAME:CDT
DTSTART:20260308T080000
END:DAYLIGHT
BEGIN:STANDARD
TZOFFSETFROM:-0500
TZOFFSETTO:-0600
TZNAME:CST
DTSTART:20261101T070000
END:STANDARD
END:VTIMEZONE
BEGIN:VEVENT
DTSTART;TZID=America/Chicago:20250913T110000
DTEND;TZID=America/Chicago:20250913T120000
DTSTAMP:20260421T180248
CREATED:20250910T155746Z
LAST-MODIFIED:20250910T155746Z
UID:10006959-1757761200-1757764800@welcometohydepark.com
SUMMARY:Destination Discovery Story Time at Griffin Museum of Science and Industry
DESCRIPTION:Join Librarian Megan as she explores the wondrous world of insects and arachnids as part of the Griffin Museum of Science and Industry’s Webs\, Wings and Wonder Bugs. Spin stories\, chirp tunes\, share rhymes in this special story time for our littlest patrons!\n\n\nFor kids 0 to 5 and their caregivers.\n\n\nHow to Attend\nThis event is available in person and online. Only online attendees need to register for the Zoom link. Register here: chi.gov/ddstmsisep\n\n\nAttend in person at the Griffin Museum of Science and Industry Farm Tech Exhibit\n5700 S. DuSable Lake Shore Drive\, Chicago\, IL 60637\n\n\nLearn more here: chi.gov/ddstmsisep\n\n\nAttend online via ZoomOnly one registration per household is needed. You’ll receive an email with a link to the secure Zoom meeting about 24 hours before the meeting. Questions about attending online events? Check out our Events FAQs.\n\n\nAccessibilityNeed sign language interpretation or other accessibility assistance for this event? Please call (312) 747-8184 or email access@chipublib.org to request accommodations. Requests must be made at least 14 business days before the event.
URL:https://welcometohydepark.com/event/destination-discovery-story-time-at-griffin-museum-of-science-and-industry/
LOCATION:Griffin Museum of Science and Industry\, 5700 S. Lake Shore Drive\, Chicago\, 60637\, United States
CATEGORIES:Family Fun,Free
ATTACH;FMTTYPE=image/jpeg:https://welcometohydepark.com/wp-content/uploads/2025/09/destination-discover-story-time.jpg
END:VEVENT
END:VCALENDAR