BEGIN:VCALENDAR
VERSION:2.0
PRODID:-//Welcome To Hyde Park - ECPv6.15.20//NONSGML v1.0//EN
CALSCALE:GREGORIAN
METHOD:PUBLISH
X-ORIGINAL-URL:https://welcometohydepark.com
X-WR-CALDESC:Events for Welcome To Hyde Park
REFRESH-INTERVAL;VALUE=DURATION:PT1H
X-Robots-Tag:noindex
X-PUBLISHED-TTL:PT1H
BEGIN:VTIMEZONE
TZID:America/Chicago
BEGIN:DAYLIGHT
TZOFFSETFROM:-0600
TZOFFSETTO:-0500
TZNAME:CDT
DTSTART:20240310T080000
END:DAYLIGHT
BEGIN:STANDARD
TZOFFSETFROM:-0500
TZOFFSETTO:-0600
TZNAME:CST
DTSTART:20241103T070000
END:STANDARD
BEGIN:DAYLIGHT
TZOFFSETFROM:-0600
TZOFFSETTO:-0500
TZNAME:CDT
DTSTART:20250309T080000
END:DAYLIGHT
BEGIN:STANDARD
TZOFFSETFROM:-0500
TZOFFSETTO:-0600
TZNAME:CST
DTSTART:20251102T070000
END:STANDARD
BEGIN:DAYLIGHT
TZOFFSETFROM:-0600
TZOFFSETTO:-0500
TZNAME:CDT
DTSTART:20260308T080000
END:DAYLIGHT
BEGIN:STANDARD
TZOFFSETFROM:-0500
TZOFFSETTO:-0600
TZNAME:CST
DTSTART:20261101T070000
END:STANDARD
END:VTIMEZONE
BEGIN:VEVENT
DTSTART;TZID=America/Chicago:20251009T190000
DTEND;TZID=America/Chicago:20251009T210000
DTSTAMP:20260421T215906
CREATED:20250930T162954Z
LAST-MODIFIED:20250930T162954Z
UID:10007313-1760036400-1760043600@welcometohydepark.com
SUMMARY:Thursday Lessons: Beginner Lindy Hop + Musicality Workshops!
DESCRIPTION:Join us in Ida Noyes 3rd floor theatre on Thursdays from 7-9 pm for a 3 week lesson series! \nFrom 7-8 pm we will be teaching a beginner Lindy Hop series\, perfect for if you’re new to swing dancing or want to brush up your basics.  \nFrom 8-9 pm we will build upon that foundation with workshops on musicality\, variations\, breaks\, and other social dancing skills.
URL:https://welcometohydepark.com/event/thursday-lessons-beginner-lindy-hop-musicality-workshops/
LOCATION:Ida Noyes Hall\, 1212 E. 59th St\, Chicago\, IL\, 60637\, United States
CATEGORIES:Community,Dance,Free
ATTACH;FMTTYPE=image/jpeg:https://welcometohydepark.com/wp-content/uploads/2025/09/chicago-swing-1.jpg
END:VEVENT
BEGIN:VEVENT
DTSTART;TZID=America/Chicago:20251002T193000
DTEND;TZID=America/Chicago:20251002T230000
DTSTAMP:20260421T215906
CREATED:20250930T155852Z
LAST-MODIFIED:20250930T155852Z
UID:10007306-1759433400-1759446000@welcometohydepark.com
SUMMARY:Java Jive Swing Beginner Lesson + Social Dance
DESCRIPTION:We are having a Java Jive on Thursday\, October 2!\n\nJoin us in Ida Noyes 3rd floor theatre for a beginner lindy hop lesson and then some social dancing!\n\nBeginner Lesson: 7:30pm-8:30pmDJ’d Social Dancing: 8:30pm-11:00pm\n\nThis event is free for all!Students: bring your UCID and you’re good to go!Community members\, please bring your ID and pre-register beforehand with the following link:https://forms.gle/h3jb9qJDEoq66wdK8\n\nHaven’t danced before? Come to the beginner lesson for a crash course that will get you moving! Wear any clothes and shoes you’re comfortable moving in. No partner needed. Feel free to message us with any questions.\n\nA note for community members on Ida Noyes access:UChicago Student Centers have changed access policies for Ida Noyes. While you are still welcome to our events\, AFTER 8 PM DOORS CAN ONLY BE OPENED BY A UCID\, so you may have to wait a few minutes to follow someone else in! Parking on E 59th is free.
URL:https://welcometohydepark.com/event/java-jive-swing-beginner-lesson-social-dance/
LOCATION:Ida Noyes Hall\, 1212 E. 59th St\, Chicago\, IL\, 60637\, United States
CATEGORIES:Community,Dance,Educational/Class,Free
ATTACH;FMTTYPE=image/jpeg:https://welcometohydepark.com/wp-content/uploads/2025/09/chicago-swing.jpg
END:VEVENT
END:VCALENDAR