BEGIN:VCALENDAR
VERSION:2.0
PRODID:-//Welcome To Hyde Park - ECPv6.15.20//NONSGML v1.0//EN
CALSCALE:GREGORIAN
METHOD:PUBLISH
X-WR-CALNAME:Welcome To Hyde Park
X-ORIGINAL-URL:https://welcometohydepark.com
X-WR-CALDESC:Events for Welcome To Hyde Park
REFRESH-INTERVAL;VALUE=DURATION:PT1H
X-Robots-Tag:noindex
X-PUBLISHED-TTL:PT1H
BEGIN:VTIMEZONE
TZID:America/Chicago
BEGIN:DAYLIGHT
TZOFFSETFROM:-0600
TZOFFSETTO:-0500
TZNAME:CDT
DTSTART:20250309T080000
END:DAYLIGHT
BEGIN:STANDARD
TZOFFSETFROM:-0500
TZOFFSETTO:-0600
TZNAME:CST
DTSTART:20251102T070000
END:STANDARD
BEGIN:DAYLIGHT
TZOFFSETFROM:-0600
TZOFFSETTO:-0500
TZNAME:CDT
DTSTART:20260308T080000
END:DAYLIGHT
BEGIN:STANDARD
TZOFFSETFROM:-0500
TZOFFSETTO:-0600
TZNAME:CST
DTSTART:20261101T070000
END:STANDARD
BEGIN:DAYLIGHT
TZOFFSETFROM:-0600
TZOFFSETTO:-0500
TZNAME:CDT
DTSTART:20270314T080000
END:DAYLIGHT
BEGIN:STANDARD
TZOFFSETFROM:-0500
TZOFFSETTO:-0600
TZNAME:CST
DTSTART:20271107T070000
END:STANDARD
END:VTIMEZONE
BEGIN:VEVENT
DTSTART;VALUE=DATE:20260208
DTEND;VALUE=DATE:20260209
DTSTAMP:20260422T200625
CREATED:20260105T191839Z
LAST-MODIFIED:20260105T192137Z
UID:10007563-1770508800-1770595199@welcometohydepark.com
SUMMARY:Chicago Restaurant Week 2026
DESCRIPTION:Chicago Restaurant Week 2026 \nWelcome to the 19th Annual Chicago Restaurant Week! This 17-day celebration of Chicago’s award-winning dining scene is one of the most anticipated culinary events of the year. \nThis year\, diners can enjoy special prix fixe menus for brunch and lunch ($30)\, and dinner ($45 and/or $60) at a record-breaking 500+ restaurants across the city. \nExplore the full list and map of participating restaurants and book your tables before they’re gone! \nParticipating Hyde Park restaurants include: \n14 Parish – 1644 E. 53rd Street ($60 dinner) \nBarDavid – 1201 E. 60th Street ($45 lunch / $60 dinner) \nChemistry – 5121 S. Harper Avenue ($60 dinner) \nDawn – 1642 E. 56th Street ($60 dinner) \nNando’s PERi-PERi – 1447 E. 53rd Street ($45 dinner) \nTruth Be Told -1227 E. 60th Street ($60 dinner) \nVirtue – 1462 E. 53rd Street ($60 dinner)
URL:https://welcometohydepark.com/event/chicago-restaurant-week-2026/2026-02-08/
CATEGORIES:Dining
ATTACH;FMTTYPE=image/png:https://welcometohydepark.com/wp-content/uploads/2026/01/Choose-Chicago-Restaurant-Week-2026.png
END:VEVENT
BEGIN:VEVENT
DTSTART;VALUE=DATE:20260207
DTEND;VALUE=DATE:20260208
DTSTAMP:20260422T200625
CREATED:20260105T191839Z
LAST-MODIFIED:20260105T192137Z
UID:10007562-1770422400-1770508799@welcometohydepark.com
SUMMARY:Chicago Restaurant Week 2026
DESCRIPTION:Chicago Restaurant Week 2026 \nWelcome to the 19th Annual Chicago Restaurant Week! This 17-day celebration of Chicago’s award-winning dining scene is one of the most anticipated culinary events of the year. \nThis year\, diners can enjoy special prix fixe menus for brunch and lunch ($30)\, and dinner ($45 and/or $60) at a record-breaking 500+ restaurants across the city. \nExplore the full list and map of participating restaurants and book your tables before they’re gone! \nParticipating Hyde Park restaurants include: \n14 Parish – 1644 E. 53rd Street ($60 dinner) \nBarDavid – 1201 E. 60th Street ($45 lunch / $60 dinner) \nChemistry – 5121 S. Harper Avenue ($60 dinner) \nDawn – 1642 E. 56th Street ($60 dinner) \nNando’s PERi-PERi – 1447 E. 53rd Street ($45 dinner) \nTruth Be Told -1227 E. 60th Street ($60 dinner) \nVirtue – 1462 E. 53rd Street ($60 dinner)
URL:https://welcometohydepark.com/event/chicago-restaurant-week-2026/2026-02-07/
CATEGORIES:Dining
ATTACH;FMTTYPE=image/png:https://welcometohydepark.com/wp-content/uploads/2026/01/Choose-Chicago-Restaurant-Week-2026.png
END:VEVENT
BEGIN:VEVENT
DTSTART;VALUE=DATE:20260206
DTEND;VALUE=DATE:20260207
DTSTAMP:20260422T200625
CREATED:20260105T191839Z
LAST-MODIFIED:20260105T192137Z
UID:10007561-1770336000-1770422399@welcometohydepark.com
SUMMARY:Chicago Restaurant Week 2026
DESCRIPTION:Chicago Restaurant Week 2026 \nWelcome to the 19th Annual Chicago Restaurant Week! This 17-day celebration of Chicago’s award-winning dining scene is one of the most anticipated culinary events of the year. \nThis year\, diners can enjoy special prix fixe menus for brunch and lunch ($30)\, and dinner ($45 and/or $60) at a record-breaking 500+ restaurants across the city. \nExplore the full list and map of participating restaurants and book your tables before they’re gone! \nParticipating Hyde Park restaurants include: \n14 Parish – 1644 E. 53rd Street ($60 dinner) \nBarDavid – 1201 E. 60th Street ($45 lunch / $60 dinner) \nChemistry – 5121 S. Harper Avenue ($60 dinner) \nDawn – 1642 E. 56th Street ($60 dinner) \nNando’s PERi-PERi – 1447 E. 53rd Street ($45 dinner) \nTruth Be Told -1227 E. 60th Street ($60 dinner) \nVirtue – 1462 E. 53rd Street ($60 dinner)
URL:https://welcometohydepark.com/event/chicago-restaurant-week-2026/2026-02-06/
CATEGORIES:Dining
ATTACH;FMTTYPE=image/png:https://welcometohydepark.com/wp-content/uploads/2026/01/Choose-Chicago-Restaurant-Week-2026.png
END:VEVENT
BEGIN:VEVENT
DTSTART;VALUE=DATE:20260205
DTEND;VALUE=DATE:20260206
DTSTAMP:20260422T200625
CREATED:20260105T191839Z
LAST-MODIFIED:20260105T192137Z
UID:10007560-1770249600-1770335999@welcometohydepark.com
SUMMARY:Chicago Restaurant Week 2026
DESCRIPTION:Chicago Restaurant Week 2026 \nWelcome to the 19th Annual Chicago Restaurant Week! This 17-day celebration of Chicago’s award-winning dining scene is one of the most anticipated culinary events of the year. \nThis year\, diners can enjoy special prix fixe menus for brunch and lunch ($30)\, and dinner ($45 and/or $60) at a record-breaking 500+ restaurants across the city. \nExplore the full list and map of participating restaurants and book your tables before they’re gone! \nParticipating Hyde Park restaurants include: \n14 Parish – 1644 E. 53rd Street ($60 dinner) \nBarDavid – 1201 E. 60th Street ($45 lunch / $60 dinner) \nChemistry – 5121 S. Harper Avenue ($60 dinner) \nDawn – 1642 E. 56th Street ($60 dinner) \nNando’s PERi-PERi – 1447 E. 53rd Street ($45 dinner) \nTruth Be Told -1227 E. 60th Street ($60 dinner) \nVirtue – 1462 E. 53rd Street ($60 dinner)
URL:https://welcometohydepark.com/event/chicago-restaurant-week-2026/2026-02-05/
CATEGORIES:Dining
ATTACH;FMTTYPE=image/png:https://welcometohydepark.com/wp-content/uploads/2026/01/Choose-Chicago-Restaurant-Week-2026.png
END:VEVENT
BEGIN:VEVENT
DTSTART;VALUE=DATE:20260204
DTEND;VALUE=DATE:20260205
DTSTAMP:20260422T200625
CREATED:20260105T191839Z
LAST-MODIFIED:20260105T192137Z
UID:10007559-1770163200-1770249599@welcometohydepark.com
SUMMARY:Chicago Restaurant Week 2026
DESCRIPTION:Chicago Restaurant Week 2026 \nWelcome to the 19th Annual Chicago Restaurant Week! This 17-day celebration of Chicago’s award-winning dining scene is one of the most anticipated culinary events of the year. \nThis year\, diners can enjoy special prix fixe menus for brunch and lunch ($30)\, and dinner ($45 and/or $60) at a record-breaking 500+ restaurants across the city. \nExplore the full list and map of participating restaurants and book your tables before they’re gone! \nParticipating Hyde Park restaurants include: \n14 Parish – 1644 E. 53rd Street ($60 dinner) \nBarDavid – 1201 E. 60th Street ($45 lunch / $60 dinner) \nChemistry – 5121 S. Harper Avenue ($60 dinner) \nDawn – 1642 E. 56th Street ($60 dinner) \nNando’s PERi-PERi – 1447 E. 53rd Street ($45 dinner) \nTruth Be Told -1227 E. 60th Street ($60 dinner) \nVirtue – 1462 E. 53rd Street ($60 dinner)
URL:https://welcometohydepark.com/event/chicago-restaurant-week-2026/2026-02-04/
CATEGORIES:Dining
ATTACH;FMTTYPE=image/png:https://welcometohydepark.com/wp-content/uploads/2026/01/Choose-Chicago-Restaurant-Week-2026.png
END:VEVENT
BEGIN:VEVENT
DTSTART;VALUE=DATE:20260203
DTEND;VALUE=DATE:20260204
DTSTAMP:20260422T200625
CREATED:20260105T191839Z
LAST-MODIFIED:20260105T192137Z
UID:10007558-1770076800-1770163199@welcometohydepark.com
SUMMARY:Chicago Restaurant Week 2026
DESCRIPTION:Chicago Restaurant Week 2026 \nWelcome to the 19th Annual Chicago Restaurant Week! This 17-day celebration of Chicago’s award-winning dining scene is one of the most anticipated culinary events of the year. \nThis year\, diners can enjoy special prix fixe menus for brunch and lunch ($30)\, and dinner ($45 and/or $60) at a record-breaking 500+ restaurants across the city. \nExplore the full list and map of participating restaurants and book your tables before they’re gone! \nParticipating Hyde Park restaurants include: \n14 Parish – 1644 E. 53rd Street ($60 dinner) \nBarDavid – 1201 E. 60th Street ($45 lunch / $60 dinner) \nChemistry – 5121 S. Harper Avenue ($60 dinner) \nDawn – 1642 E. 56th Street ($60 dinner) \nNando’s PERi-PERi – 1447 E. 53rd Street ($45 dinner) \nTruth Be Told -1227 E. 60th Street ($60 dinner) \nVirtue – 1462 E. 53rd Street ($60 dinner)
URL:https://welcometohydepark.com/event/chicago-restaurant-week-2026/2026-02-03/
CATEGORIES:Dining
ATTACH;FMTTYPE=image/png:https://welcometohydepark.com/wp-content/uploads/2026/01/Choose-Chicago-Restaurant-Week-2026.png
END:VEVENT
BEGIN:VEVENT
DTSTART;VALUE=DATE:20260202
DTEND;VALUE=DATE:20260203
DTSTAMP:20260422T200625
CREATED:20260105T191839Z
LAST-MODIFIED:20260105T192137Z
UID:10007557-1769990400-1770076799@welcometohydepark.com
SUMMARY:Chicago Restaurant Week 2026
DESCRIPTION:Chicago Restaurant Week 2026 \nWelcome to the 19th Annual Chicago Restaurant Week! This 17-day celebration of Chicago’s award-winning dining scene is one of the most anticipated culinary events of the year. \nThis year\, diners can enjoy special prix fixe menus for brunch and lunch ($30)\, and dinner ($45 and/or $60) at a record-breaking 500+ restaurants across the city. \nExplore the full list and map of participating restaurants and book your tables before they’re gone! \nParticipating Hyde Park restaurants include: \n14 Parish – 1644 E. 53rd Street ($60 dinner) \nBarDavid – 1201 E. 60th Street ($45 lunch / $60 dinner) \nChemistry – 5121 S. Harper Avenue ($60 dinner) \nDawn – 1642 E. 56th Street ($60 dinner) \nNando’s PERi-PERi – 1447 E. 53rd Street ($45 dinner) \nTruth Be Told -1227 E. 60th Street ($60 dinner) \nVirtue – 1462 E. 53rd Street ($60 dinner)
URL:https://welcometohydepark.com/event/chicago-restaurant-week-2026/2026-02-02/
CATEGORIES:Dining
ATTACH;FMTTYPE=image/png:https://welcometohydepark.com/wp-content/uploads/2026/01/Choose-Chicago-Restaurant-Week-2026.png
END:VEVENT
BEGIN:VEVENT
DTSTART;VALUE=DATE:20260201
DTEND;VALUE=DATE:20260202
DTSTAMP:20260422T200625
CREATED:20260105T191839Z
LAST-MODIFIED:20260105T192137Z
UID:10007556-1769904000-1769990399@welcometohydepark.com
SUMMARY:Chicago Restaurant Week 2026
DESCRIPTION:Chicago Restaurant Week 2026 \nWelcome to the 19th Annual Chicago Restaurant Week! This 17-day celebration of Chicago’s award-winning dining scene is one of the most anticipated culinary events of the year. \nThis year\, diners can enjoy special prix fixe menus for brunch and lunch ($30)\, and dinner ($45 and/or $60) at a record-breaking 500+ restaurants across the city. \nExplore the full list and map of participating restaurants and book your tables before they’re gone! \nParticipating Hyde Park restaurants include: \n14 Parish – 1644 E. 53rd Street ($60 dinner) \nBarDavid – 1201 E. 60th Street ($45 lunch / $60 dinner) \nChemistry – 5121 S. Harper Avenue ($60 dinner) \nDawn – 1642 E. 56th Street ($60 dinner) \nNando’s PERi-PERi – 1447 E. 53rd Street ($45 dinner) \nTruth Be Told -1227 E. 60th Street ($60 dinner) \nVirtue – 1462 E. 53rd Street ($60 dinner)
URL:https://welcometohydepark.com/event/chicago-restaurant-week-2026/2026-02-01/
CATEGORIES:Dining
ATTACH;FMTTYPE=image/png:https://welcometohydepark.com/wp-content/uploads/2026/01/Choose-Chicago-Restaurant-Week-2026.png
END:VEVENT
BEGIN:VEVENT
DTSTART;VALUE=DATE:20260131
DTEND;VALUE=DATE:20260201
DTSTAMP:20260422T200625
CREATED:20260105T191839Z
LAST-MODIFIED:20260105T192137Z
UID:10007555-1769817600-1769903999@welcometohydepark.com
SUMMARY:Chicago Restaurant Week 2026
DESCRIPTION:Chicago Restaurant Week 2026 \nWelcome to the 19th Annual Chicago Restaurant Week! This 17-day celebration of Chicago’s award-winning dining scene is one of the most anticipated culinary events of the year. \nThis year\, diners can enjoy special prix fixe menus for brunch and lunch ($30)\, and dinner ($45 and/or $60) at a record-breaking 500+ restaurants across the city. \nExplore the full list and map of participating restaurants and book your tables before they’re gone! \nParticipating Hyde Park restaurants include: \n14 Parish – 1644 E. 53rd Street ($60 dinner) \nBarDavid – 1201 E. 60th Street ($45 lunch / $60 dinner) \nChemistry – 5121 S. Harper Avenue ($60 dinner) \nDawn – 1642 E. 56th Street ($60 dinner) \nNando’s PERi-PERi – 1447 E. 53rd Street ($45 dinner) \nTruth Be Told -1227 E. 60th Street ($60 dinner) \nVirtue – 1462 E. 53rd Street ($60 dinner)
URL:https://welcometohydepark.com/event/chicago-restaurant-week-2026/2026-01-31/
CATEGORIES:Dining
ATTACH;FMTTYPE=image/png:https://welcometohydepark.com/wp-content/uploads/2026/01/Choose-Chicago-Restaurant-Week-2026.png
END:VEVENT
BEGIN:VEVENT
DTSTART;VALUE=DATE:20260130
DTEND;VALUE=DATE:20260131
DTSTAMP:20260422T200625
CREATED:20260105T191839Z
LAST-MODIFIED:20260105T192137Z
UID:10007554-1769731200-1769817599@welcometohydepark.com
SUMMARY:Chicago Restaurant Week 2026
DESCRIPTION:Chicago Restaurant Week 2026 \nWelcome to the 19th Annual Chicago Restaurant Week! This 17-day celebration of Chicago’s award-winning dining scene is one of the most anticipated culinary events of the year. \nThis year\, diners can enjoy special prix fixe menus for brunch and lunch ($30)\, and dinner ($45 and/or $60) at a record-breaking 500+ restaurants across the city. \nExplore the full list and map of participating restaurants and book your tables before they’re gone! \nParticipating Hyde Park restaurants include: \n14 Parish – 1644 E. 53rd Street ($60 dinner) \nBarDavid – 1201 E. 60th Street ($45 lunch / $60 dinner) \nChemistry – 5121 S. Harper Avenue ($60 dinner) \nDawn – 1642 E. 56th Street ($60 dinner) \nNando’s PERi-PERi – 1447 E. 53rd Street ($45 dinner) \nTruth Be Told -1227 E. 60th Street ($60 dinner) \nVirtue – 1462 E. 53rd Street ($60 dinner)
URL:https://welcometohydepark.com/event/chicago-restaurant-week-2026/2026-01-30/
CATEGORIES:Dining
ATTACH;FMTTYPE=image/png:https://welcometohydepark.com/wp-content/uploads/2026/01/Choose-Chicago-Restaurant-Week-2026.png
END:VEVENT
BEGIN:VEVENT
DTSTART;VALUE=DATE:20260129
DTEND;VALUE=DATE:20260130
DTSTAMP:20260422T200625
CREATED:20260105T191839Z
LAST-MODIFIED:20260105T192137Z
UID:10007553-1769644800-1769731199@welcometohydepark.com
SUMMARY:Chicago Restaurant Week 2026
DESCRIPTION:Chicago Restaurant Week 2026 \nWelcome to the 19th Annual Chicago Restaurant Week! This 17-day celebration of Chicago’s award-winning dining scene is one of the most anticipated culinary events of the year. \nThis year\, diners can enjoy special prix fixe menus for brunch and lunch ($30)\, and dinner ($45 and/or $60) at a record-breaking 500+ restaurants across the city. \nExplore the full list and map of participating restaurants and book your tables before they’re gone! \nParticipating Hyde Park restaurants include: \n14 Parish – 1644 E. 53rd Street ($60 dinner) \nBarDavid – 1201 E. 60th Street ($45 lunch / $60 dinner) \nChemistry – 5121 S. Harper Avenue ($60 dinner) \nDawn – 1642 E. 56th Street ($60 dinner) \nNando’s PERi-PERi – 1447 E. 53rd Street ($45 dinner) \nTruth Be Told -1227 E. 60th Street ($60 dinner) \nVirtue – 1462 E. 53rd Street ($60 dinner)
URL:https://welcometohydepark.com/event/chicago-restaurant-week-2026/2026-01-29/
CATEGORIES:Dining
ATTACH;FMTTYPE=image/png:https://welcometohydepark.com/wp-content/uploads/2026/01/Choose-Chicago-Restaurant-Week-2026.png
END:VEVENT
BEGIN:VEVENT
DTSTART;VALUE=DATE:20260128
DTEND;VALUE=DATE:20260129
DTSTAMP:20260422T200625
CREATED:20260105T191839Z
LAST-MODIFIED:20260105T192137Z
UID:10007552-1769558400-1769644799@welcometohydepark.com
SUMMARY:Chicago Restaurant Week 2026
DESCRIPTION:Chicago Restaurant Week 2026 \nWelcome to the 19th Annual Chicago Restaurant Week! This 17-day celebration of Chicago’s award-winning dining scene is one of the most anticipated culinary events of the year. \nThis year\, diners can enjoy special prix fixe menus for brunch and lunch ($30)\, and dinner ($45 and/or $60) at a record-breaking 500+ restaurants across the city. \nExplore the full list and map of participating restaurants and book your tables before they’re gone! \nParticipating Hyde Park restaurants include: \n14 Parish – 1644 E. 53rd Street ($60 dinner) \nBarDavid – 1201 E. 60th Street ($45 lunch / $60 dinner) \nChemistry – 5121 S. Harper Avenue ($60 dinner) \nDawn – 1642 E. 56th Street ($60 dinner) \nNando’s PERi-PERi – 1447 E. 53rd Street ($45 dinner) \nTruth Be Told -1227 E. 60th Street ($60 dinner) \nVirtue – 1462 E. 53rd Street ($60 dinner)
URL:https://welcometohydepark.com/event/chicago-restaurant-week-2026/2026-01-28/
CATEGORIES:Dining
ATTACH;FMTTYPE=image/png:https://welcometohydepark.com/wp-content/uploads/2026/01/Choose-Chicago-Restaurant-Week-2026.png
END:VEVENT
BEGIN:VEVENT
DTSTART;VALUE=DATE:20260127
DTEND;VALUE=DATE:20260128
DTSTAMP:20260422T200625
CREATED:20260105T191839Z
LAST-MODIFIED:20260105T192137Z
UID:10007551-1769472000-1769558399@welcometohydepark.com
SUMMARY:Chicago Restaurant Week 2026
DESCRIPTION:Chicago Restaurant Week 2026 \nWelcome to the 19th Annual Chicago Restaurant Week! This 17-day celebration of Chicago’s award-winning dining scene is one of the most anticipated culinary events of the year. \nThis year\, diners can enjoy special prix fixe menus for brunch and lunch ($30)\, and dinner ($45 and/or $60) at a record-breaking 500+ restaurants across the city. \nExplore the full list and map of participating restaurants and book your tables before they’re gone! \nParticipating Hyde Park restaurants include: \n14 Parish – 1644 E. 53rd Street ($60 dinner) \nBarDavid – 1201 E. 60th Street ($45 lunch / $60 dinner) \nChemistry – 5121 S. Harper Avenue ($60 dinner) \nDawn – 1642 E. 56th Street ($60 dinner) \nNando’s PERi-PERi – 1447 E. 53rd Street ($45 dinner) \nTruth Be Told -1227 E. 60th Street ($60 dinner) \nVirtue – 1462 E. 53rd Street ($60 dinner)
URL:https://welcometohydepark.com/event/chicago-restaurant-week-2026/2026-01-27/
CATEGORIES:Dining
ATTACH;FMTTYPE=image/png:https://welcometohydepark.com/wp-content/uploads/2026/01/Choose-Chicago-Restaurant-Week-2026.png
END:VEVENT
BEGIN:VEVENT
DTSTART;VALUE=DATE:20260126
DTEND;VALUE=DATE:20260127
DTSTAMP:20260422T200625
CREATED:20260105T191839Z
LAST-MODIFIED:20260105T192137Z
UID:10007550-1769385600-1769471999@welcometohydepark.com
SUMMARY:Chicago Restaurant Week 2026
DESCRIPTION:Chicago Restaurant Week 2026 \nWelcome to the 19th Annual Chicago Restaurant Week! This 17-day celebration of Chicago’s award-winning dining scene is one of the most anticipated culinary events of the year. \nThis year\, diners can enjoy special prix fixe menus for brunch and lunch ($30)\, and dinner ($45 and/or $60) at a record-breaking 500+ restaurants across the city. \nExplore the full list and map of participating restaurants and book your tables before they’re gone! \nParticipating Hyde Park restaurants include: \n14 Parish – 1644 E. 53rd Street ($60 dinner) \nBarDavid – 1201 E. 60th Street ($45 lunch / $60 dinner) \nChemistry – 5121 S. Harper Avenue ($60 dinner) \nDawn – 1642 E. 56th Street ($60 dinner) \nNando’s PERi-PERi – 1447 E. 53rd Street ($45 dinner) \nTruth Be Told -1227 E. 60th Street ($60 dinner) \nVirtue – 1462 E. 53rd Street ($60 dinner)
URL:https://welcometohydepark.com/event/chicago-restaurant-week-2026/2026-01-26/
CATEGORIES:Dining
ATTACH;FMTTYPE=image/png:https://welcometohydepark.com/wp-content/uploads/2026/01/Choose-Chicago-Restaurant-Week-2026.png
END:VEVENT
BEGIN:VEVENT
DTSTART;VALUE=DATE:20260125
DTEND;VALUE=DATE:20260126
DTSTAMP:20260422T200625
CREATED:20260105T191839Z
LAST-MODIFIED:20260105T192137Z
UID:10007549-1769299200-1769385599@welcometohydepark.com
SUMMARY:Chicago Restaurant Week 2026
DESCRIPTION:Chicago Restaurant Week 2026 \nWelcome to the 19th Annual Chicago Restaurant Week! This 17-day celebration of Chicago’s award-winning dining scene is one of the most anticipated culinary events of the year. \nThis year\, diners can enjoy special prix fixe menus for brunch and lunch ($30)\, and dinner ($45 and/or $60) at a record-breaking 500+ restaurants across the city. \nExplore the full list and map of participating restaurants and book your tables before they’re gone! \nParticipating Hyde Park restaurants include: \n14 Parish – 1644 E. 53rd Street ($60 dinner) \nBarDavid – 1201 E. 60th Street ($45 lunch / $60 dinner) \nChemistry – 5121 S. Harper Avenue ($60 dinner) \nDawn – 1642 E. 56th Street ($60 dinner) \nNando’s PERi-PERi – 1447 E. 53rd Street ($45 dinner) \nTruth Be Told -1227 E. 60th Street ($60 dinner) \nVirtue – 1462 E. 53rd Street ($60 dinner)
URL:https://welcometohydepark.com/event/chicago-restaurant-week-2026/2026-01-25/
CATEGORIES:Dining
ATTACH;FMTTYPE=image/png:https://welcometohydepark.com/wp-content/uploads/2026/01/Choose-Chicago-Restaurant-Week-2026.png
END:VEVENT
BEGIN:VEVENT
DTSTART;VALUE=DATE:20260124
DTEND;VALUE=DATE:20260125
DTSTAMP:20260422T200625
CREATED:20260105T191839Z
LAST-MODIFIED:20260105T192137Z
UID:10007548-1769212800-1769299199@welcometohydepark.com
SUMMARY:Chicago Restaurant Week 2026
DESCRIPTION:Chicago Restaurant Week 2026 \nWelcome to the 19th Annual Chicago Restaurant Week! This 17-day celebration of Chicago’s award-winning dining scene is one of the most anticipated culinary events of the year. \nThis year\, diners can enjoy special prix fixe menus for brunch and lunch ($30)\, and dinner ($45 and/or $60) at a record-breaking 500+ restaurants across the city. \nExplore the full list and map of participating restaurants and book your tables before they’re gone! \nParticipating Hyde Park restaurants include: \n14 Parish – 1644 E. 53rd Street ($60 dinner) \nBarDavid – 1201 E. 60th Street ($45 lunch / $60 dinner) \nChemistry – 5121 S. Harper Avenue ($60 dinner) \nDawn – 1642 E. 56th Street ($60 dinner) \nNando’s PERi-PERi – 1447 E. 53rd Street ($45 dinner) \nTruth Be Told -1227 E. 60th Street ($60 dinner) \nVirtue – 1462 E. 53rd Street ($60 dinner)
URL:https://welcometohydepark.com/event/chicago-restaurant-week-2026/2026-01-24/
CATEGORIES:Dining
ATTACH;FMTTYPE=image/png:https://welcometohydepark.com/wp-content/uploads/2026/01/Choose-Chicago-Restaurant-Week-2026.png
END:VEVENT
BEGIN:VEVENT
DTSTART;VALUE=DATE:20260123
DTEND;VALUE=DATE:20260124
DTSTAMP:20260422T200625
CREATED:20260105T191839Z
LAST-MODIFIED:20260105T192137Z
UID:10007547-1769126400-1769212799@welcometohydepark.com
SUMMARY:Chicago Restaurant Week 2026
DESCRIPTION:Chicago Restaurant Week 2026 \nWelcome to the 19th Annual Chicago Restaurant Week! This 17-day celebration of Chicago’s award-winning dining scene is one of the most anticipated culinary events of the year. \nThis year\, diners can enjoy special prix fixe menus for brunch and lunch ($30)\, and dinner ($45 and/or $60) at a record-breaking 500+ restaurants across the city. \nExplore the full list and map of participating restaurants and book your tables before they’re gone! \nParticipating Hyde Park restaurants include: \n14 Parish – 1644 E. 53rd Street ($60 dinner) \nBarDavid – 1201 E. 60th Street ($45 lunch / $60 dinner) \nChemistry – 5121 S. Harper Avenue ($60 dinner) \nDawn – 1642 E. 56th Street ($60 dinner) \nNando’s PERi-PERi – 1447 E. 53rd Street ($45 dinner) \nTruth Be Told -1227 E. 60th Street ($60 dinner) \nVirtue – 1462 E. 53rd Street ($60 dinner)
URL:https://welcometohydepark.com/event/chicago-restaurant-week-2026/2026-01-23/
CATEGORIES:Dining
ATTACH;FMTTYPE=image/png:https://welcometohydepark.com/wp-content/uploads/2026/01/Choose-Chicago-Restaurant-Week-2026.png
END:VEVENT
END:VCALENDAR