BEGIN:VCALENDAR
VERSION:2.0
PRODID:-//Welcome To Hyde Park - ECPv6.15.20//NONSGML v1.0//EN
CALSCALE:GREGORIAN
METHOD:PUBLISH
X-ORIGINAL-URL:https://welcometohydepark.com
X-WR-CALDESC:Events for Welcome To Hyde Park
REFRESH-INTERVAL;VALUE=DURATION:PT1H
X-Robots-Tag:noindex
X-PUBLISHED-TTL:PT1H
BEGIN:VTIMEZONE
TZID:America/Chicago
BEGIN:DAYLIGHT
TZOFFSETFROM:-0600
TZOFFSETTO:-0500
TZNAME:CDT
DTSTART:20240310T080000
END:DAYLIGHT
BEGIN:STANDARD
TZOFFSETFROM:-0500
TZOFFSETTO:-0600
TZNAME:CST
DTSTART:20241103T070000
END:STANDARD
BEGIN:DAYLIGHT
TZOFFSETFROM:-0600
TZOFFSETTO:-0500
TZNAME:CDT
DTSTART:20250309T080000
END:DAYLIGHT
BEGIN:STANDARD
TZOFFSETFROM:-0500
TZOFFSETTO:-0600
TZNAME:CST
DTSTART:20251102T070000
END:STANDARD
BEGIN:DAYLIGHT
TZOFFSETFROM:-0600
TZOFFSETTO:-0500
TZNAME:CDT
DTSTART:20260308T080000
END:DAYLIGHT
BEGIN:STANDARD
TZOFFSETFROM:-0500
TZOFFSETTO:-0600
TZNAME:CST
DTSTART:20261101T070000
END:STANDARD
END:VTIMEZONE
BEGIN:VEVENT
DTSTART;TZID=America/Chicago:20251013T090000
DTEND;TZID=America/Chicago:20251013T180000
DTSTAMP:20260423T095140
CREATED:20250930T161500Z
LAST-MODIFIED:20250930T161500Z
UID:10007311-1760346000-1760378400@welcometohydepark.com
SUMMARY:HPKCC's Annual Used Book Sale
DESCRIPTION:Join us for our Annual Book Sale! Find great reads\, meet your neighbors and support the community.
URL:https://welcometohydepark.com/event/hpkccs-annual-used-book-sale/2025-10-13/
LOCATION:Kimbark Plaza\, Chicago\, IL\, 60615\, United States
CATEGORIES:Community,Festival,Lecture/Literary/Book Signing/Storytime,Shopping
ATTACH;FMTTYPE=image/jpeg:https://welcometohydepark.com/wp-content/uploads/2025/09/hpkcc.jpg
ORGANIZER;CN="HPKCC":MAILTO:info@hydepark.org
END:VEVENT
BEGIN:VEVENT
DTSTART;TZID=America/Chicago:20251012T090000
DTEND;TZID=America/Chicago:20251012T180000
DTSTAMP:20260423T095140
CREATED:20250930T161500Z
LAST-MODIFIED:20250930T161500Z
UID:10007310-1760259600-1760292000@welcometohydepark.com
SUMMARY:HPKCC's Annual Used Book Sale
DESCRIPTION:Join us for our Annual Book Sale! Find great reads\, meet your neighbors and support the community.
URL:https://welcometohydepark.com/event/hpkccs-annual-used-book-sale/2025-10-12/
LOCATION:Kimbark Plaza\, Chicago\, IL\, 60615\, United States
CATEGORIES:Community,Festival,Lecture/Literary/Book Signing/Storytime,Shopping
ATTACH;FMTTYPE=image/jpeg:https://welcometohydepark.com/wp-content/uploads/2025/09/hpkcc.jpg
ORGANIZER;CN="HPKCC":MAILTO:info@hydepark.org
END:VEVENT
BEGIN:VEVENT
DTSTART;TZID=America/Chicago:20251011T090000
DTEND;TZID=America/Chicago:20251011T180000
DTSTAMP:20260423T095140
CREATED:20250930T161500Z
LAST-MODIFIED:20250930T161500Z
UID:10007309-1760173200-1760205600@welcometohydepark.com
SUMMARY:HPKCC's Annual Used Book Sale
DESCRIPTION:Join us for our Annual Book Sale! Find great reads\, meet your neighbors and support the community.
URL:https://welcometohydepark.com/event/hpkccs-annual-used-book-sale/2025-10-11/
LOCATION:Kimbark Plaza\, Chicago\, IL\, 60615\, United States
CATEGORIES:Community,Festival,Lecture/Literary/Book Signing/Storytime,Shopping
ATTACH;FMTTYPE=image/jpeg:https://welcometohydepark.com/wp-content/uploads/2025/09/hpkcc.jpg
ORGANIZER;CN="HPKCC":MAILTO:info@hydepark.org
END:VEVENT
END:VCALENDAR