BEGIN:VCALENDAR
VERSION:2.0
PRODID:-//Welcome To Hyde Park - ECPv6.15.20//NONSGML v1.0//EN
CALSCALE:GREGORIAN
METHOD:PUBLISH
X-WR-CALNAME:Welcome To Hyde Park
X-ORIGINAL-URL:https://welcometohydepark.com
X-WR-CALDESC:Events for Welcome To Hyde Park
REFRESH-INTERVAL;VALUE=DURATION:PT1H
X-Robots-Tag:noindex
X-PUBLISHED-TTL:PT1H
BEGIN:VTIMEZONE
TZID:America/Chicago
BEGIN:DAYLIGHT
TZOFFSETFROM:-0600
TZOFFSETTO:-0500
TZNAME:CDT
DTSTART:20240310T080000
END:DAYLIGHT
BEGIN:STANDARD
TZOFFSETFROM:-0500
TZOFFSETTO:-0600
TZNAME:CST
DTSTART:20241103T070000
END:STANDARD
BEGIN:DAYLIGHT
TZOFFSETFROM:-0600
TZOFFSETTO:-0500
TZNAME:CDT
DTSTART:20250309T080000
END:DAYLIGHT
BEGIN:STANDARD
TZOFFSETFROM:-0500
TZOFFSETTO:-0600
TZNAME:CST
DTSTART:20251102T070000
END:STANDARD
BEGIN:DAYLIGHT
TZOFFSETFROM:-0600
TZOFFSETTO:-0500
TZNAME:CDT
DTSTART:20260308T080000
END:DAYLIGHT
BEGIN:STANDARD
TZOFFSETFROM:-0500
TZOFFSETTO:-0600
TZNAME:CST
DTSTART:20261101T070000
END:STANDARD
END:VTIMEZONE
BEGIN:VEVENT
DTSTART;TZID=America/Chicago:20251025T150000
DTEND;TZID=America/Chicago:20251025T170000
DTSTAMP:20260423T011043
CREATED:20251023T145456Z
LAST-MODIFIED:20251023T145456Z
UID:10007413-1761404400-1761411600@welcometohydepark.com
SUMMARY:Hyde Park Suzuki Institute Spooky Recital and Trunk or Treat
DESCRIPTION:Hyde Park Suzuki Institute Spooky Recital and Trunk or Treat \nMusic\, treats\, and fun! \nJoin the Hyde Park Suzuki Institute for a Spooky Recital and Trunk or Treat event on Saturday\, October 25 at 3 p.m. at Congregation Rodfei Zedek – 5200 S. Hyde Park Boulevard.
URL:https://welcometohydepark.com/event/hyde-park-suzuki-institute-spooky-recital-and-trunk-or-treat/
LOCATION:Congregation Rodfei Zedek\, 5200 S. Hyde Park Boulevard\, Chicago\, IL\, United States
CATEGORIES:Community,Concert/Live Music/DJ/Karoke,Family Fun,Free,Holiday
ATTACH;FMTTYPE=image/png:https://welcometohydepark.com/wp-content/uploads/2025/10/SuzukiTrunkTreat.png
END:VEVENT
END:VCALENDAR