BEGIN:VCALENDAR
VERSION:2.0
PRODID:-//Welcome To Hyde Park - ECPv6.15.20//NONSGML v1.0//EN
CALSCALE:GREGORIAN
METHOD:PUBLISH
X-WR-CALNAME:Welcome To Hyde Park
X-ORIGINAL-URL:https://welcometohydepark.com
X-WR-CALDESC:Events for Welcome To Hyde Park
REFRESH-INTERVAL;VALUE=DURATION:PT1H
X-Robots-Tag:noindex
X-PUBLISHED-TTL:PT1H
BEGIN:VTIMEZONE
TZID:America/Chicago
BEGIN:DAYLIGHT
TZOFFSETFROM:-0600
TZOFFSETTO:-0500
TZNAME:CDT
DTSTART:20240310T080000
END:DAYLIGHT
BEGIN:STANDARD
TZOFFSETFROM:-0500
TZOFFSETTO:-0600
TZNAME:CST
DTSTART:20241103T070000
END:STANDARD
BEGIN:DAYLIGHT
TZOFFSETFROM:-0600
TZOFFSETTO:-0500
TZNAME:CDT
DTSTART:20250309T080000
END:DAYLIGHT
BEGIN:STANDARD
TZOFFSETFROM:-0500
TZOFFSETTO:-0600
TZNAME:CST
DTSTART:20251102T070000
END:STANDARD
BEGIN:DAYLIGHT
TZOFFSETFROM:-0600
TZOFFSETTO:-0500
TZNAME:CDT
DTSTART:20260308T080000
END:DAYLIGHT
BEGIN:STANDARD
TZOFFSETFROM:-0500
TZOFFSETTO:-0600
TZNAME:CST
DTSTART:20261101T070000
END:STANDARD
END:VTIMEZONE
BEGIN:VEVENT
DTSTART;TZID=America/Chicago:20251004T180000
DTEND;TZID=America/Chicago:20251004T200000
DTSTAMP:20260423T040106
CREATED:20250930T163335Z
LAST-MODIFIED:20250930T163335Z
UID:10007314-1759600800-1759608000@welcometohydepark.com
SUMMARY:MIA Exhibition Closing Mixer 2025
DESCRIPTION:Join Melanated in America at The Silver Room for the M.I.A Exhibition Closing Mixer on Saturday\, October 4\, 2025\, from 6–8 PM. \nHosted by Natalie Battles\, this evening will bring together artists\, actors\, musicians\, directors\, and creatives of all kinds for a vibrant night of connection and celebration. Enjoy live music by Rodney Gipson courtesy of Audible Edge Music\, and sounds from DJ Bremarie. \nThis mixer is not only a closing celebration of the exhibition but also a space to network\, collaborate\, and continue building community around Black creativity and culture.
URL:https://welcometohydepark.com/event/mia-exhibition-closing-mixer-2025/
LOCATION:The Silver Room
CATEGORIES:Beer/Cocktails/Wine,Community,Concert/Live Music/DJ/Karoke
ATTACH;FMTTYPE=image/jpeg:https://welcometohydepark.com/wp-content/uploads/2025/09/MIA-exhibition.jpg
END:VEVENT
END:VCALENDAR