BEGIN:VCALENDAR
VERSION:2.0
PRODID:-//Welcome To Hyde Park - ECPv6.15.20//NONSGML v1.0//EN
CALSCALE:GREGORIAN
METHOD:PUBLISH
X-WR-CALNAME:Welcome To Hyde Park
X-ORIGINAL-URL:https://welcometohydepark.com
X-WR-CALDESC:Events for Welcome To Hyde Park
REFRESH-INTERVAL;VALUE=DURATION:PT1H
X-Robots-Tag:noindex
X-PUBLISHED-TTL:PT1H
BEGIN:VTIMEZONE
TZID:America/Chicago
BEGIN:DAYLIGHT
TZOFFSETFROM:-0600
TZOFFSETTO:-0500
TZNAME:CDT
DTSTART:20240310T080000
END:DAYLIGHT
BEGIN:STANDARD
TZOFFSETFROM:-0500
TZOFFSETTO:-0600
TZNAME:CST
DTSTART:20241103T070000
END:STANDARD
BEGIN:DAYLIGHT
TZOFFSETFROM:-0600
TZOFFSETTO:-0500
TZNAME:CDT
DTSTART:20250309T080000
END:DAYLIGHT
BEGIN:STANDARD
TZOFFSETFROM:-0500
TZOFFSETTO:-0600
TZNAME:CST
DTSTART:20251102T070000
END:STANDARD
BEGIN:DAYLIGHT
TZOFFSETFROM:-0600
TZOFFSETTO:-0500
TZNAME:CDT
DTSTART:20260308T080000
END:DAYLIGHT
BEGIN:STANDARD
TZOFFSETFROM:-0500
TZOFFSETTO:-0600
TZNAME:CST
DTSTART:20261101T070000
END:STANDARD
BEGIN:DAYLIGHT
TZOFFSETFROM:-0600
TZOFFSETTO:-0500
TZNAME:CDT
DTSTART:20270314T080000
END:DAYLIGHT
BEGIN:STANDARD
TZOFFSETFROM:-0500
TZOFFSETTO:-0600
TZNAME:CST
DTSTART:20271107T070000
END:STANDARD
END:VTIMEZONE
BEGIN:VEVENT
DTSTART;TZID=America/Chicago:20260417T180000
DTEND;TZID=America/Chicago:20260417T210000
DTSTAMP:20260425T092019
CREATED:20260413T183303Z
LAST-MODIFIED:20260413T183303Z
UID:10008099-1776448800-1776459600@welcometohydepark.com
SUMMARY:Memoir Fragrances at Recycled Modern - Flagship Scent Store Launch
DESCRIPTION:Memoir Fragrances at Recycled Modern – Flagship Scent Store Launch \nRecycled Modern in Harper Court is now the flagship boutique headquarters for Memoir Fragrances. \nThis day also marks the launch of Sanktuary\, our newest expression. A sacred layer added to the library. And if that’s not enough\, it’s Terrance Pratt’s birthday\, founder of Memoir. \nJoin us for scents\, sounds\, & spirits! \nAbout Memoir Fragrances: \nMemoir Fragrances is the scented autobiography of creative director and founder Terrance Pratt\, who developed the brand as an homage to Chicago\, the city where he discovered his personal story. \nMemoir was created as both a call to action and a reminder that there’s a story in everyone that is waiting to be told. Each scent that we create is named after a lived cultural experience. In kind\, we encourage you to live fearlessly and share your stories with the world.   \n“Great stories shouldn’t be bottled up!”
URL:https://welcometohydepark.com/event/memoir-fragrances-at-recycled-modern-flagship-scent-store-launch/
LOCATION:Recycled Modern\, 5231 S. Harper Court\, Chicago\, 60615\, United States
CATEGORIES:Shopping
ATTACH;FMTTYPE=image/jpeg:https://welcometohydepark.com/wp-content/uploads/2026/04/Red-and-Cream-Simple-Modern-Abstract-Art-Gallery-Exhibition-Flyer-Instagram-Post-scaled.jpg
GEO:41.80023;-87.5882
X-APPLE-STRUCTURED-LOCATION;VALUE=URI;X-ADDRESS=Recycled Modern 5231 S. Harper Court Chicago 60615 United States;X-APPLE-RADIUS=500;X-TITLE=5231 S. Harper Court:geo:-87.5882,41.80023
END:VEVENT
BEGIN:VEVENT
DTSTART;TZID=America/Chicago:20251005T110000
DTEND;TZID=America/Chicago:20251005T150000
DTSTAMP:20260425T092019
CREATED:20251004T182026Z
LAST-MODIFIED:20251004T182026Z
UID:10007389-1759662000-1759676400@welcometohydepark.com
SUMMARY:A Day for David at Recycled Modern
DESCRIPTION:A Day for David at Recycled Modern \nSUNDAY\, OCTOBER 5\nRECYCLED MODERN\n5231 S. HARPER COURT \nThis Sunday\, October 5th\, we’re gathering for A Day for David at Recycled Modern from 11 AM – 3 PM. \nWe’ll be honoring the life and legacy of David Amarri King\, a young creative whose life was tragically cut short by gun violence while protecting a woman. His mother\, Angelica (Angie)\, is reclaiming this day with strength and purpose by launching the David Amarri Foundation. \n✨ How can you support?\n• RSVP with link below\n• Donate to the foundation\n• Share this message with your community\n• Show up and help us fill the courtyard with love and support \nLet’s show up for Angie\, and let’s honor David’s life by standing together. \n#ADayForDavid #DavidAmarriFoundation #CommunityLove #CreativityLivesOn \nClick HERE to RSVP.
URL:https://welcometohydepark.com/event/a-day-for-david-at-recycled-modern/
LOCATION:Recycled Modern\, 5231 S. Harper Court\, Chicago\, 60615\, United States
CATEGORIES:Art/Arts & Crafts,Community
ATTACH;FMTTYPE=image/png:https://welcometohydepark.com/wp-content/uploads/2025/10/Recycled-Modern-2.png
GEO:41.80023;-87.5882
X-APPLE-STRUCTURED-LOCATION;VALUE=URI;X-ADDRESS=Recycled Modern 5231 S. Harper Court Chicago 60615 United States;X-APPLE-RADIUS=500;X-TITLE=5231 S. Harper Court:geo:-87.5882,41.80023
END:VEVENT
BEGIN:VEVENT
DTSTART;TZID=America/Chicago:20250831T130000
DTEND;TZID=America/Chicago:20250831T150000
DTSTAMP:20260425T092019
CREATED:20250821T160420Z
LAST-MODIFIED:20250821T160420Z
UID:10006914-1756645200-1756652400@welcometohydepark.com
SUMMARY:Circulate Shopping Event - Recycled Modern
DESCRIPTION:Circulate Shopping Event – Recycled Modern \nIt’s Black Business Month!!🙌🏽😎❤️\nAnd our next featured business is Recycled Modern in Hyde Park🤑\nJoin us on August 31st from 1 to 3 pm to love bomb this small biz!!\nOwner Shari is an expert curator who has put together such a special collection of items in her shop.\nLabor Day Weekend can be hit or miss for retail shops with people traveling for the holiday. Let’s guarantee that it’s a HIT!\nSHARE and See you there!!
URL:https://welcometohydepark.com/event/circulate-shopping-event-recycled-modern/
LOCATION:Recycled Modern\, 5231 S. Harper Court\, Chicago\, 60615\, United States
CATEGORIES:Business,Community,Shopping
ATTACH;FMTTYPE=image/png:https://welcometohydepark.com/wp-content/uploads/2025/08/Untitled-design-2025-08-21T110029.007.png
GEO:41.80023;-87.5882
X-APPLE-STRUCTURED-LOCATION;VALUE=URI;X-ADDRESS=Recycled Modern 5231 S. Harper Court Chicago 60615 United States;X-APPLE-RADIUS=500;X-TITLE=5231 S. Harper Court:geo:-87.5882,41.80023
END:VEVENT
END:VCALENDAR