BEGIN:VCALENDAR
VERSION:2.0
PRODID:-//Welcome To Hyde Park - ECPv6.15.20//NONSGML v1.0//EN
CALSCALE:GREGORIAN
METHOD:PUBLISH
X-ORIGINAL-URL:https://welcometohydepark.com
X-WR-CALDESC:Events for Welcome To Hyde Park
REFRESH-INTERVAL;VALUE=DURATION:PT1H
X-Robots-Tag:noindex
X-PUBLISHED-TTL:PT1H
BEGIN:VTIMEZONE
TZID:America/Chicago
BEGIN:DAYLIGHT
TZOFFSETFROM:-0600
TZOFFSETTO:-0500
TZNAME:CDT
DTSTART:20250309T080000
END:DAYLIGHT
BEGIN:STANDARD
TZOFFSETFROM:-0500
TZOFFSETTO:-0600
TZNAME:CST
DTSTART:20251102T070000
END:STANDARD
BEGIN:DAYLIGHT
TZOFFSETFROM:-0600
TZOFFSETTO:-0500
TZNAME:CDT
DTSTART:20260308T080000
END:DAYLIGHT
BEGIN:STANDARD
TZOFFSETFROM:-0500
TZOFFSETTO:-0600
TZNAME:CST
DTSTART:20261101T070000
END:STANDARD
BEGIN:DAYLIGHT
TZOFFSETFROM:-0600
TZOFFSETTO:-0500
TZNAME:CDT
DTSTART:20270314T080000
END:DAYLIGHT
BEGIN:STANDARD
TZOFFSETFROM:-0500
TZOFFSETTO:-0600
TZNAME:CST
DTSTART:20271107T070000
END:STANDARD
END:VTIMEZONE
BEGIN:VEVENT
DTSTART;TZID=America/Chicago:20260313T193000
DTEND;TZID=America/Chicago:20260313T213000
DTSTAMP:20260422T010016
CREATED:20260125T023805Z
LAST-MODIFIED:20260125T233337Z
UID:10007735-1773430200-1773437400@welcometohydepark.com
SUMMARY:Corkscrews Coils and Clocks
DESCRIPTION:Corkscrews Coils and Clocks\n\nThe Newberry Consort celebrates the musical\, technological\, and scientific inventions from the 15th and 16th centuries in this concert featuring music by Johannes Ockeghem\, Antoine Busnoys\, Josquin des Prez and more. See images\, art\, and diagrams of Renaissance innovations projected onto a screen while you listen to music performed on the instruments designed during that time period.\n\nFriday\, March 13\, 2026 at 7:30 p.m. at Bond Chapel at University of Chicago\, 1025 E 58th St\, Chicago\n\nSaturday\, March 14\, 2026 at 4 p.m. at Saint Luke’s Episcopal Church 939 Hinman Avenue\, Evanston\n\nSunday\, March 15\, 2026 at 4 p.m. at Ganz Hall at Roosevelt University\, 430 S Michigan Ave\, Chicago\n\nTickets: $70 for preferred seating\, $45 for general admission\, $25 for affordable access tickets\, $10 for students with a valid student ID\, and free for children 16 and under.\n\nTo purchase tickets please visit www.newberryconsort.org\n\nPhone: 312-285-0885 email: info@newberryconsort.org
URL:https://welcometohydepark.com/event/corkscrews-coils-and-clocks/
LOCATION:Bond Chapel\, 1025 E 58th Street\, Chicago\, 60637
CATEGORIES:Concert/Live Music/DJ/Karoke
ATTACH;FMTTYPE=image/jpeg:https://welcometohydepark.com/wp-content/uploads/2026/01/LizaMalamut_7.19.22_by_ElliotMandel-5-scaled.jpg
ORGANIZER;CN="The Newberry Consort":MAILTO:info@newberryconsort.org
END:VEVENT
END:VCALENDAR