BEGIN:VCALENDAR
VERSION:2.0
PRODID:-//Welcome To Hyde Park - ECPv6.15.20//NONSGML v1.0//EN
CALSCALE:GREGORIAN
METHOD:PUBLISH
X-ORIGINAL-URL:https://welcometohydepark.com
X-WR-CALDESC:Events for Welcome To Hyde Park
REFRESH-INTERVAL;VALUE=DURATION:PT1H
X-Robots-Tag:noindex
X-PUBLISHED-TTL:PT1H
BEGIN:VTIMEZONE
TZID:America/Chicago
BEGIN:DAYLIGHT
TZOFFSETFROM:-0600
TZOFFSETTO:-0500
TZNAME:CDT
DTSTART:20250309T080000
END:DAYLIGHT
BEGIN:STANDARD
TZOFFSETFROM:-0500
TZOFFSETTO:-0600
TZNAME:CST
DTSTART:20251102T070000
END:STANDARD
BEGIN:DAYLIGHT
TZOFFSETFROM:-0600
TZOFFSETTO:-0500
TZNAME:CDT
DTSTART:20260308T080000
END:DAYLIGHT
BEGIN:STANDARD
TZOFFSETFROM:-0500
TZOFFSETTO:-0600
TZNAME:CST
DTSTART:20261101T070000
END:STANDARD
BEGIN:DAYLIGHT
TZOFFSETFROM:-0600
TZOFFSETTO:-0500
TZNAME:CDT
DTSTART:20270314T080000
END:DAYLIGHT
BEGIN:STANDARD
TZOFFSETFROM:-0500
TZOFFSETTO:-0600
TZNAME:CST
DTSTART:20271107T070000
END:STANDARD
END:VTIMEZONE
BEGIN:VEVENT
DTSTART;TZID=America/Chicago:20260221T193000
DTEND;TZID=America/Chicago:20260221T220000
DTSTAMP:20260419T192925
CREATED:20260204T172628Z
LAST-MODIFIED:20260204T172628Z
UID:10007749-1771702200-1771711200@welcometohydepark.com
SUMMARY:66th Annual Folk Fesitval
DESCRIPTION:The 66th Annual UChicago Folk Festival is coming in 2026 — scheduled for Friday\, February 20th at 8 p.m. and Saturday\, February 21st at 7:30 p.m. at UChicago’s Mandel Hall\, 1131 E. 57th Street in Chicago’s Hyde Park neighborhood on the UChicago campus. A live stream link will also be available.\nEnjoy artists from a variety of genres – everything from Blues\, Bluegrass\, Cajun\, Old-time\, and more.\n\nFree music\, dance\, and folklore workshops will be held on Saturday\, February from 10 a.m. – 5 p.m. at Ida Noyes Hall\, 1212 E. 59th Street. Workshops do not require tickets.\n\nTicket prices are $20 for seniors\, $5 for students and $30 for the general public.. Group ticket rates of $15 are available for organizations only with 15+ attendees.\n\nSee our website www.uofcfolk.org for more details———————————Support for the Live Stream broadcast provided by Garth Taylor and the School of American Music\, Three Oaks Michigan — and media sponsorship by 90.9 FM WDCBAnd from fans like you! Information about donating can be found at http://www.uofcfolk.org/donate.shtml
URL:https://welcometohydepark.com/event/66th-annual-folk-fesitval/2026-02-21/
LOCATION:Mandel Hall\, 1131 E 57th St\, Chicago\, IL 60637\, Chicago\, IL\, 60637\, United States
CATEGORIES:Concert/Live Music/DJ/Karoke,Festival
ATTACH;FMTTYPE=image/jpeg:https://welcometohydepark.com/wp-content/uploads/2026/02/folk-festival.jpg
END:VEVENT
BEGIN:VEVENT
DTSTART;TZID=America/Chicago:20260220T200000
DTEND;TZID=America/Chicago:20260220T220000
DTSTAMP:20260419T192925
CREATED:20260204T172628Z
LAST-MODIFIED:20260204T172628Z
UID:10007747-1771617600-1771624800@welcometohydepark.com
SUMMARY:66th Annual Folk Fesitval
DESCRIPTION:The 66th Annual UChicago Folk Festival is coming in 2026 — scheduled for Friday\, February 20th at 8 p.m. and Saturday\, February 21st at 7:30 p.m. at UChicago’s Mandel Hall\, 1131 E. 57th Street in Chicago’s Hyde Park neighborhood on the UChicago campus. A live stream link will also be available.\nEnjoy artists from a variety of genres – everything from Blues\, Bluegrass\, Cajun\, Old-time\, and more.\n\nFree music\, dance\, and folklore workshops will be held on Saturday\, February from 10 a.m. – 5 p.m. at Ida Noyes Hall\, 1212 E. 59th Street. Workshops do not require tickets.\n\nTicket prices are $20 for seniors\, $5 for students and $30 for the general public.. Group ticket rates of $15 are available for organizations only with 15+ attendees.\n\nSee our website www.uofcfolk.org for more details———————————Support for the Live Stream broadcast provided by Garth Taylor and the School of American Music\, Three Oaks Michigan — and media sponsorship by 90.9 FM WDCBAnd from fans like you! Information about donating can be found at http://www.uofcfolk.org/donate.shtml
URL:https://welcometohydepark.com/event/66th-annual-folk-fesitval/2026-02-20/
LOCATION:Mandel Hall\, 1131 E 57th St\, Chicago\, IL 60637\, Chicago\, IL\, 60637\, United States
CATEGORIES:Concert/Live Music/DJ/Karoke,Festival
ATTACH;FMTTYPE=image/jpeg:https://welcometohydepark.com/wp-content/uploads/2026/02/folk-festival.jpg
END:VEVENT
END:VCALENDAR