BEGIN:VCALENDAR
VERSION:2.0
PRODID:-//Welcome To Hyde Park - ECPv6.15.20//NONSGML v1.0//EN
CALSCALE:GREGORIAN
METHOD:PUBLISH
X-ORIGINAL-URL:https://welcometohydepark.com
X-WR-CALDESC:Events for Welcome To Hyde Park
REFRESH-INTERVAL;VALUE=DURATION:PT1H
X-Robots-Tag:noindex
X-PUBLISHED-TTL:PT1H
BEGIN:VTIMEZONE
TZID:America/Chicago
BEGIN:DAYLIGHT
TZOFFSETFROM:-0600
TZOFFSETTO:-0500
TZNAME:CDT
DTSTART:20240310T080000
END:DAYLIGHT
BEGIN:STANDARD
TZOFFSETFROM:-0500
TZOFFSETTO:-0600
TZNAME:CST
DTSTART:20241103T070000
END:STANDARD
BEGIN:DAYLIGHT
TZOFFSETFROM:-0600
TZOFFSETTO:-0500
TZNAME:CDT
DTSTART:20250309T080000
END:DAYLIGHT
BEGIN:STANDARD
TZOFFSETFROM:-0500
TZOFFSETTO:-0600
TZNAME:CST
DTSTART:20251102T070000
END:STANDARD
BEGIN:DAYLIGHT
TZOFFSETFROM:-0600
TZOFFSETTO:-0500
TZNAME:CDT
DTSTART:20260308T080000
END:DAYLIGHT
BEGIN:STANDARD
TZOFFSETFROM:-0500
TZOFFSETTO:-0600
TZNAME:CST
DTSTART:20261101T070000
END:STANDARD
END:VTIMEZONE
BEGIN:VEVENT
DTSTART;TZID=America/Chicago:20250928T090000
DTEND;TZID=America/Chicago:20250928T140000
DTSTAMP:20260423T045623
CREATED:20250710T152818Z
LAST-MODIFIED:20250828T210843Z
UID:10006704-1759050000-1759068000@welcometohydepark.com
SUMMARY:Hyde Park Farmers Market
DESCRIPTION:Hyde Park Farmers Market\nThe South East Chicago Commission and Special Service Area #61 proudly present the Hyde Park Farmers Market\, thanks to the partnership of Hyde Park Bank.  The new market reveals an entirely fresh look with all new logistics\, giving residents and visitors a chance to shop on the weekends and experience an infusion of healthy food\, lifestyles\, arts and culture. \nShoppers will find fresh produce from local Illinois farms\, freshly baked breads and desserts\, beautiful plants\, packaged foods\, personal beauty supplies\, and traditional farmers market fare. Several market vendors accept Mastercard and Visa\, LinkUp and SNAP payments in addition to cash. \n\n\n\n\nThe Hyde Park Farmers Market: \n\nEach Sunday from 9:00 am to 2:00 pm\n1516 E 54th St – 54th Street and Old Lake Park Ave West\n(Hyde Park Bank parking lot)\nFacebook Page\nInstagram Page\n\nThe Market begins with the grand opening on Sunday\, June 1 and the season continues through Sunday\, September 28\, 2025.  You are invited to experience the new energy\, entertainment\, community engagement and a fantastically-curated collection of vendors.
URL:https://welcometohydepark.com/event/hyde-park-farmers-market/2025-09-28/
LOCATION:Hyde Park Bank Parking Lot\, Chicago\, IL\, 60615\, United States
CATEGORIES:Community,Farmers Market
ATTACH;FMTTYPE=image/jpeg:https://welcometohydepark.com/wp-content/uploads/2025/07/hyde-park-farmers-market.jpg
ORGANIZER;CN="South East Chicago Commission":MAILTO:info@secc-chicago.org
END:VEVENT
BEGIN:VEVENT
DTSTART;TZID=America/Chicago:20250921T090000
DTEND;TZID=America/Chicago:20250921T140000
DTSTAMP:20260423T045623
CREATED:20250710T152818Z
LAST-MODIFIED:20250828T210843Z
UID:10006703-1758445200-1758463200@welcometohydepark.com
SUMMARY:Hyde Park Farmers Market
DESCRIPTION:Hyde Park Farmers Market\nThe South East Chicago Commission and Special Service Area #61 proudly present the Hyde Park Farmers Market\, thanks to the partnership of Hyde Park Bank.  The new market reveals an entirely fresh look with all new logistics\, giving residents and visitors a chance to shop on the weekends and experience an infusion of healthy food\, lifestyles\, arts and culture. \nShoppers will find fresh produce from local Illinois farms\, freshly baked breads and desserts\, beautiful plants\, packaged foods\, personal beauty supplies\, and traditional farmers market fare. Several market vendors accept Mastercard and Visa\, LinkUp and SNAP payments in addition to cash. \n\n\n\n\nThe Hyde Park Farmers Market: \n\nEach Sunday from 9:00 am to 2:00 pm\n1516 E 54th St – 54th Street and Old Lake Park Ave West\n(Hyde Park Bank parking lot)\nFacebook Page\nInstagram Page\n\nThe Market begins with the grand opening on Sunday\, June 1 and the season continues through Sunday\, September 28\, 2025.  You are invited to experience the new energy\, entertainment\, community engagement and a fantastically-curated collection of vendors.
URL:https://welcometohydepark.com/event/hyde-park-farmers-market/2025-09-21/
LOCATION:Hyde Park Bank Parking Lot\, Chicago\, IL\, 60615\, United States
CATEGORIES:Community,Farmers Market
ATTACH;FMTTYPE=image/jpeg:https://welcometohydepark.com/wp-content/uploads/2025/07/hyde-park-farmers-market.jpg
ORGANIZER;CN="South East Chicago Commission":MAILTO:info@secc-chicago.org
END:VEVENT
BEGIN:VEVENT
DTSTART;TZID=America/Chicago:20250914T090000
DTEND;TZID=America/Chicago:20250914T140000
DTSTAMP:20260423T045623
CREATED:20250710T152818Z
LAST-MODIFIED:20250828T210843Z
UID:10006702-1757840400-1757858400@welcometohydepark.com
SUMMARY:Hyde Park Farmers Market
DESCRIPTION:Hyde Park Farmers Market\nThe South East Chicago Commission and Special Service Area #61 proudly present the Hyde Park Farmers Market\, thanks to the partnership of Hyde Park Bank.  The new market reveals an entirely fresh look with all new logistics\, giving residents and visitors a chance to shop on the weekends and experience an infusion of healthy food\, lifestyles\, arts and culture. \nShoppers will find fresh produce from local Illinois farms\, freshly baked breads and desserts\, beautiful plants\, packaged foods\, personal beauty supplies\, and traditional farmers market fare. Several market vendors accept Mastercard and Visa\, LinkUp and SNAP payments in addition to cash. \n\n\n\n\nThe Hyde Park Farmers Market: \n\nEach Sunday from 9:00 am to 2:00 pm\n1516 E 54th St – 54th Street and Old Lake Park Ave West\n(Hyde Park Bank parking lot)\nFacebook Page\nInstagram Page\n\nThe Market begins with the grand opening on Sunday\, June 1 and the season continues through Sunday\, September 28\, 2025.  You are invited to experience the new energy\, entertainment\, community engagement and a fantastically-curated collection of vendors.
URL:https://welcometohydepark.com/event/hyde-park-farmers-market/2025-09-14/
LOCATION:Hyde Park Bank Parking Lot\, Chicago\, IL\, 60615\, United States
CATEGORIES:Community,Farmers Market
ATTACH;FMTTYPE=image/jpeg:https://welcometohydepark.com/wp-content/uploads/2025/07/hyde-park-farmers-market.jpg
ORGANIZER;CN="South East Chicago Commission":MAILTO:info@secc-chicago.org
END:VEVENT
BEGIN:VEVENT
DTSTART;TZID=America/Chicago:20250907T090000
DTEND;TZID=America/Chicago:20250907T140000
DTSTAMP:20260423T045623
CREATED:20250710T152818Z
LAST-MODIFIED:20250828T210843Z
UID:10006701-1757235600-1757253600@welcometohydepark.com
SUMMARY:Hyde Park Farmers Market
DESCRIPTION:Hyde Park Farmers Market\nThe South East Chicago Commission and Special Service Area #61 proudly present the Hyde Park Farmers Market\, thanks to the partnership of Hyde Park Bank.  The new market reveals an entirely fresh look with all new logistics\, giving residents and visitors a chance to shop on the weekends and experience an infusion of healthy food\, lifestyles\, arts and culture. \nShoppers will find fresh produce from local Illinois farms\, freshly baked breads and desserts\, beautiful plants\, packaged foods\, personal beauty supplies\, and traditional farmers market fare. Several market vendors accept Mastercard and Visa\, LinkUp and SNAP payments in addition to cash. \n\n\n\n\nThe Hyde Park Farmers Market: \n\nEach Sunday from 9:00 am to 2:00 pm\n1516 E 54th St – 54th Street and Old Lake Park Ave West\n(Hyde Park Bank parking lot)\nFacebook Page\nInstagram Page\n\nThe Market begins with the grand opening on Sunday\, June 1 and the season continues through Sunday\, September 28\, 2025.  You are invited to experience the new energy\, entertainment\, community engagement and a fantastically-curated collection of vendors.
URL:https://welcometohydepark.com/event/hyde-park-farmers-market/2025-09-07/
LOCATION:Hyde Park Bank Parking Lot\, Chicago\, IL\, 60615\, United States
CATEGORIES:Community,Farmers Market
ATTACH;FMTTYPE=image/jpeg:https://welcometohydepark.com/wp-content/uploads/2025/07/hyde-park-farmers-market.jpg
ORGANIZER;CN="South East Chicago Commission":MAILTO:info@secc-chicago.org
END:VEVENT
BEGIN:VEVENT
DTSTART;TZID=America/Chicago:20250831T090000
DTEND;TZID=America/Chicago:20250831T140000
DTSTAMP:20260423T045623
CREATED:20250710T152818Z
LAST-MODIFIED:20250828T210843Z
UID:10006700-1756630800-1756648800@welcometohydepark.com
SUMMARY:Hyde Park Farmers Market
DESCRIPTION:Hyde Park Farmers Market\nThe South East Chicago Commission and Special Service Area #61 proudly present the Hyde Park Farmers Market\, thanks to the partnership of Hyde Park Bank.  The new market reveals an entirely fresh look with all new logistics\, giving residents and visitors a chance to shop on the weekends and experience an infusion of healthy food\, lifestyles\, arts and culture. \nShoppers will find fresh produce from local Illinois farms\, freshly baked breads and desserts\, beautiful plants\, packaged foods\, personal beauty supplies\, and traditional farmers market fare. Several market vendors accept Mastercard and Visa\, LinkUp and SNAP payments in addition to cash. \n\n\n\n\nThe Hyde Park Farmers Market: \n\nEach Sunday from 9:00 am to 2:00 pm\n1516 E 54th St – 54th Street and Old Lake Park Ave West\n(Hyde Park Bank parking lot)\nFacebook Page\nInstagram Page\n\nThe Market begins with the grand opening on Sunday\, June 1 and the season continues through Sunday\, September 28\, 2025.  You are invited to experience the new energy\, entertainment\, community engagement and a fantastically-curated collection of vendors.
URL:https://welcometohydepark.com/event/hyde-park-farmers-market/2025-08-31/
LOCATION:Hyde Park Bank Parking Lot\, Chicago\, IL\, 60615\, United States
CATEGORIES:Community,Farmers Market
ATTACH;FMTTYPE=image/jpeg:https://welcometohydepark.com/wp-content/uploads/2025/07/hyde-park-farmers-market.jpg
ORGANIZER;CN="South East Chicago Commission":MAILTO:info@secc-chicago.org
END:VEVENT
BEGIN:VEVENT
DTSTART;TZID=America/Chicago:20250824T090000
DTEND;TZID=America/Chicago:20250824T140000
DTSTAMP:20260423T045623
CREATED:20250710T152818Z
LAST-MODIFIED:20250828T210843Z
UID:10006699-1756026000-1756044000@welcometohydepark.com
SUMMARY:Hyde Park Farmers Market
DESCRIPTION:Hyde Park Farmers Market\nThe South East Chicago Commission and Special Service Area #61 proudly present the Hyde Park Farmers Market\, thanks to the partnership of Hyde Park Bank.  The new market reveals an entirely fresh look with all new logistics\, giving residents and visitors a chance to shop on the weekends and experience an infusion of healthy food\, lifestyles\, arts and culture. \nShoppers will find fresh produce from local Illinois farms\, freshly baked breads and desserts\, beautiful plants\, packaged foods\, personal beauty supplies\, and traditional farmers market fare. Several market vendors accept Mastercard and Visa\, LinkUp and SNAP payments in addition to cash. \n\n\n\n\nThe Hyde Park Farmers Market: \n\nEach Sunday from 9:00 am to 2:00 pm\n1516 E 54th St – 54th Street and Old Lake Park Ave West\n(Hyde Park Bank parking lot)\nFacebook Page\nInstagram Page\n\nThe Market begins with the grand opening on Sunday\, June 1 and the season continues through Sunday\, September 28\, 2025.  You are invited to experience the new energy\, entertainment\, community engagement and a fantastically-curated collection of vendors.
URL:https://welcometohydepark.com/event/hyde-park-farmers-market/2025-08-24/
LOCATION:Hyde Park Bank Parking Lot\, Chicago\, IL\, 60615\, United States
CATEGORIES:Community,Farmers Market
ATTACH;FMTTYPE=image/jpeg:https://welcometohydepark.com/wp-content/uploads/2025/07/hyde-park-farmers-market.jpg
ORGANIZER;CN="South East Chicago Commission":MAILTO:info@secc-chicago.org
END:VEVENT
BEGIN:VEVENT
DTSTART;TZID=America/Chicago:20250817T090000
DTEND;TZID=America/Chicago:20250817T140000
DTSTAMP:20260423T045623
CREATED:20250710T152818Z
LAST-MODIFIED:20250828T210843Z
UID:10006698-1755421200-1755439200@welcometohydepark.com
SUMMARY:Hyde Park Farmers Market
DESCRIPTION:Hyde Park Farmers Market\nThe South East Chicago Commission and Special Service Area #61 proudly present the Hyde Park Farmers Market\, thanks to the partnership of Hyde Park Bank.  The new market reveals an entirely fresh look with all new logistics\, giving residents and visitors a chance to shop on the weekends and experience an infusion of healthy food\, lifestyles\, arts and culture. \nShoppers will find fresh produce from local Illinois farms\, freshly baked breads and desserts\, beautiful plants\, packaged foods\, personal beauty supplies\, and traditional farmers market fare. Several market vendors accept Mastercard and Visa\, LinkUp and SNAP payments in addition to cash. \n\n\n\n\nThe Hyde Park Farmers Market: \n\nEach Sunday from 9:00 am to 2:00 pm\n1516 E 54th St – 54th Street and Old Lake Park Ave West\n(Hyde Park Bank parking lot)\nFacebook Page\nInstagram Page\n\nThe Market begins with the grand opening on Sunday\, June 1 and the season continues through Sunday\, September 28\, 2025.  You are invited to experience the new energy\, entertainment\, community engagement and a fantastically-curated collection of vendors.
URL:https://welcometohydepark.com/event/hyde-park-farmers-market/2025-08-17/
LOCATION:Hyde Park Bank Parking Lot\, Chicago\, IL\, 60615\, United States
CATEGORIES:Community,Farmers Market
ATTACH;FMTTYPE=image/jpeg:https://welcometohydepark.com/wp-content/uploads/2025/07/hyde-park-farmers-market.jpg
ORGANIZER;CN="South East Chicago Commission":MAILTO:info@secc-chicago.org
END:VEVENT
BEGIN:VEVENT
DTSTART;TZID=America/Chicago:20250810T090000
DTEND;TZID=America/Chicago:20250810T140000
DTSTAMP:20260423T045623
CREATED:20250710T152818Z
LAST-MODIFIED:20250828T210843Z
UID:10006697-1754816400-1754834400@welcometohydepark.com
SUMMARY:Hyde Park Farmers Market
DESCRIPTION:Hyde Park Farmers Market\nThe South East Chicago Commission and Special Service Area #61 proudly present the Hyde Park Farmers Market\, thanks to the partnership of Hyde Park Bank.  The new market reveals an entirely fresh look with all new logistics\, giving residents and visitors a chance to shop on the weekends and experience an infusion of healthy food\, lifestyles\, arts and culture. \nShoppers will find fresh produce from local Illinois farms\, freshly baked breads and desserts\, beautiful plants\, packaged foods\, personal beauty supplies\, and traditional farmers market fare. Several market vendors accept Mastercard and Visa\, LinkUp and SNAP payments in addition to cash. \n\n\n\n\nThe Hyde Park Farmers Market: \n\nEach Sunday from 9:00 am to 2:00 pm\n1516 E 54th St – 54th Street and Old Lake Park Ave West\n(Hyde Park Bank parking lot)\nFacebook Page\nInstagram Page\n\nThe Market begins with the grand opening on Sunday\, June 1 and the season continues through Sunday\, September 28\, 2025.  You are invited to experience the new energy\, entertainment\, community engagement and a fantastically-curated collection of vendors.
URL:https://welcometohydepark.com/event/hyde-park-farmers-market/2025-08-10/
LOCATION:Hyde Park Bank Parking Lot\, Chicago\, IL\, 60615\, United States
CATEGORIES:Community,Farmers Market
ATTACH;FMTTYPE=image/jpeg:https://welcometohydepark.com/wp-content/uploads/2025/07/hyde-park-farmers-market.jpg
ORGANIZER;CN="South East Chicago Commission":MAILTO:info@secc-chicago.org
END:VEVENT
BEGIN:VEVENT
DTSTART;TZID=America/Chicago:20250803T090000
DTEND;TZID=America/Chicago:20250803T140000
DTSTAMP:20260423T045623
CREATED:20250710T152818Z
LAST-MODIFIED:20250828T210843Z
UID:10006696-1754211600-1754229600@welcometohydepark.com
SUMMARY:Hyde Park Farmers Market
DESCRIPTION:Hyde Park Farmers Market\nThe South East Chicago Commission and Special Service Area #61 proudly present the Hyde Park Farmers Market\, thanks to the partnership of Hyde Park Bank.  The new market reveals an entirely fresh look with all new logistics\, giving residents and visitors a chance to shop on the weekends and experience an infusion of healthy food\, lifestyles\, arts and culture. \nShoppers will find fresh produce from local Illinois farms\, freshly baked breads and desserts\, beautiful plants\, packaged foods\, personal beauty supplies\, and traditional farmers market fare. Several market vendors accept Mastercard and Visa\, LinkUp and SNAP payments in addition to cash. \n\n\n\n\nThe Hyde Park Farmers Market: \n\nEach Sunday from 9:00 am to 2:00 pm\n1516 E 54th St – 54th Street and Old Lake Park Ave West\n(Hyde Park Bank parking lot)\nFacebook Page\nInstagram Page\n\nThe Market begins with the grand opening on Sunday\, June 1 and the season continues through Sunday\, September 28\, 2025.  You are invited to experience the new energy\, entertainment\, community engagement and a fantastically-curated collection of vendors.
URL:https://welcometohydepark.com/event/hyde-park-farmers-market/2025-08-03/
LOCATION:Hyde Park Bank Parking Lot\, Chicago\, IL\, 60615\, United States
CATEGORIES:Community,Farmers Market
ATTACH;FMTTYPE=image/jpeg:https://welcometohydepark.com/wp-content/uploads/2025/07/hyde-park-farmers-market.jpg
ORGANIZER;CN="South East Chicago Commission":MAILTO:info@secc-chicago.org
END:VEVENT
BEGIN:VEVENT
DTSTART;TZID=America/Chicago:20250727T090000
DTEND;TZID=America/Chicago:20250727T140000
DTSTAMP:20260423T045623
CREATED:20250710T152818Z
LAST-MODIFIED:20250828T210843Z
UID:10006695-1753606800-1753624800@welcometohydepark.com
SUMMARY:Hyde Park Farmers Market
DESCRIPTION:Hyde Park Farmers Market\nThe South East Chicago Commission and Special Service Area #61 proudly present the Hyde Park Farmers Market\, thanks to the partnership of Hyde Park Bank.  The new market reveals an entirely fresh look with all new logistics\, giving residents and visitors a chance to shop on the weekends and experience an infusion of healthy food\, lifestyles\, arts and culture. \nShoppers will find fresh produce from local Illinois farms\, freshly baked breads and desserts\, beautiful plants\, packaged foods\, personal beauty supplies\, and traditional farmers market fare. Several market vendors accept Mastercard and Visa\, LinkUp and SNAP payments in addition to cash. \n\n\n\n\nThe Hyde Park Farmers Market: \n\nEach Sunday from 9:00 am to 2:00 pm\n1516 E 54th St – 54th Street and Old Lake Park Ave West\n(Hyde Park Bank parking lot)\nFacebook Page\nInstagram Page\n\nThe Market begins with the grand opening on Sunday\, June 1 and the season continues through Sunday\, September 28\, 2025.  You are invited to experience the new energy\, entertainment\, community engagement and a fantastically-curated collection of vendors.
URL:https://welcometohydepark.com/event/hyde-park-farmers-market/2025-07-27/
LOCATION:Hyde Park Bank Parking Lot\, Chicago\, IL\, 60615\, United States
CATEGORIES:Community,Farmers Market
ATTACH;FMTTYPE=image/jpeg:https://welcometohydepark.com/wp-content/uploads/2025/07/hyde-park-farmers-market.jpg
ORGANIZER;CN="South East Chicago Commission":MAILTO:info@secc-chicago.org
END:VEVENT
END:VCALENDAR